From mboxrd@z Thu Jan  1 00:00:00 1970
Return-Path: <test-report-bounces@dpdk.org>
Received: from mails.dpdk.org (mails.dpdk.org [217.70.189.124])
	by inbox.dpdk.org (Postfix) with ESMTP id 0F2E343F61
	for <public@inbox.dpdk.org>; Wed,  1 May 2024 20:09:13 +0200 (CEST)
Received: from mails.dpdk.org (localhost [127.0.0.1])
	by mails.dpdk.org (Postfix) with ESMTP id 09DB84027F;
	Wed,  1 May 2024 20:09:13 +0200 (CEST)
Received: from mail-oo1-f97.google.com (mail-oo1-f97.google.com
 [209.85.161.97]) by mails.dpdk.org (Postfix) with ESMTP id A7F914021E
 for <test-report@dpdk.org>; Wed,  1 May 2024 20:09:11 +0200 (CEST)
Received: by mail-oo1-f97.google.com with SMTP id
 006d021491bc7-5aa22ebd048so5028308eaf.1
 for <test-report@dpdk.org>; Wed, 01 May 2024 11:09:11 -0700 (PDT)
DKIM-Signature: v=1; a=rsa-sha256; c=relaxed/relaxed;
 d=iol.unh.edu; s=unh-iol; t=1714586951; x=1715191751; darn=dpdk.org;
 h=references:in-reply-to:cc:to:from:subject:message-id:date:from:to
 :cc:subject:date:message-id:reply-to;
 bh=svohCdok83KoEhoir46w0zgNJzKhASWi2qFfAkOXJAg=;
 b=BNqktfQnG3wJzS5PUqioMkOJJbWiRp22Sf8cw8oq0iOzxWj2tS6BB8q+clpoGzSh8Q
 WK2WI86dmWVjHmZHDtgzuqAHUB2jY8HpBYCQ+mCFTOd5Io4HQERsEtRgsNPz3b0VIu5H
 9KUfptYXt5UVn0TLKTGNOVOtav6ELWzP0Wf/Y=
X-Google-DKIM-Signature: v=1; a=rsa-sha256; c=relaxed/relaxed;
 d=1e100.net; s=20230601; t=1714586951; x=1715191751;
 h=references:in-reply-to:cc:to:from:subject:message-id:date
 :x-gm-message-state:from:to:cc:subject:date:message-id:reply-to;
 bh=svohCdok83KoEhoir46w0zgNJzKhASWi2qFfAkOXJAg=;
 b=cKzsubHmfKMzpa9tqpxI2s+bpEGY758yuyoZHm/IB05K3rdwEw+rN8CXJ2o1AFYvcn
 lvVLg4t9Bl9q5Q4bhI9b+vq39rSm7J2oYbhyuwXjjldwGLCPOAG6Y766qjccETchdsfp
 JS0znwyw3lHFHNzI3QyacXqixAesN/4KZTse1qYUYwLSFjmLycNYQCmutswzfUT/KK4y
 2FpE2Ksn8TZnKQt9emH4cVtSbmKjxrlyuqV+oUXPOnAln3GDg3cVeqYDTbAF1D7RIoCR
 0J88IkfYJmsiXFoie0O4gAMrIX18URhIbkXn9gVss0LCH+5L24UOqdLKVJ91xlUcFOYG
 8s1w==
X-Gm-Message-State: AOJu0YyP4R6W8Ay0qrqTJU5oM006bjTW5y3kZaezmUh8XdcYnGBVC5Tt
 awJnkIvGX6/XqoszDuXPc69qW32S2r/C/KZNZHGRN7oorUoK1G/PyJFM0qoLXZfaduj0Xri7a1B
 UdXwQUrTLSBJdFcZe9IDWDFaUPX0blYJ0Y1t4XT+W3ct6e8mAopQ9wWJC
X-Google-Smtp-Source: AGHT+IGnfCvgkaCgDgh7FR9GpAHCR8wtSa9tA65G3R/UoSMtuebZ7CeY2Z8RvsGJD3El9B55qS+62p9lCabQ
X-Received: by 2002:a4a:8c42:0:b0:5af:2f43:1e69 with SMTP id
 v2-20020a4a8c42000000b005af2f431e69mr2935241ooj.8.1714586951014; 
 Wed, 01 May 2024 11:09:11 -0700 (PDT)
Received: from postal.iol.unh.edu (postal.iol.unh.edu.
 [2606:4100:3880:1234::84]) by smtp-relay.gmail.com with ESMTPS id
 g189-20020a4a5bc6000000b005a4c631ce63sm2421028oob.24.2024.05.01.11.09.10
 (version=TLS1_2 cipher=ECDHE-ECDSA-AES128-GCM-SHA256 bits=128/128);
 Wed, 01 May 2024 11:09:10 -0700 (PDT)
X-Relaying-Domain: iol.unh.edu
Date: Wed, 01 May 2024 11:09:10 -0700 (PDT)
Message-ID: <66328546.4a0a0220.681eb.b4daSMTPIN_ADDED_MISSING@mx.google.com>
Received: from [172.17.0.2] (unknown [172.18.0.217])
 by postal.iol.unh.edu (Postfix) with ESMTP id 802086052514;
 Wed,  1 May 2024 14:09:10 -0400 (EDT)
Subject: |SUCCESS| pw139761-139769 [PATCH] [v10,9/9] net/tap: update document
From: dpdklab@iol.unh.edu
To: Test Report <test-report@dpdk.org>
Cc: dpdk-test-reports@iol.unh.edu
In-Reply-To: <20240501161403.114658-10-stephen@networkplumber.org>
References: <20240501161403.114658-10-stephen@networkplumber.org>
Content-Type: text/plain
X-BeenThere: test-report@dpdk.org
X-Mailman-Version: 2.1.29
Precedence: list
List-Id: automatic DPDK test reports <test-report.dpdk.org>
List-Unsubscribe: <https://mails.dpdk.org/options/test-report>,
 <mailto:test-report-request@dpdk.org?subject=unsubscribe>
List-Archive: <http://mails.dpdk.org/archives/test-report/>
List-Post: <mailto:test-report@dpdk.org>
List-Help: <mailto:test-report-request@dpdk.org?subject=help>
List-Subscribe: <https://mails.dpdk.org/listinfo/test-report>,
 <mailto:test-report-request@dpdk.org?subject=subscribe>
Errors-To: test-report-bounces@dpdk.org

Test-Label: iol-abi-testing
Test-Status: SUCCESS
http://dpdk.org/patch/139769

_Testing PASS_

Submitter: Stephen Hemminger <stephen@networkplumber.org>
Date: Wednesday, May 01 2024 16:12:08 
DPDK git baseline: Repo:dpdk
  Branch: master
  CommitID:7e06c0de1952d3109a5b0c4779d7e7d8059c9d78

139761-139769 --> testing pass

Test environment and result as below:

+------------------+----------+
|   Environment    | abi_test |
+==================+==========+
| Fedora 37        | PASS     |
+------------------+----------+
| Debian Bullseye  | PASS     |
+------------------+----------+
| CentOS Stream 8  | PASS     |
+------------------+----------+
| RHEL8            | PASS     |
+------------------+----------+
| Fedora 39        | PASS     |
+------------------+----------+
| Debian 12        | PASS     |
+------------------+----------+
| openSUSE Leap 15 | PASS     |
+------------------+----------+
| Fedora 38        | PASS     |
+------------------+----------+
| CentOS Stream 9  | PASS     |
+------------------+----------+


Fedora 37
	Kernel: Depends on container host system
	Compiler: gcc 12.3.1

Debian Bullseye
	Kernel: 5.4.0-167-generic
	Compiler: gcc 10.2.1-6

CentOS Stream 8
	Kernel: 5.4.0-167-generic
	Compiler: gcc 8.5.0 20210514

RHEL8
	Kernel: 5.4.0-167-generic
	Compiler: gcc 8.5.0 20210514 (Red Hat 8.5.0-20)

Fedora 39
	Kernel: Depends on container host
	Compiler: gcc 13.2.1

Debian 12
	Kernel: Container Host Kernel
	Compiler: gcc 10.2.1

openSUSE Leap 15
	Kernel: 5.4.0-167-generic
	Compiler: gcc 7.5.0

Fedora 38
	Kernel: Depends on container host
	Compiler: clang 16.0.6

CentOS Stream 9
	Kernel: 5.4.0-167-generic
	Compiler: gcc 11.4.1 20230605

To view detailed results, visit:
https://lab.dpdk.org/results/dashboard/patchsets/29888/

UNH-IOL DPDK Community Lab

To manage your email subscriptions, visit: 
https://lab.dpdk.org/results/dashboard/preferences/subscriptions/