From mboxrd@z Thu Jan  1 00:00:00 1970
Return-Path: <test-report-bounces@dpdk.org>
Received: from mails.dpdk.org (mails.dpdk.org [217.70.189.124])
	by inbox.dpdk.org (Postfix) with ESMTP id B58AB43F61
	for <public@inbox.dpdk.org>; Wed,  1 May 2024 21:06:13 +0200 (CEST)
Received: from mails.dpdk.org (localhost [127.0.0.1])
	by mails.dpdk.org (Postfix) with ESMTP id B1607402A7;
	Wed,  1 May 2024 21:06:13 +0200 (CEST)
Received: from mail-qv1-f99.google.com (mail-qv1-f99.google.com
 [209.85.219.99]) by mails.dpdk.org (Postfix) with ESMTP id 733C84021E
 for <test-report@dpdk.org>; Wed,  1 May 2024 21:06:12 +0200 (CEST)
Received: by mail-qv1-f99.google.com with SMTP id
 6a1803df08f44-6a073f10e25so37514996d6.3
 for <test-report@dpdk.org>; Wed, 01 May 2024 12:06:12 -0700 (PDT)
DKIM-Signature: v=1; a=rsa-sha256; c=relaxed/relaxed;
 d=iol.unh.edu; s=unh-iol; t=1714590372; x=1715195172; darn=dpdk.org;
 h=references:in-reply-to:cc:to:from:subject:message-id:date:from:to
 :cc:subject:date:message-id:reply-to;
 bh=M8/qZ2ewpdI7AMZ8j2S/I70bp8gqgfdICAjStSccQxM=;
 b=VSoDDloDmqUPCAU5Hqrw8bG9MJyoN9OuUZskNFCUXzbE+6GD6UDqT6xrX/NkxyWnAm
 2rsL5NyxQ2iS/VLSUmoG6iMY9YpsOAsYzdpRkaVaiEsZ16zdtbYKa9Qsjccyn3ojpolV
 ch2mnSCo4JaWtdnoD40MZiwv7B/5x5DbewHx8=
X-Google-DKIM-Signature: v=1; a=rsa-sha256; c=relaxed/relaxed;
 d=1e100.net; s=20230601; t=1714590372; x=1715195172;
 h=references:in-reply-to:cc:to:from:subject:message-id:date
 :x-gm-message-state:from:to:cc:subject:date:message-id:reply-to;
 bh=M8/qZ2ewpdI7AMZ8j2S/I70bp8gqgfdICAjStSccQxM=;
 b=MdfKp0RCr6vLe4mzcOGgUzWO2yPTO42QZ6fuJGxzk7hYZhI0envQn7X4tLvKsByj3h
 eDceN1bEg2zwYd7U65pm2sHu58xykS+Vivjft0+6faN7T6+aJ7/HvxUFURenXCr2/lbG
 pyViwJ/g4b247MlKeUPdgIiqCLS31rdJ4u2w1jCbJl42iL9BsaYc6kswEm6G48TQWa+0
 MPms0v9M/cTkP1wv5Sc2WxbHBhgyrMuNC5lauF3HwbfbdA3+/g9Unyo8EwcV9262GWMT
 5Awv6M3sXsu4DcrA2Jr/0JA7lAJPqj5IJcFpb9FuI9hnc8a6eP/oocomN9PBOaiMVbNW
 WdAQ==
X-Gm-Message-State: AOJu0YwAzYgSnw3upBrfjkVhvecZULgWxW6YghlnqbKbGwTFVMWYuXIZ
 O0tfyyuuLmknwH9ZVel7oqVc48FTknN+dvwWBq61Gis3DnW+eXY0M2JPofk7zb1S5HrYr7yEBde
 OMYl6HukwKRO2rwfhTr2zNykJpOhTKcr2mk11p8Quq/zHtzw07K//Eglt
X-Google-Smtp-Source: AGHT+IE4Z5hTPVazImh6dnnR6CTkJJKTChFFkFI5gbtA6ypRrTs32TMy9t8FpOpGfzmR0Gi2aN4p4B4eWppQ
X-Received: by 2002:a05:6214:29c3:b0:6a0:cd13:fb7a with SMTP id
 gh3-20020a05621429c300b006a0cd13fb7amr3863067qvb.24.1714590371870; 
 Wed, 01 May 2024 12:06:11 -0700 (PDT)
Received: from postal.iol.unh.edu (postal.iol.unh.edu.
 [2606:4100:3880:1234::84]) by smtp-relay.gmail.com with ESMTPS id
 d9-20020a0cea89000000b006a0c91fef26sm286214qvp.64.2024.05.01.12.06.11
 (version=TLS1_2 cipher=ECDHE-ECDSA-AES128-GCM-SHA256 bits=128/128);
 Wed, 01 May 2024 12:06:11 -0700 (PDT)
X-Relaying-Domain: iol.unh.edu
Date: Wed, 01 May 2024 12:06:11 -0700 (PDT)
Message-ID: <663292a3.0c0a0220.3dc6d.cedaSMTPIN_ADDED_MISSING@mx.google.com>
Received: from [172.21.0.7] (unknown [172.18.0.240])
 by postal.iol.unh.edu (Postfix) with ESMTP id 900AE6052514;
 Wed,  1 May 2024 15:06:11 -0400 (EDT)
Subject: |SUCCESS| pw139777-139779 [PATCH] [v2,3/3] event/dlb2: enhance DLB c
From: dpdklab@iol.unh.edu
To: Test Report <test-report@dpdk.org>
Cc: dpdk-test-reports@iol.unh.edu
In-Reply-To: <20240501182254.1194146-4-abdullah.sevincer@intel.com>
References: <20240501182254.1194146-4-abdullah.sevincer@intel.com>
Content-Type: text/plain
X-BeenThere: test-report@dpdk.org
X-Mailman-Version: 2.1.29
Precedence: list
List-Id: automatic DPDK test reports <test-report.dpdk.org>
List-Unsubscribe: <https://mails.dpdk.org/options/test-report>,
 <mailto:test-report-request@dpdk.org?subject=unsubscribe>
List-Archive: <http://mails.dpdk.org/archives/test-report/>
List-Post: <mailto:test-report@dpdk.org>
List-Help: <mailto:test-report-request@dpdk.org?subject=help>
List-Subscribe: <https://mails.dpdk.org/listinfo/test-report>,
 <mailto:test-report-request@dpdk.org?subject=subscribe>
Errors-To: test-report-bounces@dpdk.org

Test-Label: iol-compile-amd64-testing
Test-Status: SUCCESS
http://dpdk.org/patch/139779

_Testing PASS_

Submitter: Abdullah Sevincer <abdullah.sevincer@intel.com>
Date: Wednesday, May 01 2024 18:22:54 
DPDK git baseline: Repo:dpdk
  Branch: master
  CommitID:7e06c0de1952d3109a5b0c4779d7e7d8059c9d78

139777-139779 --> testing pass

Test environment and result as below:

+---------------------+--------------------+----------------------+-------------------+
|     Environment     | dpdk_meson_compile | dpdk_mingw64_compile | dpdk_msvc_compile |
+=====================+====================+======================+===================+
| FreeBSD 13.3        | PASS               | SKIPPED              | SKIPPED           |
+---------------------+--------------------+----------------------+-------------------+
| CentOS Stream 9     | PASS               | SKIPPED              | SKIPPED           |
+---------------------+--------------------+----------------------+-------------------+
| Debian Bullseye     | PASS               | SKIPPED              | SKIPPED           |
+---------------------+--------------------+----------------------+-------------------+
| CentOS Stream 8     | PASS               | SKIPPED              | SKIPPED           |
+---------------------+--------------------+----------------------+-------------------+
| Windows Server 2022 | PASS               | PASS                 | PASS              |
+---------------------+--------------------+----------------------+-------------------+
| Windows Server 2019 | PASS               | PASS                 | SKIPPED           |
+---------------------+--------------------+----------------------+-------------------+
| openSUSE Leap 15    | PASS               | SKIPPED              | SKIPPED           |
+---------------------+--------------------+----------------------+-------------------+
| RHEL8               | PASS               | SKIPPED              | SKIPPED           |
+---------------------+--------------------+----------------------+-------------------+


FreeBSD 13.3
	Kernel: 13.3-RELEASE-p1
	Compiler: clang 17.0.6

CentOS Stream 9
	Kernel: 5.4.0-167-generic
	Compiler: gcc 11.4.1 20230605

Debian Bullseye
	Kernel: 5.4.0-167-generic
	Compiler: gcc 10.2.1-6

CentOS Stream 8
	Kernel: 5.4.0-167-generic
	Compiler: gcc 8.5.0 20210514

Windows Server 2022
	Kernel: 10.0.20348.2031
	Compiler: clang 15.0.7, gcc 8.1.0 (MinGW), and MSVC VS 17.9

Windows Server 2019
	Kernel: 10.0.17763
	Compiler: clang 14.0 and gcc 8.1.0 (MinGW)

openSUSE Leap 15
	Kernel: 5.4.0-167-generic
	Compiler: gcc 7.5.0

RHEL8
	Kernel: 5.4.0-167-generic
	Compiler: gcc 8.5.0 20210514 (Red Hat 8.5.0-20)

To view detailed results, visit:
https://lab.dpdk.org/results/dashboard/patchsets/29892/

UNH-IOL DPDK Community Lab

To manage your email subscriptions, visit: 
https://lab.dpdk.org/results/dashboard/preferences/subscriptions/