From mboxrd@z Thu Jan  1 00:00:00 1970
Return-Path: <test-report-bounces@dpdk.org>
Received: from mails.dpdk.org (mails.dpdk.org [217.70.189.124])
	by inbox.dpdk.org (Postfix) with ESMTP id 14D9343F62
	for <public@inbox.dpdk.org>; Wed,  1 May 2024 22:02:07 +0200 (CEST)
Received: from mails.dpdk.org (localhost [127.0.0.1])
	by mails.dpdk.org (Postfix) with ESMTP id 10944402A7;
	Wed,  1 May 2024 22:02:07 +0200 (CEST)
Received: from mail-pl1-f228.google.com (mail-pl1-f228.google.com
 [209.85.214.228])
 by mails.dpdk.org (Postfix) with ESMTP id B32AF4027F
 for <test-report@dpdk.org>; Wed,  1 May 2024 22:02:05 +0200 (CEST)
Received: by mail-pl1-f228.google.com with SMTP id
 d9443c01a7336-1e3ca546d40so61168645ad.3
 for <test-report@dpdk.org>; Wed, 01 May 2024 13:02:05 -0700 (PDT)
DKIM-Signature: v=1; a=rsa-sha256; c=relaxed/relaxed;
 d=iol.unh.edu; s=unh-iol; t=1714593725; x=1715198525; darn=dpdk.org;
 h=references:in-reply-to:cc:to:from:subject:message-id:date:from:to
 :cc:subject:date:message-id:reply-to;
 bh=Mlo8umL+HLMe401qGWqQyeNA4a2CdNrnEMFzaO+3zZs=;
 b=jQLyZf8QKT6YQClwGQ5RC7Ypy+USs9QlkhziUtE85MD1WChN9cUQO3mgW+Bva/+p+W
 ekORhTS9UOiAL42hjzOG82avNin+fSWHr44AOEDUkWlliC2RPPINr9Juze9QUALea9GH
 D9ocEfw3aMfFfSjpIwUN6Sq2RQn7c46bTl0hI=
X-Google-DKIM-Signature: v=1; a=rsa-sha256; c=relaxed/relaxed;
 d=1e100.net; s=20230601; t=1714593725; x=1715198525;
 h=references:in-reply-to:cc:to:from:subject:message-id:date
 :x-gm-message-state:from:to:cc:subject:date:message-id:reply-to;
 bh=Mlo8umL+HLMe401qGWqQyeNA4a2CdNrnEMFzaO+3zZs=;
 b=b7JhXvGijeRoEwTEzbi+VvTGDcL9md1OupWaktfKn62Tli2ryW5bKjeniJhTn1UVuX
 d239Z1fK1CFFwu7tRkb5lVjfJTZoI6rczjp12WZLAcKeIXM2SRbitZhnga4s9DX/LLeI
 52CTUf3DIr4gqh3yBb9Tdwi5ZQUJV19/NkTopMYJGRjXAw4ry48bZaJuX7XlNij1L2Is
 /sha7BjU6yXMtbhcn4wqlA6mDGR1KJAtoVNshH0UkKUnfdvC9LFZ0k554JU5n2n2QsKw
 4nB8lfdXleS7F2S0jjVVqzouQb7f9eBCtve3apBcmFuY4K5dZftsR5Djw7ijAM5GNRE6
 QvQA==
X-Gm-Message-State: AOJu0Yz6Ztu37XrMpdivFCrbYuKVgF0zmN2aHBfxiSpMBF3ZWgSDQDu/
 WXcbBTgq2Do62q0LLFnRAvmfi/9eP+Q8VaxegTnSnfYR+5Xh/bPAxyE/GU9lGvRWR8dltj9/Ytp
 NTFqocqYodrFRviVHEpnyZEZnSNhAdlbkDRDh0nuJ
X-Google-Smtp-Source: AGHT+IFHATeQF7ovqKL+oQ70VsdCK0FpOXa9xOd4wNQcJu5cskKxqrHuOelobnZFkuqs5DsudXZw8dK3IjDU
X-Received: by 2002:a17:902:c40a:b0:1e4:2451:c2b5 with SMTP id
 k10-20020a170902c40a00b001e42451c2b5mr3810927plk.13.1714593724961; 
 Wed, 01 May 2024 13:02:04 -0700 (PDT)
Received: from postal.iol.unh.edu (postal.iol.unh.edu. [132.177.123.84])
 by smtp-relay.gmail.com with ESMTPS id
 kk6-20020a170903070600b001ecc1ebde73sm63167plb.92.2024.05.01.13.02.04
 (version=TLS1_2 cipher=ECDHE-ECDSA-AES128-GCM-SHA256 bits=128/128);
 Wed, 01 May 2024 13:02:04 -0700 (PDT)
X-Relaying-Domain: iol.unh.edu
Date: Wed, 01 May 2024 13:02:04 -0700 (PDT)
Message-ID: <66329fbc.170a0220.9d02b.2e68SMTPIN_ADDED_MISSING@mx.google.com>
Received: from [172.17.0.2] (unknown [172.18.0.217])
 by postal.iol.unh.edu (Postfix) with ESMTP id 1B0B16052514;
 Wed,  1 May 2024 16:02:04 -0400 (EDT)
Subject: |SUCCESS| pw139773 [PATCH] [v2] cmdline: increase input buffer size
From: dpdklab@iol.unh.edu
To: Test Report <test-report@dpdk.org>
Cc: dpdk-test-reports@iol.unh.edu
In-Reply-To: <20240501171806.307533-1-getelson@nvidia.com>
References: <20240501171806.307533-1-getelson@nvidia.com>
Content-Type: text/plain
X-BeenThere: test-report@dpdk.org
X-Mailman-Version: 2.1.29
Precedence: list
List-Id: automatic DPDK test reports <test-report.dpdk.org>
List-Unsubscribe: <https://mails.dpdk.org/options/test-report>,
 <mailto:test-report-request@dpdk.org?subject=unsubscribe>
List-Archive: <http://mails.dpdk.org/archives/test-report/>
List-Post: <mailto:test-report@dpdk.org>
List-Help: <mailto:test-report-request@dpdk.org?subject=help>
List-Subscribe: <https://mails.dpdk.org/listinfo/test-report>,
 <mailto:test-report-request@dpdk.org?subject=subscribe>
Errors-To: test-report-bounces@dpdk.org

Test-Label: iol-compile-arm64-testing
Test-Status: SUCCESS
http://dpdk.org/patch/139773

_Testing PASS_

Submitter: Gregory Etelson <getelson@nvidia.com>
Date: Wednesday, May 01 2024 17:18:06 
DPDK git baseline: Repo:dpdk
  Branch: master
  CommitID:7e06c0de1952d3109a5b0c4779d7e7d8059c9d78

139773 --> testing pass

Test environment and result as below:

+----------------------------------------+--------------------+
|              Environment               | dpdk_meson_compile |
+========================================+====================+
| Ubuntu 20.04 ARM SVE                   | PASS               |
+----------------------------------------+--------------------+
| Debian 12 with MUSDK                   | PASS               |
+----------------------------------------+--------------------+
| Fedora 37 (ARM)                        | PASS               |
+----------------------------------------+--------------------+
| Debian 11 (Buster) (ARM)               | PASS               |
+----------------------------------------+--------------------+
| Ubuntu 20.04 (ARM)                     | PASS               |
+----------------------------------------+--------------------+
| Ubuntu 20.04 ARM GCC Cross Compile     | PASS               |
+----------------------------------------+--------------------+
| Ubuntu 20.04 aarch32 GCC Cross Compile | PASS               |
+----------------------------------------+--------------------+
| CentOS Stream 9 (ARM)                  | PASS               |
+----------------------------------------+--------------------+
| Fedora 38 (ARM)                        | PASS               |
+----------------------------------------+--------------------+
| Debian 12 (arm)                        | PASS               |
+----------------------------------------+--------------------+
| Fedora 39 (ARM)                        | PASS               |
+----------------------------------------+--------------------+


Ubuntu 20.04 ARM SVE
	Kernel: 5.4.0-167-generic
	Compiler: gcc (Ubuntu 10.5.0-1ubuntu1~20.04) 10.5.0

Debian 12 with MUSDK
	Kernel: Container Host Kernel
	Compiler: gcc 12.2.0

Fedora 37 (ARM)
	Kernel: Depends on container host
	Compiler: gcc 12.3.1

Debian 11 (Buster) (ARM)
	Kernel: Container Host Kernel
	Compiler: gcc 10.2.1

Ubuntu 20.04 (ARM)
	Kernel: Container Host Kernel
	Compiler: gcc 9.4.0

Ubuntu 20.04 ARM GCC Cross Compile
	Kernel: 5.4.0-167-generic
	Compiler: aarch64-linux-gnu-gcc (Ubuntu 9.4.0-1ubuntu1~20.04.2) 9.4.0

Ubuntu 20.04 aarch32 GCC Cross Compile
	Kernel: 5.4.0-167-generic
	Compiler: gcc 9.4.0

CentOS Stream 9 (ARM)
	Kernel: Container Host Kernel
	Compiler: gcc 11.4.1

Fedora 38 (ARM)
	Kernel: Depends on container host
	Compiler: gcc 13.2.1

Debian 12 (arm)
	Kernel: Container Host Kernel
	Compiler: gcc 12.2.0

Fedora 39 (ARM)
	Kernel: Depends on container host
	Compiler: gcc 13.2.1

To view detailed results, visit:
https://lab.dpdk.org/results/dashboard/patchsets/29890/

UNH-IOL DPDK Community Lab

To manage your email subscriptions, visit: 
https://lab.dpdk.org/results/dashboard/preferences/subscriptions/