From mboxrd@z Thu Jan  1 00:00:00 1970
Return-Path: <test-report-bounces@dpdk.org>
Received: from mails.dpdk.org (mails.dpdk.org [217.70.189.124])
	by inbox.dpdk.org (Postfix) with ESMTP id 8CAE243F63
	for <public@inbox.dpdk.org>; Thu,  2 May 2024 05:53:34 +0200 (CEST)
Received: from mails.dpdk.org (localhost [127.0.0.1])
	by mails.dpdk.org (Postfix) with ESMTP id 896F040299;
	Thu,  2 May 2024 05:53:34 +0200 (CEST)
Received: from mail-yb1-f225.google.com (mail-yb1-f225.google.com
 [209.85.219.225])
 by mails.dpdk.org (Postfix) with ESMTP id 0D3614026F
 for <test-report@dpdk.org>; Thu,  2 May 2024 05:53:33 +0200 (CEST)
Received: by mail-yb1-f225.google.com with SMTP id
 3f1490d57ef6-de45385a1b4so7073778276.3
 for <test-report@dpdk.org>; Wed, 01 May 2024 20:53:33 -0700 (PDT)
DKIM-Signature: v=1; a=rsa-sha256; c=relaxed/relaxed;
 d=iol.unh.edu; s=unh-iol; t=1714622012; x=1715226812; darn=dpdk.org;
 h=references:in-reply-to:cc:to:from:subject:message-id:date:from:to
 :cc:subject:date:message-id:reply-to;
 bh=Uv7meENJrQiOHRAMseciiL2qgrC9wtVhjCzmZYXWbbM=;
 b=HyRL+/z/BiZ4dCgjGYQHg9JfHL1w33NPG65SopvSfSEiZXqYAbR0sT/VirnmcwRsr5
 +yuNpVa8yKaX8j/Eu1hLHhzNBcsV4RKxWcSJ+DsZSZZladMhzwg9Sr+8HwIm69yJOeiZ
 eJzyvwAyBrWaxTZuaJd9ioSoclagNIFUPCSaE=
X-Google-DKIM-Signature: v=1; a=rsa-sha256; c=relaxed/relaxed;
 d=1e100.net; s=20230601; t=1714622012; x=1715226812;
 h=references:in-reply-to:cc:to:from:subject:message-id:date
 :x-gm-message-state:from:to:cc:subject:date:message-id:reply-to;
 bh=Uv7meENJrQiOHRAMseciiL2qgrC9wtVhjCzmZYXWbbM=;
 b=c+m2Z7JNcwc986jLwUPedyrEJwGAZIEh/IDGf5XrW/RsxCkiHBtUQ5BkBBlAZjrQj2
 Ck7E1Hz7r2ElJGwDTTgDtEGbCDUY1ilfuFyME4DlRPQ2DHcNI8NPtDhtRtd9a9wFr/XJ
 ZMp7eYBPXGa1/efHZXa/eO3ihw0Y+7hVX1EAeuykjKtNdB7hzSXM7l2FhNsWBq82b95o
 yZ9d2WkaXTPyXArhpq9N5igzoS5bKgKRV3ZkwfDiBhRL5YFJSAeSAIxX0wabnj5uDEJD
 26kTPMz4Kvz67S7VUrY4lTez6ewYpwezR2EwBDnkkKoHutWwQ84FIG2v3DM12bzjvcEG
 VPfA==
X-Gm-Message-State: AOJu0Yx3WMv0BWoQ4vKVWVEY8bVVpwYvpTjxaR2y9PmU4QATL3IGfhbZ
 +nqUzBB2BGj0amAVKysov08XDjor2QP2LulzTAlDvsFoOWlp3kMM653jK6yIC0UODJ358tXb8M9
 uMy3NeJGDTI9lC1FTb2EVVAdIGbns8MneBJN4B3fB
X-Google-Smtp-Source: AGHT+IFfdraXn9IrCzHWbSwFg7rGSr4zgD/kRtUNKmEIeCvT4ziWfXQuHfL+JdLr5Uw3NLby3mf3eTmGC4hP
X-Received: by 2002:a05:690c:f82:b0:61b:3356:d28c with SMTP id
 df2-20020a05690c0f8200b0061b3356d28cmr5351916ywb.2.1714622012441; 
 Wed, 01 May 2024 20:53:32 -0700 (PDT)
Received: from postal.iol.unh.edu (postal.iol.unh.edu. [132.177.123.84])
 by smtp-relay.gmail.com with ESMTPS id
 z142-20020a0dd794000000b006187a9d9306sm11862ywd.52.2024.05.01.20.53.32
 (version=TLS1_2 cipher=ECDHE-ECDSA-AES128-GCM-SHA256 bits=128/128);
 Wed, 01 May 2024 20:53:32 -0700 (PDT)
X-Relaying-Domain: iol.unh.edu
Date: Wed, 01 May 2024 20:53:32 -0700 (PDT)
Message-ID: <66330e3c.0d0a0220.e08d9.08ffSMTPIN_ADDED_MISSING@mx.google.com>
Received: from [172.21.0.7] (unknown [172.18.0.240])
 by postal.iol.unh.edu (Postfix) with ESMTP id 199206052514;
 Wed,  1 May 2024 23:53:32 -0400 (EDT)
Subject: |SUCCESS| pw139786-139794 [PATCH] [v11,9/9] net/tap: update document
From: dpdklab@iol.unh.edu
To: Test Report <test-report@dpdk.org>
Cc: dpdk-test-reports@iol.unh.edu
In-Reply-To: <20240502025201.28322-10-stephen@networkplumber.org>
References: <20240502025201.28322-10-stephen@networkplumber.org>
Content-Type: text/plain
X-BeenThere: test-report@dpdk.org
X-Mailman-Version: 2.1.29
Precedence: list
List-Id: automatic DPDK test reports <test-report.dpdk.org>
List-Unsubscribe: <https://mails.dpdk.org/options/test-report>,
 <mailto:test-report-request@dpdk.org?subject=unsubscribe>
List-Archive: <http://mails.dpdk.org/archives/test-report/>
List-Post: <mailto:test-report@dpdk.org>
List-Help: <mailto:test-report-request@dpdk.org?subject=help>
List-Subscribe: <https://mails.dpdk.org/listinfo/test-report>,
 <mailto:test-report-request@dpdk.org?subject=subscribe>
Errors-To: test-report-bounces@dpdk.org

Test-Label: iol-unit-arm64-testing
Test-Status: SUCCESS
http://dpdk.org/patch/139794

_Testing PASS_

Submitter: Stephen Hemminger <stephen@networkplumber.org>
Date: Thursday, May 02 2024 02:49:28 
DPDK git baseline: Repo:dpdk
  Branch: master
  CommitID:7e06c0de1952d3109a5b0c4779d7e7d8059c9d78

139786-139794 --> testing pass

Test environment and result as below:

+--------------------------+------------------------------+---------------------------+----------------+--------------+
|       Environment        | cryptodev_sw_snow3g_autotest | cryptodev_sw_zuc_autotest | dpdk_unit_test | lpm_autotest |
+==========================+==============================+===========================+================+==============+
| Debian 12 (arm)          | PASS                         | PASS                      | PASS           | SKIPPED      |
+--------------------------+------------------------------+---------------------------+----------------+--------------+
| Debian 11 (Buster) (ARM) | SKIPPED                      | SKIPPED                   | PASS           | SKIPPED      |
+--------------------------+------------------------------+---------------------------+----------------+--------------+
| CentOS Stream 9 (ARM)    | SKIPPED                      | SKIPPED                   | PASS           | SKIPPED      |
+--------------------------+------------------------------+---------------------------+----------------+--------------+
| Fedora 37 (ARM)          | SKIPPED                      | SKIPPED                   | PASS           | SKIPPED      |
+--------------------------+------------------------------+---------------------------+----------------+--------------+
| Fedora 38 (ARM)          | SKIPPED                      | SKIPPED                   | PASS           | SKIPPED      |
+--------------------------+------------------------------+---------------------------+----------------+--------------+
| Fedora 39 (ARM)          | SKIPPED                      | SKIPPED                   | PASS           | SKIPPED      |
+--------------------------+------------------------------+---------------------------+----------------+--------------+
| Ubuntu 20.04 ARM SVE     | SKIPPED                      | SKIPPED                   | SKIPPED        | PASS         |
+--------------------------+------------------------------+---------------------------+----------------+--------------+


Debian 12 (arm)
	Kernel: Container Host Kernel
	Compiler: gcc 12.2.0

Debian 11 (Buster) (ARM)
	Kernel: Container Host Kernel
	Compiler: gcc 10.2.1

CentOS Stream 9 (ARM)
	Kernel: Container Host Kernel
	Compiler: gcc 11.4.1

Fedora 37 (ARM)
	Kernel: Depends on container host
	Compiler: gcc 12.3.1

Fedora 38 (ARM)
	Kernel: Depends on container host
	Compiler: gcc 13.2.1

Fedora 39 (ARM)
	Kernel: Depends on container host
	Compiler: gcc 13.2.1

Ubuntu 20.04 ARM SVE
	Kernel: 5.4.0-167-generic
	Compiler: gcc (Ubuntu 10.5.0-1ubuntu1~20.04) 10.5.0

To view detailed results, visit:
https://lab.dpdk.org/results/dashboard/patchsets/29895/

UNH-IOL DPDK Community Lab

To manage your email subscriptions, visit: 
https://lab.dpdk.org/results/dashboard/preferences/subscriptions/