From mboxrd@z Thu Jan  1 00:00:00 1970
Return-Path: <test-report-bounces@dpdk.org>
Received: from mails.dpdk.org (mails.dpdk.org [217.70.189.124])
	by inbox.dpdk.org (Postfix) with ESMTP id 92AEB43F64
	for <public@inbox.dpdk.org>; Thu,  2 May 2024 07:12:57 +0200 (CEST)
Received: from mails.dpdk.org (localhost [127.0.0.1])
	by mails.dpdk.org (Postfix) with ESMTP id 8B29C40299;
	Thu,  2 May 2024 07:12:57 +0200 (CEST)
Received: from mail-qk1-f226.google.com (mail-qk1-f226.google.com
 [209.85.222.226])
 by mails.dpdk.org (Postfix) with ESMTP id F0BBA4026F
 for <test-report@dpdk.org>; Thu,  2 May 2024 07:12:55 +0200 (CEST)
Received: by mail-qk1-f226.google.com with SMTP id
 af79cd13be357-78f05afc8d6so563169085a.3
 for <test-report@dpdk.org>; Wed, 01 May 2024 22:12:55 -0700 (PDT)
DKIM-Signature: v=1; a=rsa-sha256; c=relaxed/relaxed;
 d=iol.unh.edu; s=unh-iol; t=1714626775; x=1715231575; darn=dpdk.org;
 h=references:in-reply-to:cc:to:from:subject:message-id:date:from:to
 :cc:subject:date:message-id:reply-to;
 bh=6KgASmJrYLrqPTTpfii2RsPnINSobgl5NDwgZcM2OzU=;
 b=O3dqHyJwim8JS7/oPxfGNcr9tch521SBEWQCipfFhnbvTBLQcnYsCFBZfW8fdlfFhv
 Jw0Mx1T9AVFGpHb1kPaHyW9PWh6erwZ5JjwwslgxHVpxQpoSGXO50MeSc3u9Zmz71m8w
 6iJH7Z75dKY1a/NCksYga5pqV2j97BEYyzXJE=
X-Google-DKIM-Signature: v=1; a=rsa-sha256; c=relaxed/relaxed;
 d=1e100.net; s=20230601; t=1714626775; x=1715231575;
 h=references:in-reply-to:cc:to:from:subject:message-id:date
 :x-gm-message-state:from:to:cc:subject:date:message-id:reply-to;
 bh=6KgASmJrYLrqPTTpfii2RsPnINSobgl5NDwgZcM2OzU=;
 b=C8AAUQPA/SJVk9bwEsmgzqUQSSnBJPU88kStCVEuUEC0w4fhcojMsjIXm1dZ3C+OrJ
 kPzBh7EWhqQLbPfQ+XPGYz7dw5Smj2dklzQuLADQ+b2rkCK4M/grVyNR1Kh0uwLR5adO
 HrSCzfg16UhJU5HGngc87koH2mmJZfHqWdXej9Zb4UdBQI9e6w3ZV6rjEs5QUuhNEjNJ
 D6qn1/7g720HCK7aj0uaR++9jYVIZcRMsz53OFJRR3xZ32wYMUSoJF1BO7ZxKa7HaGNA
 Jt3NtoXROooup3vt2+QhydR3clv65RW25l6NT9qahbTDArrOMPy5sInRbkpMUy3EavPz
 YNBg==
X-Gm-Message-State: AOJu0YxuEEpeBZOqoHwQCREjcO6e2wfQcD6kveozxMiKHdnoeRBbbhqi
 ye20UAQi7kVYmAozFFizq9qpKMfDA/ISo9NOZPaZiZytconwNi2fxJ21pU0ymiTIE9Rg11KqKil
 QrbRAEbNGLEe3wldKC8HWKNn0dShPiYHttPbu9ZKU
X-Google-Smtp-Source: AGHT+IHBvweMp2EMpTP3f7DCOKSL0RRxkovDnFIgUmtuuYuxcbGkDlqVYyCfdynFF7ZUUqSNTPPH19DDASpM
X-Received: by 2002:a05:6214:2aac:b0:6a0:d29d:a416 with SMTP id
 js12-20020a0562142aac00b006a0d29da416mr908155qvb.47.1714626775403; 
 Wed, 01 May 2024 22:12:55 -0700 (PDT)
Received: from postal.iol.unh.edu (postal.iol.unh.edu. [132.177.123.84])
 by smtp-relay.gmail.com with ESMTPS id
 j2-20020a0ceb02000000b0069b77a79029sm17045qvp.58.2024.05.01.22.12.55
 (version=TLS1_2 cipher=ECDHE-ECDSA-AES128-GCM-SHA256 bits=128/128);
 Wed, 01 May 2024 22:12:55 -0700 (PDT)
X-Relaying-Domain: iol.unh.edu
Date: Wed, 01 May 2024 22:12:55 -0700 (PDT)
Message-ID: <663320d7.0c0a0220.c0b51.0a23SMTPIN_ADDED_MISSING@mx.google.com>
Received: from [172.21.0.7] (unknown [172.18.0.240])
 by postal.iol.unh.edu (Postfix) with ESMTP id 1D51E6052514;
 Thu,  2 May 2024 01:12:55 -0400 (EDT)
Subject: |SUCCESS| pw139783-139785 [PATCH] [v4,3/3] event/dlb2: enhance DLB c
From: dpdklab@iol.unh.edu
To: Test Report <test-report@dpdk.org>
Cc: dpdk-test-reports@iol.unh.edu
In-Reply-To: <20240501194620.1199357-4-abdullah.sevincer@intel.com>
References: <20240501194620.1199357-4-abdullah.sevincer@intel.com>
Content-Type: text/plain
X-BeenThere: test-report@dpdk.org
X-Mailman-Version: 2.1.29
Precedence: list
List-Id: automatic DPDK test reports <test-report.dpdk.org>
List-Unsubscribe: <https://mails.dpdk.org/options/test-report>,
 <mailto:test-report-request@dpdk.org?subject=unsubscribe>
List-Archive: <http://mails.dpdk.org/archives/test-report/>
List-Post: <mailto:test-report@dpdk.org>
List-Help: <mailto:test-report-request@dpdk.org?subject=help>
List-Subscribe: <https://mails.dpdk.org/listinfo/test-report>,
 <mailto:test-report-request@dpdk.org?subject=subscribe>
Errors-To: test-report-bounces@dpdk.org

Test-Label: iol-unit-arm64-testing
Test-Status: SUCCESS
http://dpdk.org/patch/139785

_Testing PASS_

Submitter: Abdullah Sevincer <abdullah.sevincer@intel.com>
Date: Wednesday, May 01 2024 19:46:20 
DPDK git baseline: Repo:dpdk
  Branch: master
  CommitID:7e06c0de1952d3109a5b0c4779d7e7d8059c9d78

139783-139785 --> testing pass

Test environment and result as below:

+--------------------------+---------------------------+------------------------------+----------------+--------------+
|       Environment        | cryptodev_sw_zuc_autotest | cryptodev_sw_snow3g_autotest | dpdk_unit_test | lpm_autotest |
+==========================+===========================+==============================+================+==============+
| Debian 12 (arm)          | PASS                      | PASS                         | PASS           | SKIPPED      |
+--------------------------+---------------------------+------------------------------+----------------+--------------+
| Debian 11 (Buster) (ARM) | SKIPPED                   | SKIPPED                      | PASS           | SKIPPED      |
+--------------------------+---------------------------+------------------------------+----------------+--------------+
| CentOS Stream 9 (ARM)    | SKIPPED                   | SKIPPED                      | PASS           | SKIPPED      |
+--------------------------+---------------------------+------------------------------+----------------+--------------+
| Fedora 37 (ARM)          | SKIPPED                   | SKIPPED                      | PASS           | SKIPPED      |
+--------------------------+---------------------------+------------------------------+----------------+--------------+
| Fedora 39 (ARM)          | SKIPPED                   | SKIPPED                      | PASS           | SKIPPED      |
+--------------------------+---------------------------+------------------------------+----------------+--------------+
| Fedora 38 (ARM)          | SKIPPED                   | SKIPPED                      | PASS           | SKIPPED      |
+--------------------------+---------------------------+------------------------------+----------------+--------------+
| Ubuntu 20.04 (ARM)       | SKIPPED                   | SKIPPED                      | PASS           | SKIPPED      |
+--------------------------+---------------------------+------------------------------+----------------+--------------+
| Fedora 38 (ARM Clang)    | SKIPPED                   | SKIPPED                      | PASS           | SKIPPED      |
+--------------------------+---------------------------+------------------------------+----------------+--------------+
| Fedora 39 (ARM Clang)    | SKIPPED                   | SKIPPED                      | PASS           | SKIPPED      |
+--------------------------+---------------------------+------------------------------+----------------+--------------+
| Ubuntu 20.04 ARM SVE     | SKIPPED                   | SKIPPED                      | SKIPPED        | PASS         |
+--------------------------+---------------------------+------------------------------+----------------+--------------+


Debian 12 (arm)
	Kernel: Container Host Kernel
	Compiler: gcc 12.2.0

Debian 11 (Buster) (ARM)
	Kernel: Container Host Kernel
	Compiler: gcc 10.2.1

CentOS Stream 9 (ARM)
	Kernel: Container Host Kernel
	Compiler: gcc 11.4.1

Fedora 37 (ARM)
	Kernel: Depends on container host
	Compiler: gcc 12.3.1

Fedora 39 (ARM)
	Kernel: Depends on container host
	Compiler: gcc 13.2.1

Fedora 38 (ARM)
	Kernel: Depends on container host
	Compiler: gcc 13.2.1

Ubuntu 20.04 (ARM)
	Kernel: Container Host Kernel
	Compiler: gcc 9.4.0

Fedora 38 (ARM Clang)
	Kernel: Depends on container host
	Compiler: clang 16.0.6

Fedora 39 (ARM Clang)
	Kernel: Depends on container host
	Compiler: clang 17.0.6

Ubuntu 20.04 ARM SVE
	Kernel: 5.4.0-167-generic
	Compiler: gcc (Ubuntu 10.5.0-1ubuntu1~20.04) 10.5.0

To view detailed results, visit:
https://lab.dpdk.org/results/dashboard/patchsets/29894/

UNH-IOL DPDK Community Lab

To manage your email subscriptions, visit: 
https://lab.dpdk.org/results/dashboard/preferences/subscriptions/