From mboxrd@z Thu Jan  1 00:00:00 1970
Return-Path: <test-report-bounces@dpdk.org>
Received: from mails.dpdk.org (mails.dpdk.org [217.70.189.124])
	by inbox.dpdk.org (Postfix) with ESMTP id 84D6A43F64
	for <public@inbox.dpdk.org>; Thu,  2 May 2024 07:25:23 +0200 (CEST)
Received: from mails.dpdk.org (localhost [127.0.0.1])
	by mails.dpdk.org (Postfix) with ESMTP id 7EB8240299;
	Thu,  2 May 2024 07:25:23 +0200 (CEST)
Received: from mail-qk1-f228.google.com (mail-qk1-f228.google.com
 [209.85.222.228])
 by mails.dpdk.org (Postfix) with ESMTP id 0ABB64026F
 for <test-report@dpdk.org>; Thu,  2 May 2024 07:25:22 +0200 (CEST)
Received: by mail-qk1-f228.google.com with SMTP id
 af79cd13be357-78f04581a66so517339185a.2
 for <test-report@dpdk.org>; Wed, 01 May 2024 22:25:22 -0700 (PDT)
DKIM-Signature: v=1; a=rsa-sha256; c=relaxed/relaxed;
 d=iol.unh.edu; s=unh-iol; t=1714627521; x=1715232321; darn=dpdk.org;
 h=references:in-reply-to:cc:to:from:subject:message-id:date:from:to
 :cc:subject:date:message-id:reply-to;
 bh=6KgASmJrYLrqPTTpfii2RsPnINSobgl5NDwgZcM2OzU=;
 b=Oz2nXwp9oiP/KRDIqYhrCPQzRtddrgYviuVpYAf4xbyj1r1Ndjvl1oqH2Fhv+1/vKp
 997BIvO6NsZwK42sH8a0wXWJj2z5BU8fSnlcCYdQPgLWunKGdpOWgj6wDafzMOA5VLwG
 QUl5Q71ritycwU4RXqGprNIfGrZR1QVlGcBxo=
X-Google-DKIM-Signature: v=1; a=rsa-sha256; c=relaxed/relaxed;
 d=1e100.net; s=20230601; t=1714627521; x=1715232321;
 h=references:in-reply-to:cc:to:from:subject:message-id:date
 :x-gm-message-state:from:to:cc:subject:date:message-id:reply-to;
 bh=6KgASmJrYLrqPTTpfii2RsPnINSobgl5NDwgZcM2OzU=;
 b=b3Ldu6pCoIchB6PK1ooskQGVZZTO/AGyFBFowYKTBJNNzhB2kLVIWxYlahPLfLJSmc
 STKn5eof6rRNofoO2/SeIV6zCWeXL6m42+G1bC0OhmXe4g+ivdSKuerZDtPGTJe+j4r0
 HvJjrR13SNQY+fhKxhNFx+T/PD7g2TxN+bg4MSF8iYwlgFwdLIDLvD8wQwS01Zg/F6bi
 /iuPlnpiZdsMVuKhiRDF2KMpkHJD6h1rtB08+lTu8UdkigwPUdtsIOKQGZXhobTL+hl/
 1k+gyzcP9sca/nzomiSUwtr30bAPI5gIl5lfv3e4eKODDwwzMa7/TQgNiXF9DCWDW+ut
 Bh9w==
X-Gm-Message-State: AOJu0YymUTAYzoqlvVCn9QZD1CUDfR64105l6rO95wWHdf/PiseM171i
 v61mEcRZ3EPf6i1CA9NJmtZ48qON3UHHiWzdbMkgy63ZPy7/zQxX/ZBIEJnclInLHPeoItZM5Up
 hhKSkSqd8BiVjvCuRKfj9+RNT/sIqEpRpQCI/sisL
X-Google-Smtp-Source: AGHT+IGC/J2YwpMqTk0zIquCKLxpTZ9arR8SwQnJSF+czPcnZwwh8R/VlkhDD3bxVvhw6TIecfu6Zl4CDHm1
X-Received: by 2002:a05:6214:400e:b0:6a0:ce12:b8a4 with SMTP id
 kd14-20020a056214400e00b006a0ce12b8a4mr4139057qvb.21.1714627521381; 
 Wed, 01 May 2024 22:25:21 -0700 (PDT)
Received: from postal.iol.unh.edu (postal.iol.unh.edu. [132.177.123.84])
 by smtp-relay.gmail.com with ESMTPS id
 s11-20020ad4438b000000b00696934044c2sm19024qvr.19.2024.05.01.22.25.21
 (version=TLS1_2 cipher=ECDHE-ECDSA-AES128-GCM-SHA256 bits=128/128);
 Wed, 01 May 2024 22:25:21 -0700 (PDT)
X-Relaying-Domain: iol.unh.edu
Date: Wed, 01 May 2024 22:25:21 -0700 (PDT)
Message-ID: <663323c1.d40a0220.8ea78.0a90SMTPIN_ADDED_MISSING@mx.google.com>
Received: from [172.21.0.7] (unknown [172.18.0.240])
 by postal.iol.unh.edu (Postfix) with ESMTP id 185956052514;
 Thu,  2 May 2024 01:25:21 -0400 (EDT)
Subject: |SUCCESS| pw139783-139785 [PATCH] [v4,3/3] event/dlb2: enhance DLB c
From: dpdklab@iol.unh.edu
To: Test Report <test-report@dpdk.org>
Cc: dpdk-test-reports@iol.unh.edu
In-Reply-To: <20240501194620.1199357-4-abdullah.sevincer@intel.com>
References: <20240501194620.1199357-4-abdullah.sevincer@intel.com>
Content-Type: text/plain
X-BeenThere: test-report@dpdk.org
X-Mailman-Version: 2.1.29
Precedence: list
List-Id: automatic DPDK test reports <test-report.dpdk.org>
List-Unsubscribe: <https://mails.dpdk.org/options/test-report>,
 <mailto:test-report-request@dpdk.org?subject=unsubscribe>
List-Archive: <http://mails.dpdk.org/archives/test-report/>
List-Post: <mailto:test-report@dpdk.org>
List-Help: <mailto:test-report-request@dpdk.org?subject=help>
List-Subscribe: <https://mails.dpdk.org/listinfo/test-report>,
 <mailto:test-report-request@dpdk.org?subject=subscribe>
Errors-To: test-report-bounces@dpdk.org

Test-Label: iol-unit-arm64-testing
Test-Status: SUCCESS
http://dpdk.org/patch/139785

_Testing PASS_

Submitter: Abdullah Sevincer <abdullah.sevincer@intel.com>
Date: Wednesday, May 01 2024 19:46:20 
DPDK git baseline: Repo:dpdk
  Branch: master
  CommitID:7e06c0de1952d3109a5b0c4779d7e7d8059c9d78

139783-139785 --> testing pass

Test environment and result as below:

+--------------------------+---------------------------+------------------------------+----------------+--------------+
|       Environment        | cryptodev_sw_zuc_autotest | cryptodev_sw_snow3g_autotest | dpdk_unit_test | lpm_autotest |
+==========================+===========================+==============================+================+==============+
| Debian 12 (arm)          | PASS                      | PASS                         | PASS           | SKIPPED      |
+--------------------------+---------------------------+------------------------------+----------------+--------------+
| Debian 11 (Buster) (ARM) | SKIPPED                   | SKIPPED                      | PASS           | SKIPPED      |
+--------------------------+---------------------------+------------------------------+----------------+--------------+
| CentOS Stream 9 (ARM)    | SKIPPED                   | SKIPPED                      | PASS           | SKIPPED      |
+--------------------------+---------------------------+------------------------------+----------------+--------------+
| Fedora 37 (ARM)          | SKIPPED                   | SKIPPED                      | PASS           | SKIPPED      |
+--------------------------+---------------------------+------------------------------+----------------+--------------+
| Fedora 39 (ARM)          | SKIPPED                   | SKIPPED                      | PASS           | SKIPPED      |
+--------------------------+---------------------------+------------------------------+----------------+--------------+
| Fedora 38 (ARM)          | SKIPPED                   | SKIPPED                      | PASS           | SKIPPED      |
+--------------------------+---------------------------+------------------------------+----------------+--------------+
| Ubuntu 20.04 (ARM)       | SKIPPED                   | SKIPPED                      | PASS           | SKIPPED      |
+--------------------------+---------------------------+------------------------------+----------------+--------------+
| Fedora 38 (ARM Clang)    | SKIPPED                   | SKIPPED                      | PASS           | SKIPPED      |
+--------------------------+---------------------------+------------------------------+----------------+--------------+
| Fedora 39 (ARM Clang)    | SKIPPED                   | SKIPPED                      | PASS           | SKIPPED      |
+--------------------------+---------------------------+------------------------------+----------------+--------------+
| Ubuntu 20.04 ARM SVE     | SKIPPED                   | SKIPPED                      | SKIPPED        | PASS         |
+--------------------------+---------------------------+------------------------------+----------------+--------------+


Debian 12 (arm)
	Kernel: Container Host Kernel
	Compiler: gcc 12.2.0

Debian 11 (Buster) (ARM)
	Kernel: Container Host Kernel
	Compiler: gcc 10.2.1

CentOS Stream 9 (ARM)
	Kernel: Container Host Kernel
	Compiler: gcc 11.4.1

Fedora 37 (ARM)
	Kernel: Depends on container host
	Compiler: gcc 12.3.1

Fedora 39 (ARM)
	Kernel: Depends on container host
	Compiler: gcc 13.2.1

Fedora 38 (ARM)
	Kernel: Depends on container host
	Compiler: gcc 13.2.1

Ubuntu 20.04 (ARM)
	Kernel: Container Host Kernel
	Compiler: gcc 9.4.0

Fedora 38 (ARM Clang)
	Kernel: Depends on container host
	Compiler: clang 16.0.6

Fedora 39 (ARM Clang)
	Kernel: Depends on container host
	Compiler: clang 17.0.6

Ubuntu 20.04 ARM SVE
	Kernel: 5.4.0-167-generic
	Compiler: gcc (Ubuntu 10.5.0-1ubuntu1~20.04) 10.5.0

To view detailed results, visit:
https://lab.dpdk.org/results/dashboard/patchsets/29894/

UNH-IOL DPDK Community Lab

To manage your email subscriptions, visit: 
https://lab.dpdk.org/results/dashboard/preferences/subscriptions/