From mboxrd@z Thu Jan  1 00:00:00 1970
Return-Path: <test-report-bounces@dpdk.org>
Received: from mails.dpdk.org (mails.dpdk.org [217.70.189.124])
	by inbox.dpdk.org (Postfix) with ESMTP id 7932243F6D
	for <public@inbox.dpdk.org>; Fri,  3 May 2024 00:26:28 +0200 (CEST)
Received: from mails.dpdk.org (localhost [127.0.0.1])
	by mails.dpdk.org (Postfix) with ESMTP id 7476340291;
	Fri,  3 May 2024 00:26:28 +0200 (CEST)
Received: from mail-oa1-f98.google.com (mail-oa1-f98.google.com
 [209.85.160.98]) by mails.dpdk.org (Postfix) with ESMTP id 659DB4026E
 for <test-report@dpdk.org>; Fri,  3 May 2024 00:26:27 +0200 (CEST)
Received: by mail-oa1-f98.google.com with SMTP id
 586e51a60fabf-23d1c4c14ceso1879372fac.0
 for <test-report@dpdk.org>; Thu, 02 May 2024 15:26:27 -0700 (PDT)
DKIM-Signature: v=1; a=rsa-sha256; c=relaxed/relaxed;
 d=iol.unh.edu; s=unh-iol; t=1714688787; x=1715293587; darn=dpdk.org;
 h=references:in-reply-to:cc:to:from:subject:message-id:date:from:to
 :cc:subject:date:message-id:reply-to;
 bh=tKgwH3GozAgKb2AAJrPjm83xeJiHl/Adh4czi6GDQns=;
 b=NIG3iFde/yq7/fQh82R/g9i2rMxJMw+/tqUe4sZsisM0YsgIKgs0Dgi8caLU+Zzji0
 GLJsoStjV31dTLHjYDOLiwsHipSsWsLUm6Lqr6EDwMFzwWV9BG7O3PUPj7fcB7a6vZxU
 UBePuTSDRmwiMUq39hR6rM1o78cwzi/Zs3C+M=
X-Google-DKIM-Signature: v=1; a=rsa-sha256; c=relaxed/relaxed;
 d=1e100.net; s=20230601; t=1714688787; x=1715293587;
 h=references:in-reply-to:cc:to:from:subject:message-id:date
 :x-gm-message-state:from:to:cc:subject:date:message-id:reply-to;
 bh=tKgwH3GozAgKb2AAJrPjm83xeJiHl/Adh4czi6GDQns=;
 b=ndMTRem891qS575UC17jM2B/An2pv4cm9TCGabwzQSVpUcTVe4AT5VKvBOJTcczqpq
 OefczgkTTqxqLBMf+a4pVM2jzlUerAeE33LzWvLqcZFjxBvuf5PSD6f2/CHhuzQ6rSgb
 4p1N9I+x97pWDnAtbpYWoIFHyy5IdyKJ9QWagksJeLRWuGQWQf01kswNLbUhzYjktQ36
 Ccz+rRGEuO24b7lXO838eTd9cizFwOjZGJ5HGBFcQIPu6DcpCzKJSkTvY5pSqh0drADJ
 WxRMfiO9mvwc1UkV1jgCLSrEnym8GWPhDQi7SBTfKpLQvIFK+6mXgEv7It0RjF3IY9Lj
 WfzQ==
X-Gm-Message-State: AOJu0Yy9TBfqxzmPOtaGIGnvEJmebd22DjkMs33zF0sgrshj3QU6M1FC
 47KU4vvR45HCfg07ko/0ffxI5qUil7xuN6oEX5ouMWZ3ktgdIUpmJaFmztCZQJf0ofRpWiWUMuu
 PTgm38rCdB9babfMQ2E3zyyhKjuJtp/uZFKFPDTh+NAEcLa2dDZVepWrM
X-Google-Smtp-Source: AGHT+IEmDdvuzrEGUgRT6NbD8hrfZ9PUe0/i7oC/K2N/83Bv37ipKep30pBm/P14Au19QNSkFOLwe5PV0cuG
X-Received: by 2002:a05:6870:65a9:b0:23c:6020:6733 with SMTP id
 fp41-20020a05687065a900b0023c60206733mr1354148oab.27.1714688786866; 
 Thu, 02 May 2024 15:26:26 -0700 (PDT)
Received: from postal.iol.unh.edu (postal.iol.unh.edu.
 [2606:4100:3880:1234::84]) by smtp-relay.gmail.com with ESMTPS id
 br19-20020a056871b41300b0023d60ce45fcsm95350oac.15.2024.05.02.15.26.26
 (version=TLS1_2 cipher=ECDHE-ECDSA-AES128-GCM-SHA256 bits=128/128);
 Thu, 02 May 2024 15:26:26 -0700 (PDT)
X-Relaying-Domain: iol.unh.edu
Date: Thu, 02 May 2024 15:26:26 -0700 (PDT)
Message-ID: <66341312.050a0220.374b7.5423SMTPIN_ADDED_MISSING@mx.google.com>
Received: from [172.21.0.6] (unknown [172.18.0.240])
 by postal.iol.unh.edu (Postfix) with ESMTP id 57AD06052514;
 Thu,  2 May 2024 18:26:26 -0400 (EDT)
Subject: |SUCCESS| pw139802 [PATCH] eal/arm: replace RTE_BUILD_BUG on non-con
From: dpdklab@iol.unh.edu
To: Test Report <test-report@dpdk.org>
Cc: dpdk-test-reports@iol.unh.edu
In-Reply-To: <20240502142116.63760-1-daniel.gregory@bytedance.com>
References: <20240502142116.63760-1-daniel.gregory@bytedance.com>
Content-Type: text/plain
X-BeenThere: test-report@dpdk.org
X-Mailman-Version: 2.1.29
Precedence: list
List-Id: automatic DPDK test reports <test-report.dpdk.org>
List-Unsubscribe: <https://mails.dpdk.org/options/test-report>,
 <mailto:test-report-request@dpdk.org?subject=unsubscribe>
List-Archive: <http://mails.dpdk.org/archives/test-report/>
List-Post: <mailto:test-report@dpdk.org>
List-Help: <mailto:test-report-request@dpdk.org?subject=help>
List-Subscribe: <https://mails.dpdk.org/listinfo/test-report>,
 <mailto:test-report-request@dpdk.org?subject=subscribe>
Errors-To: test-report-bounces@dpdk.org

Test-Label: iol-compile-amd64-testing
Test-Status: SUCCESS
http://dpdk.org/patch/139802

_Testing PASS_

Submitter: Daniel Gregory <daniel.gregory@bytedance.com>
Date: Thursday, May 02 2024 14:21:16 
DPDK git baseline: Repo:dpdk
  Branch: master
  CommitID:7e06c0de1952d3109a5b0c4779d7e7d8059c9d78

139802 --> testing pass

Test environment and result as below:

+---------------------+----------------------+--------------------+-------------------+
|     Environment     | dpdk_mingw64_compile | dpdk_meson_compile | dpdk_msvc_compile |
+=====================+======================+====================+===================+
| Windows Server 2022 | PASS                 | PASS               | PASS              |
+---------------------+----------------------+--------------------+-------------------+
| Windows Server 2019 | PASS                 | PASS               | SKIPPED           |
+---------------------+----------------------+--------------------+-------------------+
| FreeBSD 13.3        | SKIPPED              | PASS               | SKIPPED           |
+---------------------+----------------------+--------------------+-------------------+
| Debian Bullseye     | SKIPPED              | PASS               | SKIPPED           |
+---------------------+----------------------+--------------------+-------------------+
| FreeBSD 14.0        | SKIPPED              | PASS               | SKIPPED           |
+---------------------+----------------------+--------------------+-------------------+
| Debian 12           | SKIPPED              | PASS               | SKIPPED           |
+---------------------+----------------------+--------------------+-------------------+
| Fedora 38           | SKIPPED              | PASS               | SKIPPED           |
+---------------------+----------------------+--------------------+-------------------+
| Ubuntu 20.04        | SKIPPED              | PASS               | SKIPPED           |
+---------------------+----------------------+--------------------+-------------------+
| Fedora 39           | SKIPPED              | PASS               | SKIPPED           |
+---------------------+----------------------+--------------------+-------------------+
| CentOS Stream 8     | SKIPPED              | PASS               | SKIPPED           |
+---------------------+----------------------+--------------------+-------------------+
| openSUSE Leap 15    | SKIPPED              | PASS               | SKIPPED           |
+---------------------+----------------------+--------------------+-------------------+


Windows Server 2022
	Kernel: 10.0.20348.2031
	Compiler: clang 15.0.7, gcc 8.1.0 (MinGW), and MSVC VS 17.9

Windows Server 2019
	Kernel: 10.0.17763
	Compiler: clang 14.0 and gcc 8.1.0 (MinGW)

FreeBSD 13.3
	Kernel: 13.3-RELEASE-p1
	Compiler: clang 17.0.6

Debian Bullseye
	Kernel: 5.4.0-167-generic
	Compiler: gcc 10.2.1-6

FreeBSD 14.0
	Kernel: 14.0
	Compiler: clang 16.0.6

Debian 12
	Kernel: Container Host Kernel
	Compiler: gcc 10.2.1

Fedora 38
	Kernel: Depends on container host
	Compiler: gcc 13.2.1

Ubuntu 20.04
	Kernel: 5.4.0-167-generic
	Compiler: gcc 9.4.0-1ubuntu1~20.04.1

Fedora 39
	Kernel: Depends on container host
	Compiler: clang 17.0.6

CentOS Stream 8
	Kernel: 5.4.0-167-generic
	Compiler: gcc 8.5.0 20210514

openSUSE Leap 15
	Kernel: 5.4.0-167-generic
	Compiler: gcc 7.5.0

To view detailed results, visit:
https://lab.dpdk.org/results/dashboard/patchsets/29898/

UNH-IOL DPDK Community Lab

To manage your email subscriptions, visit: 
https://lab.dpdk.org/results/dashboard/preferences/subscriptions/