From mboxrd@z Thu Jan  1 00:00:00 1970
Return-Path: <test-report-bounces@dpdk.org>
Received: from mails.dpdk.org (mails.dpdk.org [217.70.189.124])
	by inbox.dpdk.org (Postfix) with ESMTP id 417B743F6D
	for <public@inbox.dpdk.org>; Fri,  3 May 2024 00:59:54 +0200 (CEST)
Received: from mails.dpdk.org (localhost [127.0.0.1])
	by mails.dpdk.org (Postfix) with ESMTP id 3763C40291;
	Fri,  3 May 2024 00:59:54 +0200 (CEST)
Received: from mail-yw1-f227.google.com (mail-yw1-f227.google.com
 [209.85.128.227])
 by mails.dpdk.org (Postfix) with ESMTP id E78214026E
 for <test-report@dpdk.org>; Fri,  3 May 2024 00:59:52 +0200 (CEST)
Received: by mail-yw1-f227.google.com with SMTP id
 00721157ae682-61b62005f38so87438847b3.2
 for <test-report@dpdk.org>; Thu, 02 May 2024 15:59:52 -0700 (PDT)
DKIM-Signature: v=1; a=rsa-sha256; c=relaxed/relaxed;
 d=iol.unh.edu; s=unh-iol; t=1714690792; x=1715295592; darn=dpdk.org;
 h=references:in-reply-to:cc:to:from:subject:message-id:date:from:to
 :cc:subject:date:message-id:reply-to;
 bh=nf8hlmkgPSqCWgdX003R85RNdj1IYOfZdjt1o4lzdG0=;
 b=B2rO3I7zIAvw9EdobL0tOFSK4NFFAw88LMwfvdJGXlJrkAtYxfjHNeCrEEv3aqrbqM
 hTmD5zToWyyn8+BZU+T7kLlMq0/NXqVRbqkUDR9vIXNCCUZOZKEVWNDuO75D5JBZLrn4
 XtLHSwX9f5UWTwoX45EDICdEY99JA1r85INqc=
X-Google-DKIM-Signature: v=1; a=rsa-sha256; c=relaxed/relaxed;
 d=1e100.net; s=20230601; t=1714690792; x=1715295592;
 h=references:in-reply-to:cc:to:from:subject:message-id:date
 :x-gm-message-state:from:to:cc:subject:date:message-id:reply-to;
 bh=nf8hlmkgPSqCWgdX003R85RNdj1IYOfZdjt1o4lzdG0=;
 b=dl4C6bLNr0gofRofB4ASip37lTgo5twNdnBvWFU3ab2VJlCUJBPPBgpPHUu9idIbWB
 j13M0BEH43UgpTmzQXqRk0aH7RBBXdCUtx1FkpuyoGFYJ9Q2soMORRhlbYxQmHhwr9vB
 DcrPJM5xzpZnBJtq3OjbqwIpM+njI3fY4NK+hLjR1S6H+D8d1mxV1XBk6YW0iYBw/50V
 oQ18eU6lHfbVB1lyBRR+YM6GhsnOFAogo/Ezapkv1uX/GZ8RaEWMChsCXTWdzhVQtfZm
 cjNR/UAufCI0Ug5jS3tsKynPgzhQKMT1IVf3KxgNT81DHu5ZPG0N385aMyaBmF1iVoZQ
 2RjQ==
X-Gm-Message-State: AOJu0Yy5GrAkOucfEIac7KU2if6uJm0p/+KbR85cKrEPxCMUKB7561IS
 woK3kKufCVbvXIO0ZclF2bklOs2Wb5/adWWFfr1Ik3IRlOujGBK8Ayf+y33GlAsXXa46zt7boZs
 dgn8Eky34S9jgZTFWk6eiT4CnoC2gHeV1zBKSjUqp5e7UgxnYzho7B8uQ
X-Google-Smtp-Source: AGHT+IHwuDOA8Iv+3TfU2K1fbDG2oRX0n4wjpIJipNtHQFbwJOolbU4sOS5c3fZgc0YBRiBD0evgRo/VgBXP
X-Received: by 2002:a0d:cc97:0:b0:61b:33ae:e065 with SMTP id
 o145-20020a0dcc97000000b0061b33aee065mr1022097ywd.0.1714690792408; 
 Thu, 02 May 2024 15:59:52 -0700 (PDT)
Received: from postal.iol.unh.edu (postal.iol.unh.edu.
 [2606:4100:3880:1234::84]) by smtp-relay.gmail.com with ESMTPS id
 b8-20020a0dd908000000b0061b43a22e9bsm160083ywe.13.2024.05.02.15.59.52
 (version=TLS1_2 cipher=ECDHE-ECDSA-AES128-GCM-SHA256 bits=128/128);
 Thu, 02 May 2024 15:59:52 -0700 (PDT)
X-Relaying-Domain: iol.unh.edu
Date: Thu, 02 May 2024 15:59:52 -0700 (PDT)
Message-ID: <66341ae8.0d0a0220.6c33c.9103SMTPIN_ADDED_MISSING@mx.google.com>
Received: from [172.17.0.4] (unknown [172.18.0.217])
 by postal.iol.unh.edu (Postfix) with ESMTP id 0E4226052514;
 Thu,  2 May 2024 18:59:52 -0400 (EDT)
Subject: |SUCCESS| pw139802 [PATCH] eal/arm: replace RTE_BUILD_BUG on non-con
From: dpdklab@iol.unh.edu
To: Test Report <test-report@dpdk.org>
Cc: dpdk-test-reports@iol.unh.edu
In-Reply-To: <20240502142116.63760-1-daniel.gregory@bytedance.com>
References: <20240502142116.63760-1-daniel.gregory@bytedance.com>
Content-Type: text/plain
X-BeenThere: test-report@dpdk.org
X-Mailman-Version: 2.1.29
Precedence: list
List-Id: automatic DPDK test reports <test-report.dpdk.org>
List-Unsubscribe: <https://mails.dpdk.org/options/test-report>,
 <mailto:test-report-request@dpdk.org?subject=unsubscribe>
List-Archive: <http://mails.dpdk.org/archives/test-report/>
List-Post: <mailto:test-report@dpdk.org>
List-Help: <mailto:test-report-request@dpdk.org?subject=help>
List-Subscribe: <https://mails.dpdk.org/listinfo/test-report>,
 <mailto:test-report-request@dpdk.org?subject=subscribe>
Errors-To: test-report-bounces@dpdk.org

Test-Label: iol-compile-amd64-testing
Test-Status: SUCCESS
http://dpdk.org/patch/139802

_Testing PASS_

Submitter: Daniel Gregory <daniel.gregory@bytedance.com>
Date: Thursday, May 02 2024 14:21:16 
DPDK git baseline: Repo:dpdk
  Branch: master
  CommitID:7e06c0de1952d3109a5b0c4779d7e7d8059c9d78

139802 --> testing pass

Test environment and result as below:

+---------------------+----------------------+--------------------+-------------------+
|     Environment     | dpdk_mingw64_compile | dpdk_meson_compile | dpdk_msvc_compile |
+=====================+======================+====================+===================+
| Windows Server 2022 | PASS                 | PASS               | PASS              |
+---------------------+----------------------+--------------------+-------------------+
| Windows Server 2019 | PASS                 | PASS               | SKIPPED           |
+---------------------+----------------------+--------------------+-------------------+
| FreeBSD 13.3        | SKIPPED              | PASS               | SKIPPED           |
+---------------------+----------------------+--------------------+-------------------+
| Debian Bullseye     | SKIPPED              | PASS               | SKIPPED           |
+---------------------+----------------------+--------------------+-------------------+
| FreeBSD 14.0        | SKIPPED              | PASS               | SKIPPED           |
+---------------------+----------------------+--------------------+-------------------+
| Debian 12           | SKIPPED              | PASS               | SKIPPED           |
+---------------------+----------------------+--------------------+-------------------+
| Fedora 38           | SKIPPED              | PASS               | SKIPPED           |
+---------------------+----------------------+--------------------+-------------------+
| Ubuntu 20.04        | SKIPPED              | PASS               | SKIPPED           |
+---------------------+----------------------+--------------------+-------------------+
| Fedora 39           | SKIPPED              | PASS               | SKIPPED           |
+---------------------+----------------------+--------------------+-------------------+
| CentOS Stream 8     | SKIPPED              | PASS               | SKIPPED           |
+---------------------+----------------------+--------------------+-------------------+
| openSUSE Leap 15    | SKIPPED              | PASS               | SKIPPED           |
+---------------------+----------------------+--------------------+-------------------+
| Fedora 37           | SKIPPED              | PASS               | SKIPPED           |
+---------------------+----------------------+--------------------+-------------------+
| CentOS Stream 9     | SKIPPED              | PASS               | SKIPPED           |
+---------------------+----------------------+--------------------+-------------------+
| RHEL8               | SKIPPED              | PASS               | SKIPPED           |
+---------------------+----------------------+--------------------+-------------------+
| Ubuntu 22.04        | SKIPPED              | PASS               | SKIPPED           |
+---------------------+----------------------+--------------------+-------------------+


Windows Server 2022
	Kernel: 10.0.20348.2031
	Compiler: clang 15.0.7, gcc 8.1.0 (MinGW), and MSVC VS 17.9

Windows Server 2019
	Kernel: 10.0.17763
	Compiler: clang 14.0 and gcc 8.1.0 (MinGW)

FreeBSD 13.3
	Kernel: 13.3-RELEASE-p1
	Compiler: clang 17.0.6

Debian Bullseye
	Kernel: 5.4.0-167-generic
	Compiler: gcc 10.2.1-6

FreeBSD 14.0
	Kernel: 14.0
	Compiler: clang 16.0.6

Debian 12
	Kernel: Container Host Kernel
	Compiler: gcc 10.2.1

Fedora 38
	Kernel: Depends on container host
	Compiler: gcc 13.2.1

Ubuntu 20.04
	Kernel: 5.4.0-167-generic
	Compiler: gcc 9.4.0-1ubuntu1~20.04.1

Fedora 39
	Kernel: Depends on container host
	Compiler: clang 17.0.6

CentOS Stream 8
	Kernel: 5.4.0-167-generic
	Compiler: gcc 8.5.0 20210514

openSUSE Leap 15
	Kernel: 5.4.0-167-generic
	Compiler: gcc 7.5.0

Fedora 37
	Kernel: Depends on container host system
	Compiler: gcc 12.3.1

CentOS Stream 9
	Kernel: 5.4.0-167-generic
	Compiler: gcc 11.4.1 20230605

RHEL8
	Kernel: 5.4.0-167-generic
	Compiler: gcc 8.5.0 20210514 (Red Hat 8.5.0-20)

Ubuntu 22.04
	Kernel: 5.4.0-167-generic
	Compiler: gcc 11.4.0

To view detailed results, visit:
https://lab.dpdk.org/results/dashboard/patchsets/29898/

UNH-IOL DPDK Community Lab

To manage your email subscriptions, visit: 
https://lab.dpdk.org/results/dashboard/preferences/subscriptions/