From mboxrd@z Thu Jan  1 00:00:00 1970
Return-Path: <test-report-bounces@dpdk.org>
Received: from mails.dpdk.org (mails.dpdk.org [217.70.189.124])
	by inbox.dpdk.org (Postfix) with ESMTP id D35E143F6D
	for <public@inbox.dpdk.org>; Fri,  3 May 2024 01:01:02 +0200 (CEST)
Received: from mails.dpdk.org (localhost [127.0.0.1])
	by mails.dpdk.org (Postfix) with ESMTP id C245C40291;
	Fri,  3 May 2024 01:01:02 +0200 (CEST)
Received: from mail-yw1-f225.google.com (mail-yw1-f225.google.com
 [209.85.128.225])
 by mails.dpdk.org (Postfix) with ESMTP id CFCDC4026E
 for <test-report@dpdk.org>; Fri,  3 May 2024 01:01:00 +0200 (CEST)
Received: by mail-yw1-f225.google.com with SMTP id
 00721157ae682-61be4b9869dso44042827b3.1
 for <test-report@dpdk.org>; Thu, 02 May 2024 16:01:00 -0700 (PDT)
DKIM-Signature: v=1; a=rsa-sha256; c=relaxed/relaxed;
 d=iol.unh.edu; s=unh-iol; t=1714690860; x=1715295660; darn=dpdk.org;
 h=references:in-reply-to:cc:to:from:subject:message-id:date:from:to
 :cc:subject:date:message-id:reply-to;
 bh=KLaeHk+7IgPVeEypAgVngeNy0U9zZF28Pf4GWEy0dVk=;
 b=CoU06buzJEySALJleVUOhx8VF8hs9FoarRfvGnECxqa4M1Ez9+eZVJGU/uPnRDUuQ8
 YQtazRbyWTUJsqRlDibEsoCqam6sCiN5VjP+8wJdwY9S+EqUT+XOIrEVwQoqzrsKzTnQ
 KAZD+UpKLRY7BJUpF16sFg4zkvbWdI4O7xOos=
X-Google-DKIM-Signature: v=1; a=rsa-sha256; c=relaxed/relaxed;
 d=1e100.net; s=20230601; t=1714690860; x=1715295660;
 h=references:in-reply-to:cc:to:from:subject:message-id:date
 :x-gm-message-state:from:to:cc:subject:date:message-id:reply-to;
 bh=KLaeHk+7IgPVeEypAgVngeNy0U9zZF28Pf4GWEy0dVk=;
 b=SBPhl9SL3pLPspebNpBy8C2wJexZXfUPaPGDznjgzNcSEMUABogppCmHh5S7LHp+1H
 2jg+2VBRCt/npdqLGcdtD59YTkcQuovWyCRUGEvCEu4Tgb2PtIy1UtYygpHkOMDomUJW
 qumj64nAgGAYKYK69eVfToaA3PCevznYz7y45oWTie7Q8E9sH4mpCNM9yUZv3e9p59KZ
 9Udb3/bqxXY0p7pt+tMiwkkx+Wmijuh2EddM0lA+dhIZr5yzJ8JIOhz4CQPH7IlUJg5T
 5KBNh1B565ihJ7HcICKViUEfktl6yR9hf4m8GxaBsvpU1s8yozEnKB1lyUIqn1PfcIbz
 5toQ==
X-Gm-Message-State: AOJu0YzbtTfkOmGwuJcgJmpBr6u8DLnmf4y/bzjiMH4Tkeiw+fur9qaO
 Z1ZJu8oRtIdKjsr1fo3WPtZFqRL/xjkVy731+J92pTdd7dowTUsPsWT9sy4c6oJXzkE4zmOf+Ra
 zMp2e9r7DIlcK+VAxAgr1+hhiW0CKFWRIS/IJ+Jy4rd489WFr8DWD46CK
X-Google-Smtp-Source: AGHT+IGqnL0cihpkY58K6lUCSRCT8yPT619ccQmCwX6wOXOyVIuNRZNX4azQOsLe2JmawIQ+dC0XleC88H3R
X-Received: by 2002:a0d:ca0d:0:b0:61b:16d9:47cd with SMTP id
 m13-20020a0dca0d000000b0061b16d947cdmr989603ywd.11.1714690860253; 
 Thu, 02 May 2024 16:01:00 -0700 (PDT)
Received: from postal.iol.unh.edu (postal.iol.unh.edu.
 [2606:4100:3880:1234::84]) by smtp-relay.gmail.com with ESMTPS id
 g65-20020a0df644000000b00617bba8f2basm161896ywf.17.2024.05.02.16.01.00
 (version=TLS1_2 cipher=ECDHE-ECDSA-AES128-GCM-SHA256 bits=128/128);
 Thu, 02 May 2024 16:01:00 -0700 (PDT)
X-Relaying-Domain: iol.unh.edu
Date: Thu, 02 May 2024 16:01:00 -0700 (PDT)
Message-ID: <66341b2c.0d0a0220.9ad93.90f1SMTPIN_ADDED_MISSING@mx.google.com>
Received: from [172.17.0.4] (unknown [172.18.0.217])
 by postal.iol.unh.edu (Postfix) with ESMTP id DCCE36052514;
 Thu,  2 May 2024 19:00:59 -0400 (EDT)
Subject: |SUCCESS| pw139804 [PATCH] freebsd: Add support for multiple dpdk in
From: dpdklab@iol.unh.edu
To: Test Report <test-report@dpdk.org>
Cc: dpdk-test-reports@iol.unh.edu
In-Reply-To: <20240502135541.47142-1-thj@freebsd.org>
References: <20240502135541.47142-1-thj@freebsd.org>
Content-Type: text/plain
X-BeenThere: test-report@dpdk.org
X-Mailman-Version: 2.1.29
Precedence: list
List-Id: automatic DPDK test reports <test-report.dpdk.org>
List-Unsubscribe: <https://mails.dpdk.org/options/test-report>,
 <mailto:test-report-request@dpdk.org?subject=unsubscribe>
List-Archive: <http://mails.dpdk.org/archives/test-report/>
List-Post: <mailto:test-report@dpdk.org>
List-Help: <mailto:test-report-request@dpdk.org?subject=help>
List-Subscribe: <https://mails.dpdk.org/listinfo/test-report>,
 <mailto:test-report-request@dpdk.org?subject=subscribe>
Errors-To: test-report-bounces@dpdk.org

Test-Label: iol-abi-testing
Test-Status: SUCCESS
http://dpdk.org/patch/139804

_Testing PASS_

Submitter: Tom Jones <thj@freebsd.org>
Date: Thursday, May 02 2024 13:55:41 
DPDK git baseline: Repo:dpdk
  Branch: master
  CommitID:7e06c0de1952d3109a5b0c4779d7e7d8059c9d78

139804 --> testing pass

Test environment and result as below:

+------------------+----------+
|   Environment    | abi_test |
+==================+==========+
| Fedora 37        | PASS     |
+------------------+----------+
| Debian Bullseye  | PASS     |
+------------------+----------+
| Fedora 39        | PASS     |
+------------------+----------+
| Fedora 38        | PASS     |
+------------------+----------+
| CentOS Stream 9  | PASS     |
+------------------+----------+
| openSUSE Leap 15 | PASS     |
+------------------+----------+
| CentOS Stream 8  | PASS     |
+------------------+----------+


Fedora 37
	Kernel: Depends on container host system
	Compiler: gcc 12.3.1

Debian Bullseye
	Kernel: 5.4.0-167-generic
	Compiler: gcc 10.2.1-6

Fedora 39
	Kernel: Depends on container host
	Compiler: clang 17.0.6

Fedora 38
	Kernel: Depends on container host
	Compiler: clang 16.0.6

CentOS Stream 9
	Kernel: 5.4.0-167-generic
	Compiler: gcc 11.4.1 20230605

openSUSE Leap 15
	Kernel: 5.4.0-167-generic
	Compiler: gcc 7.5.0

CentOS Stream 8
	Kernel: 5.4.0-167-generic
	Compiler: gcc 8.5.0 20210514

To view detailed results, visit:
https://lab.dpdk.org/results/dashboard/patchsets/29900/

UNH-IOL DPDK Community Lab

To manage your email subscriptions, visit: 
https://lab.dpdk.org/results/dashboard/preferences/subscriptions/