From mboxrd@z Thu Jan  1 00:00:00 1970
Return-Path: <test-report-bounces@dpdk.org>
Received: from mails.dpdk.org (mails.dpdk.org [217.70.189.124])
	by inbox.dpdk.org (Postfix) with ESMTP id 9FF9F43F6D
	for <public@inbox.dpdk.org>; Fri,  3 May 2024 01:05:12 +0200 (CEST)
Received: from mails.dpdk.org (localhost [127.0.0.1])
	by mails.dpdk.org (Postfix) with ESMTP id 9933140291;
	Fri,  3 May 2024 01:05:12 +0200 (CEST)
Received: from mail-yw1-f226.google.com (mail-yw1-f226.google.com
 [209.85.128.226])
 by mails.dpdk.org (Postfix) with ESMTP id 4F9FC4026E
 for <test-report@dpdk.org>; Fri,  3 May 2024 01:05:11 +0200 (CEST)
Received: by mail-yw1-f226.google.com with SMTP id
 00721157ae682-61816fc256dso88338687b3.0
 for <test-report@dpdk.org>; Thu, 02 May 2024 16:05:11 -0700 (PDT)
DKIM-Signature: v=1; a=rsa-sha256; c=relaxed/relaxed;
 d=iol.unh.edu; s=unh-iol; t=1714691110; x=1715295910; darn=dpdk.org;
 h=references:in-reply-to:cc:to:from:subject:message-id:date:from:to
 :cc:subject:date:message-id:reply-to;
 bh=Xv0kYt1DBpmaUMqKcSet+rIJsg2h8tM4CUehupIqFeU=;
 b=cyj0n3JLUZGKz+VpZIl6347rQSbE7W8vmLymJiD8OC38cB9PC1jZHLYMBKpe9Uo7y4
 bFYtQHkssbpHEXVYrkt7SW+3KFY91WJzDcmGCWuyuuFTlwgj6o4xf4ljX0n8naJoMKXD
 E0plPI1EPqxy1CNXoZkjxYl6aFL0+BqAbPR7I=
X-Google-DKIM-Signature: v=1; a=rsa-sha256; c=relaxed/relaxed;
 d=1e100.net; s=20230601; t=1714691110; x=1715295910;
 h=references:in-reply-to:cc:to:from:subject:message-id:date
 :x-gm-message-state:from:to:cc:subject:date:message-id:reply-to;
 bh=Xv0kYt1DBpmaUMqKcSet+rIJsg2h8tM4CUehupIqFeU=;
 b=MUdx0f1DSRqJZY8WsEC8YSFHntLEGt7djCkHejUOTGEIb+x1m4v827T3PyGCLF2De3
 rSIkKdseorsdFmfPJjOIsBSfHqB5BQ259tfAP/pixYSiDZlgrflx3wEcZEbhah+/TEJR
 +uJkUdp8+7NjsYoMz7aH0ze71Aac40ur+ZAhhXqSk1dOOUr9rfEXaO8ewLBIyc09FT7z
 6q3WKImArsYWJlXzVYTmu8O3/i9qUyoxeGLz2GtA3MzhNcw57Wk/smPtpl2f4GDgJqmo
 pBlQ+iRT0Meo/gjX/2+GSpds7d4ybiTS0RXggHhHost9kqOwKVzZk9zHRQ5IoU0sLX2c
 kHvA==
X-Gm-Message-State: AOJu0YxLUyyaV49qWy2vf6d9cDwBEu3O22NWttlexOH+j366LV43ico5
 YSO9LgRWAFube8zkBhlWXFAVT5fIOuSWVGrtKVIFjYZLFlgOHJTKtIuMliP/3fMCoT+A2ZDGfRB
 /bDqUUl//MHiOvbEYc2uSx+tOZHuio3VdSWH0RgGU+AzD9bwHfulxqXGS
X-Google-Smtp-Source: AGHT+IGpUPx0f1eriqqmZIird1j5sDSme6Twv9lxgzZoW7t0Tq8wMWFd+SWVHTDUHPUZ+3Yqkjf4YzlIFzkm
X-Received: by 2002:a81:ff17:0:b0:618:859e:3eeb with SMTP id
 k23-20020a81ff17000000b00618859e3eebmr1022190ywn.32.1714691110628; 
 Thu, 02 May 2024 16:05:10 -0700 (PDT)
Received: from postal.iol.unh.edu (postal.iol.unh.edu.
 [2606:4100:3880:1234::84]) by smtp-relay.gmail.com with ESMTPS id
 z142-20020a0dd794000000b006187a9d9306sm159373ywd.52.2024.05.02.16.05.10
 (version=TLS1_2 cipher=ECDHE-ECDSA-AES128-GCM-SHA256 bits=128/128);
 Thu, 02 May 2024 16:05:10 -0700 (PDT)
X-Relaying-Domain: iol.unh.edu
Date: Thu, 02 May 2024 16:05:10 -0700 (PDT)
Message-ID: <66341c26.0d0a0220.e08d9.944bSMTPIN_ADDED_MISSING@mx.google.com>
Received: from [172.21.0.6] (unknown [172.18.0.240])
 by postal.iol.unh.edu (Postfix) with ESMTP id 478C76052514;
 Thu,  2 May 2024 19:05:10 -0400 (EDT)
Subject: |SUCCESS| pw139804 [PATCH] freebsd: Add support for multiple dpdk in
From: dpdklab@iol.unh.edu
To: Test Report <test-report@dpdk.org>
Cc: Tom Jones <thj@freebsd.org>
In-Reply-To: <20240502135541.47142-1-thj@freebsd.org>
References: <20240502135541.47142-1-thj@freebsd.org>
Content-Type: text/plain
X-BeenThere: test-report@dpdk.org
X-Mailman-Version: 2.1.29
Precedence: list
List-Id: automatic DPDK test reports <test-report.dpdk.org>
List-Unsubscribe: <https://mails.dpdk.org/options/test-report>,
 <mailto:test-report-request@dpdk.org?subject=unsubscribe>
List-Archive: <http://mails.dpdk.org/archives/test-report/>
List-Post: <mailto:test-report@dpdk.org>
List-Help: <mailto:test-report-request@dpdk.org?subject=help>
List-Subscribe: <https://mails.dpdk.org/listinfo/test-report>,
 <mailto:test-report-request@dpdk.org?subject=subscribe>
Errors-To: test-report-bounces@dpdk.org

Test-Label: iol-unit-amd64-testing
Test-Status: SUCCESS
http://dpdk.org/patch/139804

_Testing PASS_

Submitter: Tom Jones <thj@freebsd.org>
Date: Thursday, May 02 2024 13:55:41 
DPDK git baseline: Repo:dpdk
  Branch: master
  CommitID:7e06c0de1952d3109a5b0c4779d7e7d8059c9d78

139804 --> testing pass

Test environment and result as below:

+-----------------+----------------+
|   Environment   | dpdk_unit_test |
+=================+================+
| CentOS Stream 8 | PASS           |
+-----------------+----------------+
| CentOS Stream 9 | PASS           |
+-----------------+----------------+
| Debian 12       | PASS           |
+-----------------+----------------+
| Debian Bullseye | PASS           |
+-----------------+----------------+


CentOS Stream 8
	Kernel: 5.4.0-167-generic
	Compiler: gcc 8.5.0 20210514

CentOS Stream 9
	Kernel: 5.4.0-167-generic
	Compiler: gcc 11.4.1 20230605

Debian 12
	Kernel: Container Host Kernel
	Compiler: gcc 10.2.1

Debian Bullseye
	Kernel: 5.4.0-167-generic
	Compiler: gcc 10.2.1-6

To view detailed results, visit:
https://lab.dpdk.org/results/dashboard/patchsets/29900/

UNH-IOL DPDK Community Lab

To manage your email subscriptions, visit: 
https://lab.dpdk.org/results/dashboard/preferences/subscriptions/