From mboxrd@z Thu Jan  1 00:00:00 1970
Return-Path: <test-report-bounces@dpdk.org>
Received: from mails.dpdk.org (mails.dpdk.org [217.70.189.124])
	by inbox.dpdk.org (Postfix) with ESMTP id EA31643F6D
	for <public@inbox.dpdk.org>; Fri,  3 May 2024 01:34:59 +0200 (CEST)
Received: from mails.dpdk.org (localhost [127.0.0.1])
	by mails.dpdk.org (Postfix) with ESMTP id E4F6F40291;
	Fri,  3 May 2024 01:34:59 +0200 (CEST)
Received: from mail-oo1-f97.google.com (mail-oo1-f97.google.com
 [209.85.161.97]) by mails.dpdk.org (Postfix) with ESMTP id 4AE154026E
 for <test-report@dpdk.org>; Fri,  3 May 2024 01:34:58 +0200 (CEST)
Received: by mail-oo1-f97.google.com with SMTP id
 006d021491bc7-5aa22ebd048so5866168eaf.1
 for <test-report@dpdk.org>; Thu, 02 May 2024 16:34:58 -0700 (PDT)
DKIM-Signature: v=1; a=rsa-sha256; c=relaxed/relaxed;
 d=iol.unh.edu; s=unh-iol; t=1714692897; x=1715297697; darn=dpdk.org;
 h=references:in-reply-to:cc:to:from:subject:message-id:date:from:to
 :cc:subject:date:message-id:reply-to;
 bh=fQI0/8yJZvTFAjdBQH+5/XA7rgjQKYd04q+V+F2tv6E=;
 b=fsVJy6YjO8kT+12ORhd7Hs9DrNivzzt/OZTuMGYoqw5alCXPN3bOn6TPc9dhdDTmmf
 KUNl4LyrXDq4+m/boMbzac8JWLyBYjARVn66/e7GbUxQ2HFUcsSkaKqjrFtr64ekYHHe
 ENkropyNiE1f+7e6EB5Lr/lAUAY4PR0EnKQ0U=
X-Google-DKIM-Signature: v=1; a=rsa-sha256; c=relaxed/relaxed;
 d=1e100.net; s=20230601; t=1714692897; x=1715297697;
 h=references:in-reply-to:cc:to:from:subject:message-id:date
 :x-gm-message-state:from:to:cc:subject:date:message-id:reply-to;
 bh=fQI0/8yJZvTFAjdBQH+5/XA7rgjQKYd04q+V+F2tv6E=;
 b=RsqRa6VCUog18/uWc5qwtGcZC5j60Yltm6Tl95E/B1ci89GljAl58C2DUfjRADWg6T
 C4d5briqE1q0eP8sYG0BKV45Uv5N40nvkkK1Sb6StfaXWbeEyZ/zJBmzJryTJdq77Nwl
 oP0o9EPTT7pniWPsQ5PffspPcg/fTNPJ9aKhvJwIg8VjuZ30OPDYhfzB0NyoOQxp83jf
 brKY7WCbNxfsI67N9Wu0HhpPkt/A6yokXGIthdHPEbfv0wy0/HcQt2/Qa3/PmgpDO5e9
 HCHEYCPEK7zkP2lPEf6D+oyd1mn71MTegnQK/0BwErW3xLQZ9HGRC0uSLhqtrtMnFau5
 4RqA==
X-Gm-Message-State: AOJu0Yyq3ErA/JpO90lBa4Je/50Zo1ufI189b6D56Zn68TXx8HDpWuYG
 SWm6ltDtp0Yq0CbOFhizyIox8V0mWOjLLrSGIrDkKEdwH+kZMFyLoDa6yux5A4q/Aurk+VStSMT
 U+nTj/rzOApukpq506Wr4pjm2t5YLryE1m+i8aZ1td79o2y/fXQdrQjZD
X-Google-Smtp-Source: AGHT+IGxdOWnUg2pGy70eu5ckawOr0igKHQb23CcSHESwwwFP6ZeyP8Ksa6nPANbOBmZOhTOE11wZGeK/iMl
X-Received: by 2002:a4a:aa41:0:b0:5ac:a03c:abcc with SMTP id
 y1-20020a4aaa41000000b005aca03cabccmr1436949oom.7.1714692897544; 
 Thu, 02 May 2024 16:34:57 -0700 (PDT)
Received: from postal.iol.unh.edu (postal.iol.unh.edu.
 [2606:4100:3880:1234::84]) by smtp-relay.gmail.com with ESMTPS id
 v189-20020a4a5ac6000000b005a7b1614139sm195215ooa.6.2024.05.02.16.34.57
 (version=TLS1_2 cipher=ECDHE-ECDSA-AES128-GCM-SHA256 bits=128/128);
 Thu, 02 May 2024 16:34:57 -0700 (PDT)
X-Relaying-Domain: iol.unh.edu
Date: Thu, 02 May 2024 16:34:57 -0700 (PDT)
Message-ID: <66342321.4a0a0220.0bf9.bef5SMTPIN_ADDED_MISSING@mx.google.com>
Received: from [172.17.0.3] (unknown [172.18.0.217])
 by postal.iol.unh.edu (Postfix) with ESMTP id D25016052514;
 Thu,  2 May 2024 19:34:56 -0400 (EDT)
Subject: |SUCCESS| pw139802 [PATCH] eal/arm: replace RTE_BUILD_BUG on non-con
From: dpdklab@iol.unh.edu
To: Test Report <test-report@dpdk.org>
Cc: dpdk-test-reports@iol.unh.edu
In-Reply-To: <20240502142116.63760-1-daniel.gregory@bytedance.com>
References: <20240502142116.63760-1-daniel.gregory@bytedance.com>
Content-Type: text/plain
X-BeenThere: test-report@dpdk.org
X-Mailman-Version: 2.1.29
Precedence: list
List-Id: automatic DPDK test reports <test-report.dpdk.org>
List-Unsubscribe: <https://mails.dpdk.org/options/test-report>,
 <mailto:test-report-request@dpdk.org?subject=unsubscribe>
List-Archive: <http://mails.dpdk.org/archives/test-report/>
List-Post: <mailto:test-report@dpdk.org>
List-Help: <mailto:test-report-request@dpdk.org?subject=help>
List-Subscribe: <https://mails.dpdk.org/listinfo/test-report>,
 <mailto:test-report-request@dpdk.org?subject=subscribe>
Errors-To: test-report-bounces@dpdk.org

Test-Label: iol-compile-arm64-testing
Test-Status: SUCCESS
http://dpdk.org/patch/139802

_Testing PASS_

Submitter: Daniel Gregory <daniel.gregory@bytedance.com>
Date: Thursday, May 02 2024 14:21:16 
DPDK git baseline: Repo:dpdk
  Branch: master
  CommitID:7e06c0de1952d3109a5b0c4779d7e7d8059c9d78

139802 --> testing pass

Test environment and result as below:

+----------------------------------------+--------------------+
|              Environment               | dpdk_meson_compile |
+========================================+====================+
| Ubuntu 20.04 ARM SVE                   | PASS               |
+----------------------------------------+--------------------+
| Ubuntu 20.04 aarch32 GCC Cross Compile | PASS               |
+----------------------------------------+--------------------+
| Ubuntu 20.04 ARM Clang Cross Compile   | PASS               |
+----------------------------------------+--------------------+
| Debian 12 (arm)                        | PASS               |
+----------------------------------------+--------------------+
| Ubuntu 20.04 ARM GCC Cross Compile     | PASS               |
+----------------------------------------+--------------------+
| Debian 12 with MUSDK                   | PASS               |
+----------------------------------------+--------------------+
| CentOS Stream 9 (ARM)                  | PASS               |
+----------------------------------------+--------------------+
| Fedora 38 (ARM Clang)                  | PASS               |
+----------------------------------------+--------------------+


Ubuntu 20.04 ARM SVE
	Kernel: 5.4.0-167-generic
	Compiler: gcc (Ubuntu 10.5.0-1ubuntu1~20.04) 10.5.0

Ubuntu 20.04 aarch32 GCC Cross Compile
	Kernel: 5.4.0-167-generic
	Compiler: gcc 9.4.0

Ubuntu 20.04 ARM Clang Cross Compile
	Kernel: 5.4.0-72-generic
	Compiler: clang 10.0.0-4ubuntu1

Debian 12 (arm)
	Kernel: Container Host Kernel
	Compiler: gcc 12.2.0

Ubuntu 20.04 ARM GCC Cross Compile
	Kernel: 5.4.0-167-generic
	Compiler: aarch64-linux-gnu-gcc (Ubuntu 9.4.0-1ubuntu1~20.04.2) 9.4.0

Debian 12 with MUSDK
	Kernel: Container Host Kernel
	Compiler: gcc 12.2.0

CentOS Stream 9 (ARM)
	Kernel: Container Host Kernel
	Compiler: gcc 11.4.1

Fedora 38 (ARM Clang)
	Kernel: Depends on container host
	Compiler: clang 16.0.6

To view detailed results, visit:
https://lab.dpdk.org/results/dashboard/patchsets/29898/

UNH-IOL DPDK Community Lab

To manage your email subscriptions, visit: 
https://lab.dpdk.org/results/dashboard/preferences/subscriptions/