From mboxrd@z Thu Jan  1 00:00:00 1970
Return-Path: <test-report-bounces@dpdk.org>
Received: from mails.dpdk.org (mails.dpdk.org [217.70.189.124])
	by inbox.dpdk.org (Postfix) with ESMTP id EFEAE43F6D
	for <public@inbox.dpdk.org>; Fri,  3 May 2024 01:40:11 +0200 (CEST)
Received: from mails.dpdk.org (localhost [127.0.0.1])
	by mails.dpdk.org (Postfix) with ESMTP id EAC9740291;
	Fri,  3 May 2024 01:40:11 +0200 (CEST)
Received: from mail-io1-f97.google.com (mail-io1-f97.google.com
 [209.85.166.97]) by mails.dpdk.org (Postfix) with ESMTP id 9D9024026E
 for <test-report@dpdk.org>; Fri,  3 May 2024 01:40:10 +0200 (CEST)
Received: by mail-io1-f97.google.com with SMTP id
 ca18e2360f4ac-7dedc577011so177255639f.3
 for <test-report@dpdk.org>; Thu, 02 May 2024 16:40:10 -0700 (PDT)
DKIM-Signature: v=1; a=rsa-sha256; c=relaxed/relaxed;
 d=iol.unh.edu; s=unh-iol; t=1714693210; x=1715298010; darn=dpdk.org;
 h=references:in-reply-to:cc:to:from:subject:message-id:date:from:to
 :cc:subject:date:message-id:reply-to;
 bh=lCP0DTf9yOOhfgy196jf+b9TBmdw4hTaL9Af43Eh13Q=;
 b=DjUUAnPMorBVr0ZDKnfvjIKFsFlWSO2ro/KLJ9nCxvX470FElafCcZ3/DoqWVwt/wi
 /acDn4xfbmAmOGhd4t6zChfOVNWM8PCEttjZ21F56aw+/NkbOYvzC/t+lLbgliOBSUUV
 T0CmDi4aHQiOyla0wIcaHYfh9i2T9DLlRU5pg=
X-Google-DKIM-Signature: v=1; a=rsa-sha256; c=relaxed/relaxed;
 d=1e100.net; s=20230601; t=1714693210; x=1715298010;
 h=references:in-reply-to:cc:to:from:subject:message-id:date
 :x-gm-message-state:from:to:cc:subject:date:message-id:reply-to;
 bh=lCP0DTf9yOOhfgy196jf+b9TBmdw4hTaL9Af43Eh13Q=;
 b=jGBl3tP+9bJW91CufgQhHw+G2MZUrbVaC1ICMc9sjbJp8OGzu2brDpNPPqPE0fEVIX
 VTVlL3EHiKtl08jmF3xXWU7LrzEYOTSY2qTy6a788UVCfTVS+yZ+TLoP/j0RlRIpnr9x
 P7cPBlh1MLjctHZh7dffZFrYk88jZZqpBXbYKluO4/FbPwR94K3njCEfeG0ymBk05mxC
 5M9UThnJw5SKQzvcRJL9xxYDjwNxbeKaOW7BhVtqi00CLCEX9pk+PEIwmIA5fIDr0nCb
 VaBSR2DtI+b7rWU7j4FC1VN/FCmy1NPf8UKM3At/rW0EYANDCXF7Bm18f8GNGwXGz5gN
 n/cQ==
X-Gm-Message-State: AOJu0YxTFYpKWcufqTvNx+02N8izp21pvHsWwqgQCyrW55ygXypm8WZb
 g+dI7Uz5Ra8tkXpYCTMukFHmj/0i+jrXW4sGRYRdvf3OrGKEHAG9N429Tt+C3SM50tfL+KHxNs5
 9iIfsX0iM3isapqIUYWr/aacq7Gs9IqIvNLbEpBrG
X-Google-Smtp-Source: AGHT+IFqfNd6Jgm6eBjKE/4W17ekbIAlwi2R60kYiY3vz873We3ip11mTO2uuzSPmOdaHG103URx+cRg8xg9
X-Received: by 2002:a6b:e517:0:b0:7da:1802:12b9 with SMTP id
 y23-20020a6be517000000b007da180212b9mr1324050ioc.3.1714693209889; 
 Thu, 02 May 2024 16:40:09 -0700 (PDT)
Received: from postal.iol.unh.edu (postal.iol.unh.edu. [132.177.123.84])
 by smtp-relay.gmail.com with ESMTPS id
 ji24-20020a0566388b1800b0048822b0fa77sm109811jab.21.2024.05.02.16.40.09
 (version=TLS1_2 cipher=ECDHE-ECDSA-AES128-GCM-SHA256 bits=128/128);
 Thu, 02 May 2024 16:40:09 -0700 (PDT)
X-Relaying-Domain: iol.unh.edu
Date: Thu, 02 May 2024 16:40:09 -0700 (PDT)
Message-ID: <66342459.050a0220.8e2dd.706dSMTPIN_ADDED_MISSING@mx.google.com>
Received: from [172.17.0.3] (unknown [172.18.0.217])
 by postal.iol.unh.edu (Postfix) with ESMTP id 6598A6052514;
 Thu,  2 May 2024 19:40:09 -0400 (EDT)
Subject: |SUCCESS| pw139804 [PATCH] freebsd: Add support for multiple dpdk in
From: dpdklab@iol.unh.edu
To: Test Report <test-report@dpdk.org>
Cc: dpdk-test-reports@iol.unh.edu
In-Reply-To: <20240502135541.47142-1-thj@freebsd.org>
References: <20240502135541.47142-1-thj@freebsd.org>
Content-Type: text/plain
X-BeenThere: test-report@dpdk.org
X-Mailman-Version: 2.1.29
Precedence: list
List-Id: automatic DPDK test reports <test-report.dpdk.org>
List-Unsubscribe: <https://mails.dpdk.org/options/test-report>,
 <mailto:test-report-request@dpdk.org?subject=unsubscribe>
List-Archive: <http://mails.dpdk.org/archives/test-report/>
List-Post: <mailto:test-report@dpdk.org>
List-Help: <mailto:test-report-request@dpdk.org?subject=help>
List-Subscribe: <https://mails.dpdk.org/listinfo/test-report>,
 <mailto:test-report-request@dpdk.org?subject=subscribe>
Errors-To: test-report-bounces@dpdk.org

Test-Label: iol-compile-amd64-testing
Test-Status: SUCCESS
http://dpdk.org/patch/139804

_Testing PASS_

Submitter: Tom Jones <thj@freebsd.org>
Date: Thursday, May 02 2024 13:55:41 
DPDK git baseline: Repo:dpdk
  Branch: master
  CommitID:7e06c0de1952d3109a5b0c4779d7e7d8059c9d78

139804 --> testing pass

Test environment and result as below:

+---------------------+--------------------+----------------------+-------------------+
|     Environment     | dpdk_meson_compile | dpdk_mingw64_compile | dpdk_msvc_compile |
+=====================+====================+======================+===================+
| Windows Server 2019 | PASS               | PASS                 | SKIPPED           |
+---------------------+--------------------+----------------------+-------------------+
| FreeBSD 13.3        | PASS               | SKIPPED              | SKIPPED           |
+---------------------+--------------------+----------------------+-------------------+
| FreeBSD 14.0        | PASS               | SKIPPED              | SKIPPED           |
+---------------------+--------------------+----------------------+-------------------+
| Windows Server 2022 | PASS               | PASS                 | PASS              |
+---------------------+--------------------+----------------------+-------------------+
| CentOS Stream 8     | PASS               | SKIPPED              | SKIPPED           |
+---------------------+--------------------+----------------------+-------------------+
| Debian 12           | PASS               | SKIPPED              | SKIPPED           |
+---------------------+--------------------+----------------------+-------------------+


Windows Server 2019
	Kernel: 10.0.17763
	Compiler: clang 14.0 and gcc 8.1.0 (MinGW)

FreeBSD 13.3
	Kernel: 13.3-RELEASE-p1
	Compiler: clang 17.0.6

FreeBSD 14.0
	Kernel: 14.0
	Compiler: clang 16.0.6

Windows Server 2022
	Kernel: 10.0.20348.2031
	Compiler: clang 15.0.7, gcc 8.1.0 (MinGW), and MSVC VS 17.9

CentOS Stream 8
	Kernel: 5.4.0-167-generic
	Compiler: gcc 8.5.0 20210514

Debian 12
	Kernel: Container Host Kernel
	Compiler: gcc 10.2.1

To view detailed results, visit:
https://lab.dpdk.org/results/dashboard/patchsets/29900/

UNH-IOL DPDK Community Lab

To manage your email subscriptions, visit: 
https://lab.dpdk.org/results/dashboard/preferences/subscriptions/