From mboxrd@z Thu Jan  1 00:00:00 1970
Return-Path: <test-report-bounces@dpdk.org>
Received: from mails.dpdk.org (mails.dpdk.org [217.70.189.124])
	by inbox.dpdk.org (Postfix) with ESMTP id 5D58A43F6E
	for <public@inbox.dpdk.org>; Fri,  3 May 2024 02:44:11 +0200 (CEST)
Received: from mails.dpdk.org (localhost [127.0.0.1])
	by mails.dpdk.org (Postfix) with ESMTP id 29C9840291;
	Fri,  3 May 2024 02:44:11 +0200 (CEST)
Received: from mail-pl1-f227.google.com (mail-pl1-f227.google.com
 [209.85.214.227])
 by mails.dpdk.org (Postfix) with ESMTP id 4A8D64026E
 for <test-report@dpdk.org>; Fri,  3 May 2024 02:44:10 +0200 (CEST)
Received: by mail-pl1-f227.google.com with SMTP id
 d9443c01a7336-1e83a2a4f2cso58152895ad.1
 for <test-report@dpdk.org>; Thu, 02 May 2024 17:44:10 -0700 (PDT)
DKIM-Signature: v=1; a=rsa-sha256; c=relaxed/relaxed;
 d=iol.unh.edu; s=unh-iol; t=1714697049; x=1715301849; darn=dpdk.org;
 h=references:in-reply-to:cc:to:from:subject:message-id:date:from:to
 :cc:subject:date:message-id:reply-to;
 bh=3pzRIFuSWBPGANXunbVlfM30X+CFVJwip1DvzbLmmBE=;
 b=R2gYjZrlOpSCN1tt2Oub3H1Dem+x7MNvmWCm2+z2LGCLctBtVZ/V17t0haYLmAMg1P
 2EI3So61lgMk4Z5akgwmKqNJDRAhOTkasj6XWhJnhQKei6igBNk1u+wiW9piUisXdxBJ
 DBkFY0Ly3/v1aAyKTJdl8xJ00dxtuF0iY/cj8=
X-Google-DKIM-Signature: v=1; a=rsa-sha256; c=relaxed/relaxed;
 d=1e100.net; s=20230601; t=1714697049; x=1715301849;
 h=references:in-reply-to:cc:to:from:subject:message-id:date
 :x-gm-message-state:from:to:cc:subject:date:message-id:reply-to;
 bh=3pzRIFuSWBPGANXunbVlfM30X+CFVJwip1DvzbLmmBE=;
 b=kRTPQBI/T4Q5L4E0hovf8k3/byTvQvnk29DQl/kwfG0gXXkx3Rk+jWwzrbJtwA7k1v
 VFj5pmY+iftMmlnHcnGq61HyebUDc5j1IvNmNCbF6PD6om5MycV16B59W48Pk+xQbjSS
 OU+GUtsXrK6oChpE9nq1kDqZH38x0yeIAfZPTc9KG5MR2GpgZ1y/QDcd8cwXZ7H3DwuB
 1EbM2hhnIgp2wwFZ3gQRopG/iEeONBs2/8ukOlsNNrnrbuhTNzUVBAzsFRq3YpfjEjux
 pv+5KJzI51/QgA+fz7fUJ5sRLHdLcsPcYzz/cO5RubXrBnC7uPniHx2EEhnenkizHbrS
 pyEg==
X-Gm-Message-State: AOJu0YwjhMB1C6GNT89n6oDEBxYG2xV8C/Tpt4LohJ9blcZxLgEIPiMx
 YFHkJ+OofNzGHgYaT8MuV+fdmj3k8N5AiBwrkIXfLXgnAFGxmxJUxKXyf04hZK6Aw6pIDOao3+2
 VaOYyViFJkNYFSJRoNDjS2E/ir5zYKkdHDk6ahLN1
X-Google-Smtp-Source: AGHT+IGyDjr04OajcXpJ3U0LSQp9EK2ENuR3ObJ4H8zwCo5MMj/AwiTQD64o3N9tIFy8WLSDhxpw8lVL0Myp
X-Received: by 2002:a17:903:234b:b0:1ec:a65a:e4ad with SMTP id
 c11-20020a170903234b00b001eca65ae4admr1343356plh.66.1714697049373; 
 Thu, 02 May 2024 17:44:09 -0700 (PDT)
Received: from postal.iol.unh.edu (postal.iol.unh.edu. [132.177.123.84])
 by smtp-relay.gmail.com with ESMTPS id
 iw7-20020a170903044700b001ecc0851872sm104239plb.69.2024.05.02.17.44.09
 (version=TLS1_2 cipher=ECDHE-ECDSA-AES128-GCM-SHA256 bits=128/128);
 Thu, 02 May 2024 17:44:09 -0700 (PDT)
X-Relaying-Domain: iol.unh.edu
Date: Thu, 02 May 2024 17:44:09 -0700 (PDT)
Message-ID: <66343359.170a0220.8cd08.67d5SMTPIN_ADDED_MISSING@mx.google.com>
Received: from [172.17.0.2] (unknown [172.18.0.217])
 by postal.iol.unh.edu (Postfix) with ESMTP id 585886052514;
 Thu,  2 May 2024 20:44:08 -0400 (EDT)
Subject: |SUCCESS| pw139804 [PATCH] freebsd: Add support for multiple dpdk in
From: dpdklab@iol.unh.edu
To: Test Report <test-report@dpdk.org>
Cc: dpdk-test-reports@iol.unh.edu
In-Reply-To: <20240502135541.47142-1-thj@freebsd.org>
References: <20240502135541.47142-1-thj@freebsd.org>
Content-Type: text/plain
X-BeenThere: test-report@dpdk.org
X-Mailman-Version: 2.1.29
Precedence: list
List-Id: automatic DPDK test reports <test-report.dpdk.org>
List-Unsubscribe: <https://mails.dpdk.org/options/test-report>,
 <mailto:test-report-request@dpdk.org?subject=unsubscribe>
List-Archive: <http://mails.dpdk.org/archives/test-report/>
List-Post: <mailto:test-report@dpdk.org>
List-Help: <mailto:test-report-request@dpdk.org?subject=help>
List-Subscribe: <https://mails.dpdk.org/listinfo/test-report>,
 <mailto:test-report-request@dpdk.org?subject=subscribe>
Errors-To: test-report-bounces@dpdk.org

Test-Label: iol-compile-arm64-testing
Test-Status: SUCCESS
http://dpdk.org/patch/139804

_Testing PASS_

Submitter: Tom Jones <thj@freebsd.org>
Date: Thursday, May 02 2024 13:55:41 
DPDK git baseline: Repo:dpdk
  Branch: master
  CommitID:7e06c0de1952d3109a5b0c4779d7e7d8059c9d78

139804 --> testing pass

Test environment and result as below:

+-----------------------+--------------------+
|      Environment      | dpdk_meson_compile |
+=======================+====================+
| Ubuntu 20.04 ARM SVE  | PASS               |
+-----------------------+--------------------+
| Debian 12 with MUSDK  | PASS               |
+-----------------------+--------------------+
| Fedora 37 (ARM)       | PASS               |
+-----------------------+--------------------+
| Fedora 39 (ARM)       | PASS               |
+-----------------------+--------------------+
| Fedora 38 (ARM)       | PASS               |
+-----------------------+--------------------+
| Ubuntu 20.04 (ARM)    | PASS               |
+-----------------------+--------------------+
| CentOS Stream 9 (ARM) | PASS               |
+-----------------------+--------------------+


Ubuntu 20.04 ARM SVE
	Kernel: 5.4.0-167-generic
	Compiler: gcc (Ubuntu 10.5.0-1ubuntu1~20.04) 10.5.0

Debian 12 with MUSDK
	Kernel: Container Host Kernel
	Compiler: gcc 12.2.0

Fedora 37 (ARM)
	Kernel: Depends on container host
	Compiler: gcc 12.3.1

Fedora 39 (ARM)
	Kernel: Depends on container host
	Compiler: gcc 13.2.1

Fedora 38 (ARM)
	Kernel: Depends on container host
	Compiler: gcc 13.2.1

Ubuntu 20.04 (ARM)
	Kernel: Container Host Kernel
	Compiler: gcc 9.4.0

CentOS Stream 9 (ARM)
	Kernel: Container Host Kernel
	Compiler: gcc 11.4.1

To view detailed results, visit:
https://lab.dpdk.org/results/dashboard/patchsets/29900/

UNH-IOL DPDK Community Lab

To manage your email subscriptions, visit: 
https://lab.dpdk.org/results/dashboard/preferences/subscriptions/