From mboxrd@z Thu Jan  1 00:00:00 1970
Return-Path: <test-report-bounces@dpdk.org>
Received: from mails.dpdk.org (mails.dpdk.org [217.70.189.124])
	by inbox.dpdk.org (Postfix) with ESMTP id 57B4E43F72
	for <public@inbox.dpdk.org>; Fri,  3 May 2024 08:22:38 +0200 (CEST)
Received: from mails.dpdk.org (localhost [127.0.0.1])
	by mails.dpdk.org (Postfix) with ESMTP id 54173402D1;
	Fri,  3 May 2024 08:22:38 +0200 (CEST)
Received: from mail-yw1-f228.google.com (mail-yw1-f228.google.com
 [209.85.128.228])
 by mails.dpdk.org (Postfix) with ESMTP id 3961D402CF
 for <test-report@dpdk.org>; Fri,  3 May 2024 08:22:37 +0200 (CEST)
Received: by mail-yw1-f228.google.com with SMTP id
 00721157ae682-61bed5ce32fso41640047b3.2
 for <test-report@dpdk.org>; Thu, 02 May 2024 23:22:37 -0700 (PDT)
DKIM-Signature: v=1; a=rsa-sha256; c=relaxed/relaxed;
 d=iol.unh.edu; s=unh-iol; t=1714717356; x=1715322156; darn=dpdk.org;
 h=references:in-reply-to:cc:to:from:subject:message-id:date:from:to
 :cc:subject:date:message-id:reply-to;
 bh=229ttvJN9DZ9xtxH70mOC8/kIrJL1HxgZS+AFE0E6NY=;
 b=gVYXmLZdg6hUqcnyFolqTcuSvN2cz7P1c0SLGGcrRlOFBtNJ0QJO21IF2FQ08vVmqf
 vMDyQKuXYOprOauMO5X48v/tS1lNL4S+MVO2UcORPJWZPG+1A0jJHSlKwg15bbKXeHLh
 bse5vFQOeQ8apMa3C9iSpN8PiF4rmzks/dKYA=
X-Google-DKIM-Signature: v=1; a=rsa-sha256; c=relaxed/relaxed;
 d=1e100.net; s=20230601; t=1714717356; x=1715322156;
 h=references:in-reply-to:cc:to:from:subject:message-id:date
 :x-gm-message-state:from:to:cc:subject:date:message-id:reply-to;
 bh=229ttvJN9DZ9xtxH70mOC8/kIrJL1HxgZS+AFE0E6NY=;
 b=lOyUBKNsePuhUtJ6TtPnfXsZI1xkDhY0cJtXM/OBjdnBcTR5yoXkeEAQD4mrv4YYQf
 e76KAoLnNJ9oxrkKLW+Z7OoFu7NUOAR5sOjB9a3xO6ZQKNiPTQLgY4WEH15mPxyXvvTs
 UL3jm64qWTtqIgjZRh2KXbfHc1XEHFvGIeIOwa7wNA+w4zavC6fhwv78ZbBZjYd5E8qH
 5c3ov3ZxLy8fCpWBFN22JMR4kyzXMjOadGiylKYI2svyNwdIgxwQzKYbbz3jxwZPh+S7
 fq4pXIAU2jR156fpGkosPM8xxyZmMjFsI+8+0xj4OtklIf2MyTgdhxDA9QgEqiWPSJQ2
 eO4w==
X-Gm-Message-State: AOJu0YyrY+Z8RzFg4D2k7NV/0vcgmW4MmfsmO3/yF3dhawv9ZTqF0Bbr
 fmwOxQsIGUrKHCQ4/2SaMhY7a5qstq6sEGk9iCSoTf7lw9NAX7FspWtsxFPzFpAbKA9RQoXJfW/
 Jx5zlwYT4dtV2yaDvKV4Z5m6DKv0hf6HtYGuCC0Km
X-Google-Smtp-Source: AGHT+IHWtfmbNp90HbopAQ1JFj56Ks/wUkLBKT2qILyCFC0Hh8PhkZTsWKV94dfyQEMcmRY6LiSfCKwv+1xf
X-Received: by 2002:a0d:e5c6:0:b0:609:bfdf:8a32 with SMTP id
 o189-20020a0de5c6000000b00609bfdf8a32mr1496160ywe.44.1714717356598; 
 Thu, 02 May 2024 23:22:36 -0700 (PDT)
Received: from postal.iol.unh.edu (postal.iol.unh.edu. [132.177.123.84])
 by smtp-relay.gmail.com with ESMTPS id
 t131-20020a818389000000b0061bebf6c64csm201975ywf.2.2024.05.02.23.22.36
 (version=TLS1_2 cipher=ECDHE-ECDSA-AES128-GCM-SHA256 bits=128/128);
 Thu, 02 May 2024 23:22:36 -0700 (PDT)
X-Relaying-Domain: iol.unh.edu
Date: Thu, 02 May 2024 23:22:36 -0700 (PDT)
Message-ID: <663482ac.810a0220.39c7f.ce7dSMTPIN_ADDED_MISSING@mx.google.com>
Received: from [172.21.0.6] (unknown [172.18.0.240])
 by postal.iol.unh.edu (Postfix) with ESMTP id 3EB036052514;
 Fri,  3 May 2024 02:22:36 -0400 (EDT)
Subject: |SUCCESS| pw139826 [PATCH] [v3] cmdline: increase input buffer size
From: dpdklab@iol.unh.edu
To: Test Report <test-report@dpdk.org>
Cc: dpdk-test-reports@iol.unh.edu
In-Reply-To: <20240503042715.344550-1-getelson@nvidia.com>
References: <20240503042715.344550-1-getelson@nvidia.com>
Content-Type: text/plain
X-BeenThere: test-report@dpdk.org
X-Mailman-Version: 2.1.29
Precedence: list
List-Id: automatic DPDK test reports <test-report.dpdk.org>
List-Unsubscribe: <https://mails.dpdk.org/options/test-report>,
 <mailto:test-report-request@dpdk.org?subject=unsubscribe>
List-Archive: <http://mails.dpdk.org/archives/test-report/>
List-Post: <mailto:test-report@dpdk.org>
List-Help: <mailto:test-report-request@dpdk.org?subject=help>
List-Subscribe: <https://mails.dpdk.org/listinfo/test-report>,
 <mailto:test-report-request@dpdk.org?subject=subscribe>
Errors-To: test-report-bounces@dpdk.org

Test-Label: iol-compile-amd64-testing
Test-Status: SUCCESS
http://dpdk.org/patch/139826

_Testing PASS_

Submitter: Gregory Etelson <getelson@nvidia.com>
Date: Friday, May 03 2024 04:27:14 
DPDK git baseline: Repo:dpdk
  Branch: master
  CommitID:7e06c0de1952d3109a5b0c4779d7e7d8059c9d78

139826 --> testing pass

Test environment and result as below:

+---------------------+--------------------+----------------------+-------------------+
|     Environment     | dpdk_meson_compile | dpdk_mingw64_compile | dpdk_msvc_compile |
+=====================+====================+======================+===================+
| FreeBSD 13.3        | PASS               | SKIPPED              | SKIPPED           |
+---------------------+--------------------+----------------------+-------------------+
| Windows Server 2019 | PASS               | PASS                 | SKIPPED           |
+---------------------+--------------------+----------------------+-------------------+
| Windows Server 2022 | PASS               | PASS                 | PASS              |
+---------------------+--------------------+----------------------+-------------------+
| FreeBSD 14.0        | PASS               | SKIPPED              | SKIPPED           |
+---------------------+--------------------+----------------------+-------------------+


FreeBSD 13.3
	Kernel: 13.3-RELEASE-p1
	Compiler: clang 17.0.6

Windows Server 2019
	Kernel: 10.0.17763
	Compiler: clang 14.0 and gcc 8.1.0 (MinGW)

Windows Server 2022
	Kernel: 10.0.20348.2031
	Compiler: clang 15.0.7, gcc 8.1.0 (MinGW), and MSVC VS 17.9

FreeBSD 14.0
	Kernel: 14.0
	Compiler: clang 16.0.6

To view detailed results, visit:
https://lab.dpdk.org/results/dashboard/patchsets/29905/

UNH-IOL DPDK Community Lab

To manage your email subscriptions, visit: 
https://lab.dpdk.org/results/dashboard/preferences/subscriptions/