From mboxrd@z Thu Jan  1 00:00:00 1970
Return-Path: <test-report-bounces@dpdk.org>
Received: from mails.dpdk.org (mails.dpdk.org [217.70.189.124])
	by inbox.dpdk.org (Postfix) with ESMTP id 7429D43F72
	for <public@inbox.dpdk.org>; Fri,  3 May 2024 08:51:46 +0200 (CEST)
Received: from mails.dpdk.org (localhost [127.0.0.1])
	by mails.dpdk.org (Postfix) with ESMTP id 6F44D402D1;
	Fri,  3 May 2024 08:51:46 +0200 (CEST)
Received: from mail-qv1-f99.google.com (mail-qv1-f99.google.com
 [209.85.219.99]) by mails.dpdk.org (Postfix) with ESMTP id 639C2402CF
 for <test-report@dpdk.org>; Fri,  3 May 2024 08:51:45 +0200 (CEST)
Received: by mail-qv1-f99.google.com with SMTP id
 6a1803df08f44-69cb4a046dfso38403006d6.2
 for <test-report@dpdk.org>; Thu, 02 May 2024 23:51:45 -0700 (PDT)
DKIM-Signature: v=1; a=rsa-sha256; c=relaxed/relaxed;
 d=iol.unh.edu; s=unh-iol; t=1714719105; x=1715323905; darn=dpdk.org;
 h=references:in-reply-to:cc:to:from:subject:message-id:date:from:to
 :cc:subject:date:message-id:reply-to;
 bh=fHQ379lhSqh0TM0DUOnd8aHLLF9YrAxUNlXM+f/tIJI=;
 b=Ci5RxiyHG/7XRpqJqq+dw/EcHjpNs6wBOdCq7BYIFN5lYe1h8VLGeCMpvukroQX/c0
 6JXKlz5BDVxgaRS16PClgEJibthvASuQvx9iboNPz0pVTWycfD5i7esOhT6gPRQ+FIdH
 G9izr8aJlO5GHwd1dwsnYD1ayTB3xK8cy2EBo=
X-Google-DKIM-Signature: v=1; a=rsa-sha256; c=relaxed/relaxed;
 d=1e100.net; s=20230601; t=1714719105; x=1715323905;
 h=references:in-reply-to:cc:to:from:subject:message-id:date
 :x-gm-message-state:from:to:cc:subject:date:message-id:reply-to;
 bh=fHQ379lhSqh0TM0DUOnd8aHLLF9YrAxUNlXM+f/tIJI=;
 b=tuf3pgl29WRGpiPXFqxpwPnN8wgTpKRsEQHO/EuBE/aQnYAWaSBXa1cdqqU8pMXUlj
 S9T8M8opXJlmA8cvt7QnOrPGbHIPE+Lb+8C3TBA0U8u/do48yqYIsRsws+IkklwWABsq
 RT0AJcX0yKmQ+yQLzMv8OrD1xVohoRU5aSuY6anaRh06CcBfukUzHhEIwPuq9YtmB1ed
 VN0+3IvPIxq8FxFeiSOg0JxbsgqKM0juFj86w7tLZ9s5aFl8IBMD2BSP5+wfCo1HaJcf
 LpC1GfPc7swqS9F+iYumb+07lH8zIp1GZkNQZwJ9NOM7f2p7shlPVv16cShyNM9f+x0H
 5zfA==
X-Gm-Message-State: AOJu0YwdPdMF2uiXJM19+wjax1OfUBmvc3g/Y79MBXwfzezs5CjA49f3
 dFYjPkMs+LaVQuS4jSemJm/XpUTzFumon1FDbnveqhupmIaY4a6+nv/WbzKRHiyhY5YYTMh+kK/
 oeSxsDiwrlChBuPD/735n8pzianq/uM+X1vIznHlLd0eOtE3TQ85+aP4L
X-Google-Smtp-Source: AGHT+IEIN9WsyxVW0SvsXFECU73fwKOEVeBlk1dELfItawBUQFZgfoVQ7eqCPsTCll0FP6Dctb/HB2CwXK4y
X-Received: by 2002:ad4:4eac:0:b0:6a0:7cef:9883 with SMTP id
 ed12-20020ad44eac000000b006a07cef9883mr2006637qvb.14.1714719104837; 
 Thu, 02 May 2024 23:51:44 -0700 (PDT)
Received: from postal.iol.unh.edu (postal.iol.unh.edu.
 [2606:4100:3880:1234::84]) by smtp-relay.gmail.com with ESMTPS id
 o18-20020a056214109200b0069b182bb9e5sm116689qvr.39.2024.05.02.23.51.44
 (version=TLS1_2 cipher=ECDHE-ECDSA-AES128-GCM-SHA256 bits=128/128);
 Thu, 02 May 2024 23:51:44 -0700 (PDT)
X-Relaying-Domain: iol.unh.edu
Date: Thu, 02 May 2024 23:51:44 -0700 (PDT)
Message-ID: <66348980.050a0220.3bb0d.6b87SMTPIN_ADDED_MISSING@mx.google.com>
Received: from [172.21.0.6] (unknown [172.18.0.240])
 by postal.iol.unh.edu (Postfix) with ESMTP id 852016052514;
 Fri,  3 May 2024 02:51:44 -0400 (EDT)
Subject: |SUCCESS| pw139814-139825 [PATCH] [v12,12/12] net/tap: update docume
From: dpdklab@iol.unh.edu
To: Test Report <test-report@dpdk.org>
Cc: dpdk-test-reports@iol.unh.edu
In-Reply-To: <20240502213618.11391-13-stephen@networkplumber.org>
References: <20240502213618.11391-13-stephen@networkplumber.org>
Content-Type: text/plain
X-BeenThere: test-report@dpdk.org
X-Mailman-Version: 2.1.29
Precedence: list
List-Id: automatic DPDK test reports <test-report.dpdk.org>
List-Unsubscribe: <https://mails.dpdk.org/options/test-report>,
 <mailto:test-report-request@dpdk.org?subject=unsubscribe>
List-Archive: <http://mails.dpdk.org/archives/test-report/>
List-Post: <mailto:test-report@dpdk.org>
List-Help: <mailto:test-report-request@dpdk.org?subject=help>
List-Subscribe: <https://mails.dpdk.org/listinfo/test-report>,
 <mailto:test-report-request@dpdk.org?subject=subscribe>
Errors-To: test-report-bounces@dpdk.org

Test-Label: iol-abi-testing
Test-Status: SUCCESS
http://dpdk.org/patch/139825

_Testing PASS_

Submitter: Stephen Hemminger <stephen@networkplumber.org>
Date: Thursday, May 02 2024 21:31:48 
DPDK git baseline: Repo:dpdk
  Branch: master
  CommitID:7e06c0de1952d3109a5b0c4779d7e7d8059c9d78

139814-139825 --> testing pass

Test environment and result as below:

+-----------------+----------+
|   Environment   | abi_test |
+=================+==========+
| CentOS Stream 8 | PASS     |
+-----------------+----------+
| Fedora 38       | PASS     |
+-----------------+----------+
| Fedora 39       | PASS     |
+-----------------+----------+
| Ubuntu 22.04    | PASS     |
+-----------------+----------+
| CentOS Stream 9 | PASS     |
+-----------------+----------+
| Debian Bullseye | PASS     |
+-----------------+----------+


CentOS Stream 8
	Kernel: 5.4.0-167-generic
	Compiler: gcc 8.5.0 20210514

Fedora 38
	Kernel: Depends on container host
	Compiler: gcc 13.2.1

Fedora 39
	Kernel: Depends on container host
	Compiler: gcc 13.2.1

Ubuntu 22.04
	Kernel: 5.4.0-167-generic
	Compiler: gcc 11.4.0

CentOS Stream 9
	Kernel: 5.4.0-167-generic
	Compiler: gcc 11.4.1 20230605

Debian Bullseye
	Kernel: 5.4.0-167-generic
	Compiler: gcc 10.2.1-6

To view detailed results, visit:
https://lab.dpdk.org/results/dashboard/patchsets/29904/

UNH-IOL DPDK Community Lab

To manage your email subscriptions, visit: 
https://lab.dpdk.org/results/dashboard/preferences/subscriptions/