From mboxrd@z Thu Jan  1 00:00:00 1970
Return-Path: <test-report-bounces@dpdk.org>
Received: from mails.dpdk.org (mails.dpdk.org [217.70.189.124])
	by inbox.dpdk.org (Postfix) with ESMTP id 72BBB43F72
	for <public@inbox.dpdk.org>; Fri,  3 May 2024 09:17:34 +0200 (CEST)
Received: from mails.dpdk.org (localhost [127.0.0.1])
	by mails.dpdk.org (Postfix) with ESMTP id 6F5CE402D1;
	Fri,  3 May 2024 09:17:34 +0200 (CEST)
Received: from mail-io1-f97.google.com (mail-io1-f97.google.com
 [209.85.166.97]) by mails.dpdk.org (Postfix) with ESMTP id EDD83402CF
 for <test-report@dpdk.org>; Fri,  3 May 2024 09:17:32 +0200 (CEST)
Received: by mail-io1-f97.google.com with SMTP id
 ca18e2360f4ac-7ded031fa71so228118639f.3
 for <test-report@dpdk.org>; Fri, 03 May 2024 00:17:32 -0700 (PDT)
DKIM-Signature: v=1; a=rsa-sha256; c=relaxed/relaxed;
 d=iol.unh.edu; s=unh-iol; t=1714720652; x=1715325452; darn=dpdk.org;
 h=references:in-reply-to:cc:to:from:subject:message-id:date:from:to
 :cc:subject:date:message-id:reply-to;
 bh=aUK0aSGj1b8+Rfpuo4B2DMPithpEVGXkBf4ovbgANdM=;
 b=JGhu0i3PYJzvZR3grJpnqRfxm/k/V4B5Boeijeb3z05OTdeAlNR9K8kIVbFZXDpWCz
 8bL77QzbXamZCN6cI7TwRdI7kd27Rd+z/f+Y/U7G6LIFjwezPy9x8Hjd0nHwmpBxD29L
 TJ0RCGhFEgrujo64tuIq9S9ziCbA+XX08yEu0=
X-Google-DKIM-Signature: v=1; a=rsa-sha256; c=relaxed/relaxed;
 d=1e100.net; s=20230601; t=1714720652; x=1715325452;
 h=references:in-reply-to:cc:to:from:subject:message-id:date
 :x-gm-message-state:from:to:cc:subject:date:message-id:reply-to;
 bh=aUK0aSGj1b8+Rfpuo4B2DMPithpEVGXkBf4ovbgANdM=;
 b=VjnxSZn3w6p9BHcpyi1NJmia+BySFp3s5aQKyr2affJSPRq1dSEmGbL8Hq3xwGEJMl
 FEur9P2na/Y5lbf0AdRnbX9mHFEB1URDJb2cTJ2SFneQ7gJaBIfXtmdPsvAKn+c/ClE/
 Sx1dMiwbEyW+FXii4tm6HDYAieh4rfv57SG9wViEbhQEde/B2sr7W6jwOWUz0JQrAaSb
 QV3l302zTxZ8z58eVQhiyLJyXF9nCtWM7GqxughjfAFn1cF4E1GpfP9xbn+jHvvuJmBc
 +RHKn3Tcl3j+UZEyLvJAZVIm/A7yVCa+kjz2XTBMtTiq/xgCenIyMEQUN4TcXpkp7BX/
 UjMA==
X-Gm-Message-State: AOJu0YzrV9ACvKrDykY9gXaT4HejgqCS7GMwZRMaTLiS3B1s1T6HBJr1
 Q0Hw+h9SbIv54OBXZtOL92EykKONDDZxOKmogolzSB8lmWYlJRjQKK2EYr6RwLF1NYvUqwqyIkY
 7Hd0JsQre/mjEhjY77Jcavy6W3e0dONP3MS/DGoTj
X-Google-Smtp-Source: AGHT+IGA43pXcGUjuXwFe/8rv3Caxp4Y03fV89owSYdNZraJq4iQ54Uz53HciNilumJrQT7BxncMUjUCe//a
X-Received: by 2002:a05:6602:44b:b0:7de:a849:688a with SMTP id
 e11-20020a056602044b00b007dea849688amr2258176iov.4.1714720652364; 
 Fri, 03 May 2024 00:17:32 -0700 (PDT)
Received: from postal.iol.unh.edu (postal.iol.unh.edu. [132.177.123.84])
 by smtp-relay.gmail.com with ESMTPS id
 d21-20020a6b4f15000000b007deaf71ee8bsm119447iob.14.2024.05.03.00.17.32
 (version=TLS1_2 cipher=ECDHE-ECDSA-AES128-GCM-SHA256 bits=128/128);
 Fri, 03 May 2024 00:17:32 -0700 (PDT)
X-Relaying-Domain: iol.unh.edu
Date: Fri, 03 May 2024 00:17:32 -0700 (PDT)
Message-ID: <66348f8c.6b0a0220.1adb0.703bSMTPIN_ADDED_MISSING@mx.google.com>
Received: from [172.21.0.7] (unknown [172.18.0.240])
 by postal.iol.unh.edu (Postfix) with ESMTP id DD94E6052514;
 Fri,  3 May 2024 03:17:31 -0400 (EDT)
Subject: |SUCCESS| pw139826 [PATCH] [v3] cmdline: increase input buffer size
From: dpdklab@iol.unh.edu
To: Test Report <test-report@dpdk.org>
Cc: dpdk-test-reports@iol.unh.edu
In-Reply-To: <20240503042715.344550-1-getelson@nvidia.com>
References: <20240503042715.344550-1-getelson@nvidia.com>
Content-Type: text/plain
X-BeenThere: test-report@dpdk.org
X-Mailman-Version: 2.1.29
Precedence: list
List-Id: automatic DPDK test reports <test-report.dpdk.org>
List-Unsubscribe: <https://mails.dpdk.org/options/test-report>,
 <mailto:test-report-request@dpdk.org?subject=unsubscribe>
List-Archive: <http://mails.dpdk.org/archives/test-report/>
List-Post: <mailto:test-report@dpdk.org>
List-Help: <mailto:test-report-request@dpdk.org?subject=help>
List-Subscribe: <https://mails.dpdk.org/listinfo/test-report>,
 <mailto:test-report-request@dpdk.org?subject=subscribe>
Errors-To: test-report-bounces@dpdk.org

Test-Label: iol-unit-amd64-testing
Test-Status: SUCCESS
http://dpdk.org/patch/139826

_Testing PASS_

Submitter: Gregory Etelson <getelson@nvidia.com>
Date: Friday, May 03 2024 04:27:14 
DPDK git baseline: Repo:dpdk
  Branch: master
  CommitID:7e06c0de1952d3109a5b0c4779d7e7d8059c9d78

139826 --> testing pass

Test environment and result as below:

+---------------------+----------------+
|     Environment     | dpdk_unit_test |
+=====================+================+
| CentOS Stream 8     | PASS           |
+---------------------+----------------+
| CentOS Stream 9     | PASS           |
+---------------------+----------------+
| Debian Bullseye     | PASS           |
+---------------------+----------------+
| Debian 12           | PASS           |
+---------------------+----------------+
| Fedora 38           | PASS           |
+---------------------+----------------+
| Fedora 37           | PASS           |
+---------------------+----------------+
| Fedora 39           | PASS           |
+---------------------+----------------+
| Ubuntu 20.04        | PASS           |
+---------------------+----------------+
| openSUSE Leap 15    | PASS           |
+---------------------+----------------+
| Windows Server 2019 | PASS           |
+---------------------+----------------+
| RHEL8               | PASS           |
+---------------------+----------------+
| Ubuntu 22.04        | PASS           |
+---------------------+----------------+


CentOS Stream 8
	Kernel: 5.4.0-167-generic
	Compiler: gcc 8.5.0 20210514

CentOS Stream 9
	Kernel: 5.4.0-167-generic
	Compiler: gcc 11.4.1 20230605

Debian Bullseye
	Kernel: 5.4.0-167-generic
	Compiler: gcc 10.2.1-6

Debian 12
	Kernel: Container Host Kernel
	Compiler: gcc 10.2.1

Fedora 38
	Kernel: Depends on container host
	Compiler: gcc 13.2.1

Fedora 37
	Kernel: Depends on container host system
	Compiler: gcc 12.3.1

Fedora 39
	Kernel: Depends on container host
	Compiler: gcc 13.2.1

Ubuntu 20.04
	Kernel: 5.4.0-167-generic
	Compiler: gcc 9.4.0-1ubuntu1~20.04.1

openSUSE Leap 15
	Kernel: 5.4.0-167-generic
	Compiler: gcc 7.5.0

Windows Server 2019
	Kernel: 10.0.17763
	Compiler: clang 14.0 and gcc 8.1.0 (MinGW)

RHEL8
	Kernel: 5.4.0-167-generic
	Compiler: gcc 8.5.0 20210514 (Red Hat 8.5.0-20)

Ubuntu 22.04
	Kernel: 5.4.0-167-generic
	Compiler: gcc 11.4.0

To view detailed results, visit:
https://lab.dpdk.org/results/dashboard/patchsets/29905/

UNH-IOL DPDK Community Lab

To manage your email subscriptions, visit: 
https://lab.dpdk.org/results/dashboard/preferences/subscriptions/