From mboxrd@z Thu Jan  1 00:00:00 1970
Return-Path: <test-report-bounces@dpdk.org>
Received: from mails.dpdk.org (mails.dpdk.org [217.70.189.124])
	by inbox.dpdk.org (Postfix) with ESMTP id 202D543F72
	for <public@inbox.dpdk.org>; Fri,  3 May 2024 09:18:51 +0200 (CEST)
Received: from mails.dpdk.org (localhost [127.0.0.1])
	by mails.dpdk.org (Postfix) with ESMTP id 19F24402D1;
	Fri,  3 May 2024 09:18:51 +0200 (CEST)
Received: from mail-pf1-f227.google.com (mail-pf1-f227.google.com
 [209.85.210.227])
 by mails.dpdk.org (Postfix) with ESMTP id 25189402CF
 for <test-report@dpdk.org>; Fri,  3 May 2024 09:18:49 +0200 (CEST)
Received: by mail-pf1-f227.google.com with SMTP id
 d2e1a72fcca58-6f4496af4cdso595359b3a.0
 for <test-report@dpdk.org>; Fri, 03 May 2024 00:18:49 -0700 (PDT)
DKIM-Signature: v=1; a=rsa-sha256; c=relaxed/relaxed;
 d=iol.unh.edu; s=unh-iol; t=1714720728; x=1715325528; darn=dpdk.org;
 h=references:in-reply-to:cc:to:from:subject:message-id:date:from:to
 :cc:subject:date:message-id:reply-to;
 bh=CctdboK8d9j2gyMovUhS7mJvq0An+kFIL0jFv91kvPk=;
 b=X0ve7YNpJFEJbdIJ2GFGoA4M2M1CGsJqrgvqTqgCe6gyG74BWNQl31HFsMcwArAVak
 cnQgy/pU9xfMsJUGoW5fsv0zusAe3wgFuLZTHMVPr25xNMVFJdIxUJLqIm0Kp8lmQ9I1
 lunH7dxkxR7kxurJn2jCHfhGiB7j3Jg040xcc=
X-Google-DKIM-Signature: v=1; a=rsa-sha256; c=relaxed/relaxed;
 d=1e100.net; s=20230601; t=1714720728; x=1715325528;
 h=references:in-reply-to:cc:to:from:subject:message-id:date
 :x-gm-message-state:from:to:cc:subject:date:message-id:reply-to;
 bh=CctdboK8d9j2gyMovUhS7mJvq0An+kFIL0jFv91kvPk=;
 b=TEOXWWfntu3lqbYpAnPHFyuwrc1LZ0jdFwGx89b4OLcgmjoWlpC67P35jFv3WljVnD
 03me7PaJ5nQPFMFuNnGKOdyPgz9htNyq0nEz7HDq7mwvVb5VSk7/LFkll9gImcqtbSEg
 MQFl1sVnmUpcBiXsnsJINXoYwG3KXJy4zw23IYGz2ai5JvsBM5Y28H844F4ODJ9V3X+f
 ETt405IHqDKcIsS6RSM5p1qbXmJIKlEvyEul32IqEiu+iKNng97o4hIbkls0iNmeO/DI
 mKAtVYRwzru4/UtZkAJSoyiaqHItFu8q8XGCRsANB/EO0iAyUhCqri+mS0SV7XaEuE3u
 9jxA==
X-Gm-Message-State: AOJu0YwUZxZfE+wwmkdKSRiGX/bj8cad36iyqo7z5fiJ1FHUek8sBNP6
 /2qOs+LdaOGS/55dY3xFc+DhUhYb9utMoUJ6N/mAZa99qxc/fwy56mQdfCCVwoxP58l2m0H6+O1
 LBX8DvC0k0Tm8Dr+c8xoZpI4kb+GuMRvWvUpPcsj9
X-Google-Smtp-Source: AGHT+IG5LhelJxVR0DhbcE+Wrz2B84D9bqJD5Ag+hfMNuGLVqu5uaCBRmB7ZUCst0T8xeqLYAk/9kDFLDo/g
X-Received: by 2002:a05:6a20:bb8a:b0:1a7:5721:7011 with SMTP id
 fd10-20020a056a20bb8a00b001a757217011mr1667834pzb.41.1714720728403; 
 Fri, 03 May 2024 00:18:48 -0700 (PDT)
Received: from postal.iol.unh.edu (postal.iol.unh.edu. [132.177.123.84])
 by smtp-relay.gmail.com with ESMTPS id
 lf13-20020a170902fb4d00b001eae27e061asm123153plb.7.2024.05.03.00.18.48
 (version=TLS1_2 cipher=ECDHE-ECDSA-AES128-GCM-SHA256 bits=128/128);
 Fri, 03 May 2024 00:18:48 -0700 (PDT)
X-Relaying-Domain: iol.unh.edu
Date: Fri, 03 May 2024 00:18:48 -0700 (PDT)
Message-ID: <66348fd8.170a0220.bc04f.72cdSMTPIN_ADDED_MISSING@mx.google.com>
Received: from [172.21.0.8] (unknown [172.18.0.240])
 by postal.iol.unh.edu (Postfix) with ESMTP id 964E36052514;
 Fri,  3 May 2024 03:18:47 -0400 (EDT)
Subject: |SUCCESS| pw139814-139825 [PATCH] [v12,12/12] net/tap: update docume
From: dpdklab@iol.unh.edu
To: Test Report <test-report@dpdk.org>
Cc: dpdk-test-reports@iol.unh.edu
In-Reply-To: <20240502213618.11391-13-stephen@networkplumber.org>
References: <20240502213618.11391-13-stephen@networkplumber.org>
Content-Type: text/plain
X-BeenThere: test-report@dpdk.org
X-Mailman-Version: 2.1.29
Precedence: list
List-Id: automatic DPDK test reports <test-report.dpdk.org>
List-Unsubscribe: <https://mails.dpdk.org/options/test-report>,
 <mailto:test-report-request@dpdk.org?subject=unsubscribe>
List-Archive: <http://mails.dpdk.org/archives/test-report/>
List-Post: <mailto:test-report@dpdk.org>
List-Help: <mailto:test-report-request@dpdk.org?subject=help>
List-Subscribe: <https://mails.dpdk.org/listinfo/test-report>,
 <mailto:test-report-request@dpdk.org?subject=subscribe>
Errors-To: test-report-bounces@dpdk.org

Test-Label: iol-unit-arm64-testing
Test-Status: SUCCESS
http://dpdk.org/patch/139825

_Testing PASS_

Submitter: Stephen Hemminger <stephen@networkplumber.org>
Date: Thursday, May 02 2024 21:31:48 
DPDK git baseline: Repo:dpdk
  Branch: master
  CommitID:7e06c0de1952d3109a5b0c4779d7e7d8059c9d78

139814-139825 --> testing pass

Test environment and result as below:

+--------------------------+----------------+------------------------------+---------------------------+
|       Environment        | dpdk_unit_test | cryptodev_sw_snow3g_autotest | cryptodev_sw_zuc_autotest |
+==========================+================+==============================+===========================+
| CentOS Stream 9 (ARM)    | PASS           | SKIPPED                      | SKIPPED                   |
+--------------------------+----------------+------------------------------+---------------------------+
| Debian 11 (Buster) (ARM) | PASS           | SKIPPED                      | SKIPPED                   |
+--------------------------+----------------+------------------------------+---------------------------+
| Debian 12 (arm)          | PASS           | PASS                         | PASS                      |
+--------------------------+----------------+------------------------------+---------------------------+
| Fedora 37 (ARM)          | PASS           | SKIPPED                      | SKIPPED                   |
+--------------------------+----------------+------------------------------+---------------------------+
| Fedora 38 (ARM)          | PASS           | SKIPPED                      | SKIPPED                   |
+--------------------------+----------------+------------------------------+---------------------------+
| Fedora 39 (ARM)          | PASS           | SKIPPED                      | SKIPPED                   |
+--------------------------+----------------+------------------------------+---------------------------+
| Ubuntu 20.04 (ARM)       | PASS           | SKIPPED                      | SKIPPED                   |
+--------------------------+----------------+------------------------------+---------------------------+


CentOS Stream 9 (ARM)
	Kernel: Container Host Kernel
	Compiler: gcc 11.4.1

Debian 11 (Buster) (ARM)
	Kernel: Container Host Kernel
	Compiler: gcc 10.2.1

Debian 12 (arm)
	Kernel: Container Host Kernel
	Compiler: gcc 12.2.0

Fedora 37 (ARM)
	Kernel: Depends on container host
	Compiler: gcc 12.3.1

Fedora 38 (ARM)
	Kernel: Depends on container host
	Compiler: gcc 13.2.1

Fedora 39 (ARM)
	Kernel: Depends on container host
	Compiler: gcc 13.2.1

Ubuntu 20.04 (ARM)
	Kernel: Container Host Kernel
	Compiler: gcc 9.4.0

To view detailed results, visit:
https://lab.dpdk.org/results/dashboard/patchsets/29904/

UNH-IOL DPDK Community Lab

To manage your email subscriptions, visit: 
https://lab.dpdk.org/results/dashboard/preferences/subscriptions/