From mboxrd@z Thu Jan  1 00:00:00 1970
Return-Path: <test-report-bounces@dpdk.org>
Received: from mails.dpdk.org (mails.dpdk.org [217.70.189.124])
	by inbox.dpdk.org (Postfix) with ESMTP id 36C2243F72
	for <public@inbox.dpdk.org>; Fri,  3 May 2024 09:19:04 +0200 (CEST)
Received: from mails.dpdk.org (localhost [127.0.0.1])
	by mails.dpdk.org (Postfix) with ESMTP id 32387402D1;
	Fri,  3 May 2024 09:19:04 +0200 (CEST)
Received: from mail-qt1-f227.google.com (mail-qt1-f227.google.com
 [209.85.160.227])
 by mails.dpdk.org (Postfix) with ESMTP id 70BE3402CF
 for <test-report@dpdk.org>; Fri,  3 May 2024 09:19:02 +0200 (CEST)
Received: by mail-qt1-f227.google.com with SMTP id
 d75a77b69052e-439656c1b50so52500751cf.1
 for <test-report@dpdk.org>; Fri, 03 May 2024 00:19:02 -0700 (PDT)
DKIM-Signature: v=1; a=rsa-sha256; c=relaxed/relaxed;
 d=iol.unh.edu; s=unh-iol; t=1714720742; x=1715325542; darn=dpdk.org;
 h=references:in-reply-to:cc:to:from:subject:message-id:date:from:to
 :cc:subject:date:message-id:reply-to;
 bh=CctdboK8d9j2gyMovUhS7mJvq0An+kFIL0jFv91kvPk=;
 b=B5iNM9QW9jUfHgK/LXJ+NdzINVUeSMz2fYiWjQGkY8+FW3PgUH+95QSjMczVe7YbhM
 lbcQMyCkFuiXcjoaPg5N1KA9Wem05gu49KedXdpFopjwnjKzLbhMfB9Wy1JJH4QJayKD
 cQpUyOnhCfz2bzEZn9dMlxZx46dDRLwnS2cIE=
X-Google-DKIM-Signature: v=1; a=rsa-sha256; c=relaxed/relaxed;
 d=1e100.net; s=20230601; t=1714720742; x=1715325542;
 h=references:in-reply-to:cc:to:from:subject:message-id:date
 :x-gm-message-state:from:to:cc:subject:date:message-id:reply-to;
 bh=CctdboK8d9j2gyMovUhS7mJvq0An+kFIL0jFv91kvPk=;
 b=l24J5LqxavpvEkW1iBaJbP9+PHH8kSSvSa3hdr8ppsrsX/cHWk5O2peUCOenR0eE2n
 /Jl+4oi5uYR72zpNi/OHYvijy+ikz8auNY7+1tQRuSGRt4BxIsVRR+mcfm04ls/RpHWB
 /zFLlaRKz97oqI2U14A/0H58TA8kYpTsX5SGm1tea/yG2gzCXb19IQBykcn1f5GPpRJC
 Rc6W/W4Jy2osSFlYBN8O5ciTKy6+9LfWHfRHNxrdLcqZiB6Kk9Tl4qA/0bSYJPnLtuR8
 AE2IfVbu0Y0GD50/STpV7NdJQKhSe8iG2gwIUvKf8sGbesnFrjeP883ASwiR5Bop5nJj
 KsgA==
X-Gm-Message-State: AOJu0YxCUSsDkC1xsiGn/Y6E0CLz1jPNcBe8Y+V9JX2J2ydvyNA6We3O
 YVP/z7SktdWQpU9nM1r4iQTAAWIhyivAuUrIGhKvsmxVQ6LAPtotKxwNsSzrHdSx+pKk/6h82zw
 sJgWAaFm1/nW6VHW0sA8ZlKl42ZbbGptDWyJY/Tsz
X-Google-Smtp-Source: AGHT+IG1Zr/bmnt6t0MWKjfe+yI60KKheUiro74uOgmQj0W4bC4Zk7B332dDmwjkj+yNP5BBylu+mh4iUxuK
X-Received: by 2002:a05:622a:1896:b0:439:b8b6:ce31 with SMTP id
 v22-20020a05622a189600b00439b8b6ce31mr1870313qtc.5.1714720741888; 
 Fri, 03 May 2024 00:19:01 -0700 (PDT)
Received: from postal.iol.unh.edu (postal.iol.unh.edu. [132.177.123.84])
 by smtp-relay.gmail.com with ESMTPS id
 j8-20020a05622a038800b0043abe1ba791sm112879qtx.26.2024.05.03.00.19.01
 (version=TLS1_2 cipher=ECDHE-ECDSA-AES128-GCM-SHA256 bits=128/128);
 Fri, 03 May 2024 00:19:01 -0700 (PDT)
X-Relaying-Domain: iol.unh.edu
Date: Fri, 03 May 2024 00:19:01 -0700 (PDT)
Message-ID: <66348fe5.050a0220.28332.660dSMTPIN_ADDED_MISSING@mx.google.com>
Received: from [172.21.0.7] (unknown [172.18.0.240])
 by postal.iol.unh.edu (Postfix) with ESMTP id 8C89F6052514;
 Fri,  3 May 2024 03:19:01 -0400 (EDT)
Subject: |SUCCESS| pw139814-139825 [PATCH] [v12,12/12] net/tap: update docume
From: dpdklab@iol.unh.edu
To: Test Report <test-report@dpdk.org>
Cc: dpdk-test-reports@iol.unh.edu
In-Reply-To: <20240502213618.11391-13-stephen@networkplumber.org>
References: <20240502213618.11391-13-stephen@networkplumber.org>
Content-Type: text/plain
X-BeenThere: test-report@dpdk.org
X-Mailman-Version: 2.1.29
Precedence: list
List-Id: automatic DPDK test reports <test-report.dpdk.org>
List-Unsubscribe: <https://mails.dpdk.org/options/test-report>,
 <mailto:test-report-request@dpdk.org?subject=unsubscribe>
List-Archive: <http://mails.dpdk.org/archives/test-report/>
List-Post: <mailto:test-report@dpdk.org>
List-Help: <mailto:test-report-request@dpdk.org?subject=help>
List-Subscribe: <https://mails.dpdk.org/listinfo/test-report>,
 <mailto:test-report-request@dpdk.org?subject=subscribe>
Errors-To: test-report-bounces@dpdk.org

Test-Label: iol-unit-arm64-testing
Test-Status: SUCCESS
http://dpdk.org/patch/139825

_Testing PASS_

Submitter: Stephen Hemminger <stephen@networkplumber.org>
Date: Thursday, May 02 2024 21:31:48 
DPDK git baseline: Repo:dpdk
  Branch: master
  CommitID:7e06c0de1952d3109a5b0c4779d7e7d8059c9d78

139814-139825 --> testing pass

Test environment and result as below:

+--------------------------+----------------+------------------------------+---------------------------+
|       Environment        | dpdk_unit_test | cryptodev_sw_snow3g_autotest | cryptodev_sw_zuc_autotest |
+==========================+================+==============================+===========================+
| CentOS Stream 9 (ARM)    | PASS           | SKIPPED                      | SKIPPED                   |
+--------------------------+----------------+------------------------------+---------------------------+
| Debian 11 (Buster) (ARM) | PASS           | SKIPPED                      | SKIPPED                   |
+--------------------------+----------------+------------------------------+---------------------------+
| Debian 12 (arm)          | PASS           | PASS                         | PASS                      |
+--------------------------+----------------+------------------------------+---------------------------+
| Fedora 37 (ARM)          | PASS           | SKIPPED                      | SKIPPED                   |
+--------------------------+----------------+------------------------------+---------------------------+
| Fedora 38 (ARM)          | PASS           | SKIPPED                      | SKIPPED                   |
+--------------------------+----------------+------------------------------+---------------------------+
| Fedora 39 (ARM)          | PASS           | SKIPPED                      | SKIPPED                   |
+--------------------------+----------------+------------------------------+---------------------------+
| Ubuntu 20.04 (ARM)       | PASS           | SKIPPED                      | SKIPPED                   |
+--------------------------+----------------+------------------------------+---------------------------+


CentOS Stream 9 (ARM)
	Kernel: Container Host Kernel
	Compiler: gcc 11.4.1

Debian 11 (Buster) (ARM)
	Kernel: Container Host Kernel
	Compiler: gcc 10.2.1

Debian 12 (arm)
	Kernel: Container Host Kernel
	Compiler: gcc 12.2.0

Fedora 37 (ARM)
	Kernel: Depends on container host
	Compiler: gcc 12.3.1

Fedora 38 (ARM)
	Kernel: Depends on container host
	Compiler: gcc 13.2.1

Fedora 39 (ARM)
	Kernel: Depends on container host
	Compiler: gcc 13.2.1

Ubuntu 20.04 (ARM)
	Kernel: Container Host Kernel
	Compiler: gcc 9.4.0

To view detailed results, visit:
https://lab.dpdk.org/results/dashboard/patchsets/29904/

UNH-IOL DPDK Community Lab

To manage your email subscriptions, visit: 
https://lab.dpdk.org/results/dashboard/preferences/subscriptions/