From mboxrd@z Thu Jan  1 00:00:00 1970
Return-Path: <test-report-bounces@dpdk.org>
Received: from mails.dpdk.org (mails.dpdk.org [217.70.189.124])
	by inbox.dpdk.org (Postfix) with ESMTP id 3AA9243F74
	for <public@inbox.dpdk.org>; Fri,  3 May 2024 10:28:19 +0200 (CEST)
Received: from mails.dpdk.org (localhost [127.0.0.1])
	by mails.dpdk.org (Postfix) with ESMTP id 3657A402D1;
	Fri,  3 May 2024 10:28:19 +0200 (CEST)
Received: from mail-pf1-f226.google.com (mail-pf1-f226.google.com
 [209.85.210.226])
 by mails.dpdk.org (Postfix) with ESMTP id 1B8DA402CF
 for <test-report@dpdk.org>; Fri,  3 May 2024 10:28:18 +0200 (CEST)
Received: by mail-pf1-f226.google.com with SMTP id
 d2e1a72fcca58-6f447976de7so898763b3a.1
 for <test-report@dpdk.org>; Fri, 03 May 2024 01:28:18 -0700 (PDT)
DKIM-Signature: v=1; a=rsa-sha256; c=relaxed/relaxed;
 d=iol.unh.edu; s=unh-iol; t=1714724897; x=1715329697; darn=dpdk.org;
 h=references:in-reply-to:cc:to:from:subject:message-id:date:from:to
 :cc:subject:date:message-id:reply-to;
 bh=fH8js8hrAtUnPoTBGRFeMlhJxPYIlyeW/iV0RavGe4A=;
 b=bVvxj1levTEoIDja3hmUHd8MTyE8tB2QNh2EEcuZOFdjCZ8dT+fVmlViUNdgC9bKLZ
 z/VUE0X4k+c/k2bqf3z1UE/JmlI/PGDYh0bLfrrWID808C5IvzBG7LZP9aWvrnLeBqfM
 azGDctG8iYwJWWTD67R5DWhVtVqVdLoXQ3iQI=
X-Google-DKIM-Signature: v=1; a=rsa-sha256; c=relaxed/relaxed;
 d=1e100.net; s=20230601; t=1714724897; x=1715329697;
 h=references:in-reply-to:cc:to:from:subject:message-id:date
 :x-gm-message-state:from:to:cc:subject:date:message-id:reply-to;
 bh=fH8js8hrAtUnPoTBGRFeMlhJxPYIlyeW/iV0RavGe4A=;
 b=UkoqSuUUgCVxpX6wfoge+nnTgvhrAQPl+eOXPrr43/CvEyD0snetRIrUKKpTVB9OAw
 9R/7teCnF/KBCXDDVWJP4xTp2ukghoT7MUtqT78KeVRSn7T9zU9DzTzpSPiU7b8NEqQs
 hiNgaR4yDoQ4Qufc3Vffmm/yhInmB6wpnUUYzFGiTleMr7kBznuxhQO+x2z6o6uw/4Us
 lAv2kA/Q6h2xksqH1qhOQiAt2xaON36XiZCp84/PWtKa1Cdbn0Loizsn9c2nB91iq4eZ
 VfhjD2paHLLPtZ9t10rlXhBpuTJx2z9JL0lBwsxYCzGA86ac9nWkIEMyrALMrjl2fLc8
 2nSw==
X-Gm-Message-State: AOJu0YwyhYgL+vLsRR9XmymbIuy2AuGU7e3/rotgTOqqDGSRJP40aLbX
 PIAYshkaQ39q8JTHPa05vnDM5vUqqPXkvpOCSJCJxg3IM4L0eCSlIgoWtHN61w2F07St+rCDXB2
 aw1GJ8dtodRM9rz+vEf8mTqVd6JWVpAsaS1pgqQQk8TCB084HdCmSeB3i
X-Google-Smtp-Source: AGHT+IFWL6X7lVsBXrUkttsRp4mmvhZyHAyIoBIxJme7ZUtoXigcuOFr39LEvpAYT961QBO/xhiAWxt9nhts
X-Received: by 2002:a05:6a20:d41f:b0:1a7:59b5:4276 with SMTP id
 il31-20020a056a20d41f00b001a759b54276mr1850544pzb.54.1714724897170; 
 Fri, 03 May 2024 01:28:17 -0700 (PDT)
Received: from postal.iol.unh.edu (postal.iol.unh.edu.
 [2606:4100:3880:1234::84]) by smtp-relay.gmail.com with ESMTPS id
 2-20020a170902c10200b001e421a5c62esm122548pli.143.2024.05.03.01.28.17
 (version=TLS1_2 cipher=ECDHE-ECDSA-AES128-GCM-SHA256 bits=128/128);
 Fri, 03 May 2024 01:28:17 -0700 (PDT)
X-Relaying-Domain: iol.unh.edu
Date: Fri, 03 May 2024 01:28:17 -0700 (PDT)
Message-ID: <6634a021.170a0220.97097.8710SMTPIN_ADDED_MISSING@mx.google.com>
Received: from [172.21.0.8] (unknown [172.18.0.240])
 by postal.iol.unh.edu (Postfix) with ESMTP id A44EE6052514;
 Fri,  3 May 2024 04:28:16 -0400 (EDT)
Subject: |SUCCESS| pw139809-139812 [PATCH] [v2,5/5] baseband/acc: cosmetic lo
From: dpdklab@iol.unh.edu
To: Test Report <test-report@dpdk.org>
Cc: dpdk-test-reports@iol.unh.edu
In-Reply-To: <20240502204548.236729-6-hernan.vargas@intel.com>
References: <20240502204548.236729-6-hernan.vargas@intel.com>
Content-Type: text/plain
X-BeenThere: test-report@dpdk.org
X-Mailman-Version: 2.1.29
Precedence: list
List-Id: automatic DPDK test reports <test-report.dpdk.org>
List-Unsubscribe: <https://mails.dpdk.org/options/test-report>,
 <mailto:test-report-request@dpdk.org?subject=unsubscribe>
List-Archive: <http://mails.dpdk.org/archives/test-report/>
List-Post: <mailto:test-report@dpdk.org>
List-Help: <mailto:test-report-request@dpdk.org?subject=help>
List-Subscribe: <https://mails.dpdk.org/listinfo/test-report>,
 <mailto:test-report-request@dpdk.org?subject=subscribe>
Errors-To: test-report-bounces@dpdk.org

Test-Label: iol-abi-testing
Test-Status: SUCCESS
http://dpdk.org/patch/139812

_Testing PASS_

Submitter: Hernan Vargas <hernan.vargas@intel.com>
Date: Thursday, May 02 2024 20:45:48 
DPDK git baseline: Repo:dpdk
  Branch: master
  CommitID:98b4ecb4e4d73e93fdfa53f552b48d71104b445f

139809-139812 --> testing pass

Test environment and result as below:

+------------------+----------+
|   Environment    | abi_test |
+==================+==========+
| Fedora 39        | PASS     |
+------------------+----------+
| CentOS Stream 8  | PASS     |
+------------------+----------+
| Debian 12        | PASS     |
+------------------+----------+
| Ubuntu 22.04     | PASS     |
+------------------+----------+
| CentOS Stream 9  | PASS     |
+------------------+----------+
| Fedora 38        | PASS     |
+------------------+----------+
| Fedora 37        | PASS     |
+------------------+----------+
| openSUSE Leap 15 | PASS     |
+------------------+----------+
| RHEL8            | PASS     |
+------------------+----------+
| Debian Bullseye  | PASS     |
+------------------+----------+


Fedora 39
	Kernel: Depends on container host
	Compiler: clang 17.0.6

CentOS Stream 8
	Kernel: 5.4.0-167-generic
	Compiler: gcc 8.5.0 20210514

Debian 12
	Kernel: Container Host Kernel
	Compiler: gcc 10.2.1

Ubuntu 22.04
	Kernel: 5.4.0-167-generic
	Compiler: gcc 11.4.0

CentOS Stream 9
	Kernel: 5.4.0-167-generic
	Compiler: gcc 11.4.1 20230605

Fedora 38
	Kernel: Depends on container host
	Compiler: gcc 13.2.1

Fedora 37
	Kernel: Depends on container host system
	Compiler: gcc 12.3.1

openSUSE Leap 15
	Kernel: 5.4.0-167-generic
	Compiler: gcc 7.5.0

RHEL8
	Kernel: 5.4.0-167-generic
	Compiler: gcc 8.5.0 20210514 (Red Hat 8.5.0-20)

Debian Bullseye
	Kernel: 5.4.0-167-generic
	Compiler: gcc 10.2.1-6

To view detailed results, visit:
https://lab.dpdk.org/results/dashboard/patchsets/29903/

UNH-IOL DPDK Community Lab

To manage your email subscriptions, visit: 
https://lab.dpdk.org/results/dashboard/preferences/subscriptions/