From mboxrd@z Thu Jan  1 00:00:00 1970
Return-Path: <test-report-bounces@dpdk.org>
Received: from mails.dpdk.org (mails.dpdk.org [217.70.189.124])
	by inbox.dpdk.org (Postfix) with ESMTP id 8083843F74
	for <public@inbox.dpdk.org>; Fri,  3 May 2024 10:32:34 +0200 (CEST)
Received: from mails.dpdk.org (localhost [127.0.0.1])
	by mails.dpdk.org (Postfix) with ESMTP id 79478402D1;
	Fri,  3 May 2024 10:32:34 +0200 (CEST)
Received: from mail-ua1-f97.google.com (mail-ua1-f97.google.com
 [209.85.222.97]) by mails.dpdk.org (Postfix) with ESMTP id 74455402CF
 for <test-report@dpdk.org>; Fri,  3 May 2024 10:32:33 +0200 (CEST)
Received: by mail-ua1-f97.google.com with SMTP id
 a1e0cc1a2514c-7e128b1ba75so2456591241.3
 for <test-report@dpdk.org>; Fri, 03 May 2024 01:32:33 -0700 (PDT)
DKIM-Signature: v=1; a=rsa-sha256; c=relaxed/relaxed;
 d=iol.unh.edu; s=unh-iol; t=1714725153; x=1715329953; darn=dpdk.org;
 h=references:in-reply-to:cc:to:from:subject:message-id:date:from:to
 :cc:subject:date:message-id:reply-to;
 bh=PQs44ennTfTYANCuxtqh/BHqAYBNs+7dXUgo85rYd/M=;
 b=PoVSYmO8fCXqlWuIFcafEU1nwxp8n/yp4xHlRM+OgcJIT49TdCWEzI8XrYEguK20W9
 2FXcnWpYGexaq96yxZI9vjDZLAQ3B2W8rw5A37j8I11Luxaf2MFldEmLHL6tNWy/cXxP
 CQg2tLIRpaSHkBS2VD/4Ot7llDxttXrqNHCHk=
X-Google-DKIM-Signature: v=1; a=rsa-sha256; c=relaxed/relaxed;
 d=1e100.net; s=20230601; t=1714725153; x=1715329953;
 h=references:in-reply-to:cc:to:from:subject:message-id:date
 :x-gm-message-state:from:to:cc:subject:date:message-id:reply-to;
 bh=PQs44ennTfTYANCuxtqh/BHqAYBNs+7dXUgo85rYd/M=;
 b=oE5GYpwwEIUFEvRJxfefPy6Cv5pLb+S4sGvjaZ3R2T6EseFlMjE8cXRteheftbX4iq
 KvV6e42bTMGhr6FTcCvNyC2fkuZD9fPBH2ZTxb9TG+Nhs5KlGBeeLw1ZKvRydZEmYK27
 yJkzL9ll9fu9r2TbIwOarB9yPnHzGrjbBetUOloMzXckgX1TPjB4EH8FOImYSd/1BDHr
 kMEg6p4LpfzSRXhhp+kSL//pJWJ/s+M4PgX/k86yBoPpND0HYst9XQ2uMms0AZDVtcNF
 B56CV3b9Djv9++G1Yi714Kb6f6TgAQLylOMebp7vHO5d/PcfIwGPcZSB9JWdHpIXliQE
 efhQ==
X-Gm-Message-State: AOJu0YyJMaIX3o2anvRqeG7aneWKS5gz3HzcR04QQERKYl/Ru/+IKEMd
 T2Y2GS3ZvqF4gTCKgg5/Mb9wrSx52hf2jo7INWj8EmL97y/LrPsLEn34JSAHRm6mxPRCMqbFVT+
 LKG253Mz9pdza0jcgQ3i1KU5RW+I7RZO/hbly4EJlbiVRAeRjECiAJXBT
X-Google-Smtp-Source: AGHT+IFEX8J4hXquwL68qJ0te4EiqmqKL94Ztl1QjROMrfRDFSHC5yEmmLNfTgDJ/+TEtr5+BzM9NMbbKdPr
X-Received: by 2002:a67:e8ca:0:b0:47b:b94b:2fe2 with SMTP id
 y10-20020a67e8ca000000b0047bb94b2fe2mr2390441vsn.31.1714725152773; 
 Fri, 03 May 2024 01:32:32 -0700 (PDT)
Received: from postal.iol.unh.edu (postal.iol.unh.edu.
 [2606:4100:3880:1234::84]) by smtp-relay.gmail.com with ESMTPS id
 k16-20020ad44210000000b006a0e7b332b2sm125432qvp.1.2024.05.03.01.32.32
 (version=TLS1_2 cipher=ECDHE-ECDSA-AES128-GCM-SHA256 bits=128/128);
 Fri, 03 May 2024 01:32:32 -0700 (PDT)
X-Relaying-Domain: iol.unh.edu
Date: Fri, 03 May 2024 01:32:32 -0700 (PDT)
Message-ID: <6634a120.d40a0220.f7d2b.75e0SMTPIN_ADDED_MISSING@mx.google.com>
Received: from [172.21.0.8] (unknown [172.18.0.240])
 by postal.iol.unh.edu (Postfix) with ESMTP id 7445A6052514;
 Fri,  3 May 2024 04:32:32 -0400 (EDT)
Subject: |SUCCESS| pw139809-139812 [PATCH] [v2,5/5] baseband/acc: cosmetic lo
From: dpdklab@iol.unh.edu
To: Test Report <test-report@dpdk.org>
Cc: dpdk-test-reports@iol.unh.edu
In-Reply-To: <20240502204548.236729-6-hernan.vargas@intel.com>
References: <20240502204548.236729-6-hernan.vargas@intel.com>
Content-Type: text/plain
X-BeenThere: test-report@dpdk.org
X-Mailman-Version: 2.1.29
Precedence: list
List-Id: automatic DPDK test reports <test-report.dpdk.org>
List-Unsubscribe: <https://mails.dpdk.org/options/test-report>,
 <mailto:test-report-request@dpdk.org?subject=unsubscribe>
List-Archive: <http://mails.dpdk.org/archives/test-report/>
List-Post: <mailto:test-report@dpdk.org>
List-Help: <mailto:test-report-request@dpdk.org?subject=help>
List-Subscribe: <https://mails.dpdk.org/listinfo/test-report>,
 <mailto:test-report-request@dpdk.org?subject=subscribe>
Errors-To: test-report-bounces@dpdk.org

Test-Label: iol-compile-arm64-testing
Test-Status: SUCCESS
http://dpdk.org/patch/139812

_Testing PASS_

Submitter: Hernan Vargas <hernan.vargas@intel.com>
Date: Thursday, May 02 2024 20:45:48 
DPDK git baseline: Repo:dpdk
  Branch: master
  CommitID:98b4ecb4e4d73e93fdfa53f552b48d71104b445f

139809-139812 --> testing pass

Test environment and result as below:

+----------------------+--------------------+
|     Environment      | dpdk_meson_compile |
+======================+====================+
| Ubuntu 20.04 ARM SVE | PASS               |
+----------------------+--------------------+
| Debian 12 with MUSDK | PASS               |
+----------------------+--------------------+
| Fedora 37 (ARM)      | PASS               |
+----------------------+--------------------+


Ubuntu 20.04 ARM SVE
	Kernel: 5.4.0-167-generic
	Compiler: gcc (Ubuntu 10.5.0-1ubuntu1~20.04) 10.5.0

Debian 12 with MUSDK
	Kernel: Container Host Kernel
	Compiler: gcc 12.2.0

Fedora 37 (ARM)
	Kernel: Depends on container host
	Compiler: gcc 12.3.1

To view detailed results, visit:
https://lab.dpdk.org/results/dashboard/patchsets/29903/

UNH-IOL DPDK Community Lab

To manage your email subscriptions, visit: 
https://lab.dpdk.org/results/dashboard/preferences/subscriptions/