From mboxrd@z Thu Jan  1 00:00:00 1970
Return-Path: <test-report-bounces@dpdk.org>
Received: from mails.dpdk.org (mails.dpdk.org [217.70.189.124])
	by inbox.dpdk.org (Postfix) with ESMTP id C58B143F74
	for <public@inbox.dpdk.org>; Fri,  3 May 2024 10:38:54 +0200 (CEST)
Received: from mails.dpdk.org (localhost [127.0.0.1])
	by mails.dpdk.org (Postfix) with ESMTP id C0737402D1;
	Fri,  3 May 2024 10:38:54 +0200 (CEST)
Received: from mail-yw1-f226.google.com (mail-yw1-f226.google.com
 [209.85.128.226])
 by mails.dpdk.org (Postfix) with ESMTP id E569B402CF
 for <test-report@dpdk.org>; Fri,  3 May 2024 10:38:53 +0200 (CEST)
Received: by mail-yw1-f226.google.com with SMTP id
 00721157ae682-61be613d903so51205317b3.0
 for <test-report@dpdk.org>; Fri, 03 May 2024 01:38:53 -0700 (PDT)
DKIM-Signature: v=1; a=rsa-sha256; c=relaxed/relaxed;
 d=iol.unh.edu; s=unh-iol; t=1714725533; x=1715330333; darn=dpdk.org;
 h=references:in-reply-to:cc:to:from:subject:message-id:date:from:to
 :cc:subject:date:message-id:reply-to;
 bh=3u6aLEwOlx0HS5BruaVoiCEo3aZiAE/++zTcOCJOmCs=;
 b=FKUPFzPpLWVfsGbMmUlJQavQvQYP28MQWEMbn28hNmJqpnxlvVWL/vFP6Eyz+Qzsca
 YifhXd7IZKhw5g1R3vv05M1BX77eINMQBXtW+kjvuLLaA1TkAC9WqZkC4m6sAd+FxINK
 uZhPJHHODi6Ys2hWGHXQgfdX2aMAgGEkqXS/g=
X-Google-DKIM-Signature: v=1; a=rsa-sha256; c=relaxed/relaxed;
 d=1e100.net; s=20230601; t=1714725533; x=1715330333;
 h=references:in-reply-to:cc:to:from:subject:message-id:date
 :x-gm-message-state:from:to:cc:subject:date:message-id:reply-to;
 bh=3u6aLEwOlx0HS5BruaVoiCEo3aZiAE/++zTcOCJOmCs=;
 b=EWxrwz/65wgN8W0qCLInANun2nQKMXDXH3oMAWlHyJbArCL1hIs43+dk+RUEG3YT8x
 Cxg9yNfj6Sy4StlcsiyMc7ACXIp2gzKnbavOxxvE09lpDzQ9X+j8Caxg9w6Ob3SRWo7T
 dh2GBHgCq0ChgnEFEWr2Q75maNp52XoNAAHgVUyLDsplZxEiAVCgt1oTduyTjsDUgwZ+
 ze4eCZFYxNCGwPeAqRfpis+DSk7MHVauoXNEu1Z+YF8oTPk51FAE6bSeMooFGo4O+z7y
 AnbEtXNGuASBQ5EpUv3eH0Ou0AmBTgGkeI4NeYhkFgzPox2YhrRbDLq3mp0aOAHsXHic
 1JSQ==
X-Gm-Message-State: AOJu0Yzox5V94tE9kuJvd8pQdLSy0dS8fAUEnF6xUS8n3hxN0sqG011S
 +zLshj9ChimlArlBIAHTvnr0x+qeeVU3KJOA6+ngKcTlTMxbCKV9bRL1uyXb57h7X8bY5rLi+QV
 LMfKrpBQeZPqiBu8xoQZ/vrqC0xYMh6AW0ACw/55P
X-Google-Smtp-Source: AGHT+IEnJK2+8ioYSPf//fvW6mHKzbWP45eMj4mSAxXK4O8DqjTBqzNKps0QMYVtBlRxUM3CR3AGwhpq4Mb3
X-Received: by 2002:a0d:d7d1:0:b0:615:1fe7:2994 with SMTP id
 z200-20020a0dd7d1000000b006151fe72994mr1627118ywd.39.1714725533313; 
 Fri, 03 May 2024 01:38:53 -0700 (PDT)
Received: from postal.iol.unh.edu (postal.iol.unh.edu. [132.177.123.84])
 by smtp-relay.gmail.com with ESMTPS id
 c80-20020a814e53000000b0061575bdcc10sm210399ywb.62.2024.05.03.01.38.53
 (version=TLS1_2 cipher=ECDHE-ECDSA-AES128-GCM-SHA256 bits=128/128);
 Fri, 03 May 2024 01:38:53 -0700 (PDT)
X-Relaying-Domain: iol.unh.edu
Date: Fri, 03 May 2024 01:38:53 -0700 (PDT)
Message-ID: <6634a29d.810a0220.7710f.c421SMTPIN_ADDED_MISSING@mx.google.com>
Received: from [172.21.0.6] (unknown [172.18.0.240])
 by postal.iol.unh.edu (Postfix) with ESMTP id EF85C6052514;
 Fri,  3 May 2024 04:38:52 -0400 (EDT)
Subject: |SUCCESS| pw139814-139825 [PATCH] [v12,12/12] net/tap: update docume
From: dpdklab@iol.unh.edu
To: Test Report <test-report@dpdk.org>
Cc: dpdk-test-reports@iol.unh.edu
In-Reply-To: <20240502213618.11391-13-stephen@networkplumber.org>
References: <20240502213618.11391-13-stephen@networkplumber.org>
Content-Type: text/plain
X-BeenThere: test-report@dpdk.org
X-Mailman-Version: 2.1.29
Precedence: list
List-Id: automatic DPDK test reports <test-report.dpdk.org>
List-Unsubscribe: <https://mails.dpdk.org/options/test-report>,
 <mailto:test-report-request@dpdk.org?subject=unsubscribe>
List-Archive: <http://mails.dpdk.org/archives/test-report/>
List-Post: <mailto:test-report@dpdk.org>
List-Help: <mailto:test-report-request@dpdk.org?subject=help>
List-Subscribe: <https://mails.dpdk.org/listinfo/test-report>,
 <mailto:test-report-request@dpdk.org?subject=subscribe>
Errors-To: test-report-bounces@dpdk.org

Test-Label: iol-compile-arm64-testing
Test-Status: SUCCESS
http://dpdk.org/patch/139825

_Testing PASS_

Submitter: Stephen Hemminger <stephen@networkplumber.org>
Date: Thursday, May 02 2024 21:31:48 
DPDK git baseline: Repo:dpdk
  Branch: master
  CommitID:7e06c0de1952d3109a5b0c4779d7e7d8059c9d78

139814-139825 --> testing pass

Test environment and result as below:

+----------------------------------------+--------------------+
|              Environment               | dpdk_meson_compile |
+========================================+====================+
| Ubuntu 20.04 ARM SVE                   | PASS               |
+----------------------------------------+--------------------+
| Debian 12 with MUSDK                   | PASS               |
+----------------------------------------+--------------------+
| Fedora 38 (ARM)                        | PASS               |
+----------------------------------------+--------------------+
| Fedora 37 (ARM)                        | PASS               |
+----------------------------------------+--------------------+
| Ubuntu 20.04 (ARM)                     | PASS               |
+----------------------------------------+--------------------+
| Fedora 39 (ARM)                        | PASS               |
+----------------------------------------+--------------------+
| CentOS Stream 9 (ARM)                  | PASS               |
+----------------------------------------+--------------------+
| Debian 11 (Buster) (ARM)               | PASS               |
+----------------------------------------+--------------------+
| Debian 12 (arm)                        | PASS               |
+----------------------------------------+--------------------+
| Ubuntu 20.04 aarch32 GCC Cross Compile | PASS               |
+----------------------------------------+--------------------+


Ubuntu 20.04 ARM SVE
	Kernel: 5.4.0-167-generic
	Compiler: gcc (Ubuntu 10.5.0-1ubuntu1~20.04) 10.5.0

Debian 12 with MUSDK
	Kernel: Container Host Kernel
	Compiler: gcc 12.2.0

Fedora 38 (ARM)
	Kernel: Depends on container host
	Compiler: gcc 13.2.1

Fedora 37 (ARM)
	Kernel: Depends on container host
	Compiler: gcc 12.3.1

Ubuntu 20.04 (ARM)
	Kernel: Container Host Kernel
	Compiler: gcc 9.4.0

Fedora 39 (ARM)
	Kernel: Depends on container host
	Compiler: gcc 13.2.1

CentOS Stream 9 (ARM)
	Kernel: Container Host Kernel
	Compiler: gcc 11.4.1

Debian 11 (Buster) (ARM)
	Kernel: Container Host Kernel
	Compiler: gcc 10.2.1

Debian 12 (arm)
	Kernel: Container Host Kernel
	Compiler: gcc 12.2.0

Ubuntu 20.04 aarch32 GCC Cross Compile
	Kernel: 5.4.0-167-generic
	Compiler: gcc 9.4.0

To view detailed results, visit:
https://lab.dpdk.org/results/dashboard/patchsets/29904/

UNH-IOL DPDK Community Lab

To manage your email subscriptions, visit: 
https://lab.dpdk.org/results/dashboard/preferences/subscriptions/