From mboxrd@z Thu Jan  1 00:00:00 1970
Return-Path: <test-report-bounces@dpdk.org>
Received: from mails.dpdk.org (mails.dpdk.org [217.70.189.124])
	by inbox.dpdk.org (Postfix) with ESMTP id 9A47F43F74
	for <public@inbox.dpdk.org>; Fri,  3 May 2024 10:47:59 +0200 (CEST)
Received: from mails.dpdk.org (localhost [127.0.0.1])
	by mails.dpdk.org (Postfix) with ESMTP id 962CE402D1;
	Fri,  3 May 2024 10:47:59 +0200 (CEST)
Received: from mail-io1-f97.google.com (mail-io1-f97.google.com
 [209.85.166.97]) by mails.dpdk.org (Postfix) with ESMTP id 534CD402CF
 for <test-report@dpdk.org>; Fri,  3 May 2024 10:47:58 +0200 (CEST)
Received: by mail-io1-f97.google.com with SMTP id
 ca18e2360f4ac-7d5e4097a9aso365291439f.3
 for <test-report@dpdk.org>; Fri, 03 May 2024 01:47:58 -0700 (PDT)
DKIM-Signature: v=1; a=rsa-sha256; c=relaxed/relaxed;
 d=iol.unh.edu; s=unh-iol; t=1714726077; x=1715330877; darn=dpdk.org;
 h=references:in-reply-to:cc:to:from:subject:message-id:date:from:to
 :cc:subject:date:message-id:reply-to;
 bh=aDhMn84bzr6ur5acqtaOiirSlqjgPEZyzer7mXgLiFA=;
 b=XhKZbC1VpjXy7aCMVmDEK1WjfGqgbqaX2eiIN2Xt5vpSJazJstcqaEciCeO/S0Obzn
 V+RBb80AQOrwseyZXpstEet1zjGsrsp1uwUeKS6iiq/A4a2p/MZlapbfM9SZZ1LLkDYf
 hxTjfFj0FU2SNHARMTRwzaXYwX5QQWYI1UYXw=
X-Google-DKIM-Signature: v=1; a=rsa-sha256; c=relaxed/relaxed;
 d=1e100.net; s=20230601; t=1714726077; x=1715330877;
 h=references:in-reply-to:cc:to:from:subject:message-id:date
 :x-gm-message-state:from:to:cc:subject:date:message-id:reply-to;
 bh=aDhMn84bzr6ur5acqtaOiirSlqjgPEZyzer7mXgLiFA=;
 b=Rd2cuxYlBKkawG0Lfs797HahPo6bx/kBGtsC4hr9igEEiV2+DJCy4BZjfa5yJEjrcG
 CIMFAYkvVXFi4Do641fx+d3FnEwzIH88m4HYpEc8XcMcB2/irbe+nlP5PWjgQIvJZx5W
 6UUFnT0HT9waLil6O7dTOVgoGzD8IAXjfp9kmLKkIRn8/XKF4meKrQ+kQ1VgM7nc8BqW
 WzZxE2I3qPWlqnspLMTep+Am1HPWg/tPJo1/ag43AiyKWbVJIS/3xIiZC+ud6uRJmmGp
 IJDSLb/yoKfDmYX94MJsDZZS2wX4Hy5YeB0pJR+XmQoAASInQFSYpOtUECuY72n4CAkm
 WQbQ==
X-Gm-Message-State: AOJu0YyVjeA2siUsXMVDnoxLtuLtBtlPHe4AvPlg9DjFBPGwsR3R+IJI
 8X14EhK/mWZhvCXLkMXbjiNbSqMWH3XCaxMU7VPI3BzDc78wuyDEl3IgZyp/2vPHy8sz0gO7RXs
 hG5r0QQc8bxSMlDNf/5hE+fk4ys/sb6fT813uPl/rTl/w5qZjuNUNrOQ+
X-Google-Smtp-Source: AGHT+IGs+yz8VHemnmpQiZ3y91LTErU9GtZjVk+jaLXJMKfeTjx4/QRebXxWSrakG/I1xpfZEGSA+l/IrNxV
X-Received: by 2002:a05:6e02:156a:b0:36c:5fe0:bf46 with SMTP id
 k10-20020a056e02156a00b0036c5fe0bf46mr2398103ilu.31.1714726077735; 
 Fri, 03 May 2024 01:47:57 -0700 (PDT)
Received: from postal.iol.unh.edu (postal.iol.unh.edu.
 [2606:4100:3880:1234::84]) by smtp-relay.gmail.com with ESMTPS id
 n8-20020a92d9c8000000b0036c4e29f4cfsm114109ilq.30.2024.05.03.01.47.57
 (version=TLS1_2 cipher=ECDHE-ECDSA-AES128-GCM-SHA256 bits=128/128);
 Fri, 03 May 2024 01:47:57 -0700 (PDT)
X-Relaying-Domain: iol.unh.edu
Date: Fri, 03 May 2024 01:47:57 -0700 (PDT)
Message-ID: <6634a4bd.920a0220.a2b39.7faeSMTPIN_ADDED_MISSING@mx.google.com>
Received: from [172.21.0.7] (unknown [172.18.0.240])
 by postal.iol.unh.edu (Postfix) with ESMTP id 40B1E6052514;
 Fri,  3 May 2024 04:47:57 -0400 (EDT)
Subject: |SUCCESS| pw139814-139825 [PATCH] [v12,12/12] net/tap: update docume
From: dpdklab@iol.unh.edu
To: Test Report <test-report@dpdk.org>
Cc: dpdk-test-reports@iol.unh.edu
In-Reply-To: <20240502213618.11391-13-stephen@networkplumber.org>
References: <20240502213618.11391-13-stephen@networkplumber.org>
Content-Type: text/plain
X-BeenThere: test-report@dpdk.org
X-Mailman-Version: 2.1.29
Precedence: list
List-Id: automatic DPDK test reports <test-report.dpdk.org>
List-Unsubscribe: <https://mails.dpdk.org/options/test-report>,
 <mailto:test-report-request@dpdk.org?subject=unsubscribe>
List-Archive: <http://mails.dpdk.org/archives/test-report/>
List-Post: <mailto:test-report@dpdk.org>
List-Help: <mailto:test-report-request@dpdk.org?subject=help>
List-Subscribe: <https://mails.dpdk.org/listinfo/test-report>,
 <mailto:test-report-request@dpdk.org?subject=subscribe>
Errors-To: test-report-bounces@dpdk.org

Test-Label: iol-compile-amd64-testing
Test-Status: SUCCESS
http://dpdk.org/patch/139825

_Testing PASS_

Submitter: Stephen Hemminger <stephen@networkplumber.org>
Date: Thursday, May 02 2024 21:31:48 
DPDK git baseline: Repo:dpdk
  Branch: master
  CommitID:7e06c0de1952d3109a5b0c4779d7e7d8059c9d78

139814-139825 --> testing pass

Test environment and result as below:

+---------------------+--------------------+----------------------+-------------------+
|     Environment     | dpdk_meson_compile | dpdk_mingw64_compile | dpdk_msvc_compile |
+=====================+====================+======================+===================+
| FreeBSD 13.3        | PASS               | SKIPPED              | SKIPPED           |
+---------------------+--------------------+----------------------+-------------------+
| Windows Server 2019 | PASS               | PASS                 | SKIPPED           |
+---------------------+--------------------+----------------------+-------------------+
| Windows Server 2022 | PASS               | PASS                 | PASS              |
+---------------------+--------------------+----------------------+-------------------+
| FreeBSD 14.0        | PASS               | SKIPPED              | SKIPPED           |
+---------------------+--------------------+----------------------+-------------------+
| CentOS Stream 8     | PASS               | SKIPPED              | SKIPPED           |
+---------------------+--------------------+----------------------+-------------------+
| Debian Bullseye     | PASS               | SKIPPED              | SKIPPED           |
+---------------------+--------------------+----------------------+-------------------+
| CentOS Stream 9     | PASS               | SKIPPED              | SKIPPED           |
+---------------------+--------------------+----------------------+-------------------+
| Debian 12           | PASS               | SKIPPED              | SKIPPED           |
+---------------------+--------------------+----------------------+-------------------+
| Fedora 37           | PASS               | SKIPPED              | SKIPPED           |
+---------------------+--------------------+----------------------+-------------------+
| Fedora 38           | PASS               | SKIPPED              | SKIPPED           |
+---------------------+--------------------+----------------------+-------------------+
| Fedora 39           | PASS               | SKIPPED              | SKIPPED           |
+---------------------+--------------------+----------------------+-------------------+
| openSUSE Leap 15    | PASS               | SKIPPED              | SKIPPED           |
+---------------------+--------------------+----------------------+-------------------+
| RHEL8               | PASS               | SKIPPED              | SKIPPED           |
+---------------------+--------------------+----------------------+-------------------+
| Ubuntu 20.04        | PASS               | SKIPPED              | SKIPPED           |
+---------------------+--------------------+----------------------+-------------------+
| Ubuntu 22.04        | PASS               | SKIPPED              | SKIPPED           |
+---------------------+--------------------+----------------------+-------------------+


FreeBSD 13.3
	Kernel: 13.3-RELEASE-p1
	Compiler: clang 17.0.6

Windows Server 2019
	Kernel: 10.0.17763
	Compiler: clang 14.0 and gcc 8.1.0 (MinGW)

Windows Server 2022
	Kernel: 10.0.20348.2031
	Compiler: clang 15.0.7, gcc 8.1.0 (MinGW), and MSVC VS 17.9

FreeBSD 14.0
	Kernel: 14.0
	Compiler: clang 16.0.6

CentOS Stream 8
	Kernel: 5.4.0-167-generic
	Compiler: gcc 8.5.0 20210514

Debian Bullseye
	Kernel: 5.4.0-167-generic
	Compiler: gcc 10.2.1-6

CentOS Stream 9
	Kernel: 5.4.0-167-generic
	Compiler: gcc 11.4.1 20230605

Debian 12
	Kernel: Container Host Kernel
	Compiler: gcc 10.2.1

Fedora 37
	Kernel: Depends on container host system
	Compiler: gcc 12.3.1

Fedora 38
	Kernel: Depends on container host
	Compiler: gcc 13.2.1

Fedora 39
	Kernel: Depends on container host
	Compiler: gcc 13.2.1

openSUSE Leap 15
	Kernel: 5.4.0-167-generic
	Compiler: gcc 7.5.0

RHEL8
	Kernel: 5.4.0-167-generic
	Compiler: gcc 8.5.0 20210514 (Red Hat 8.5.0-20)

Ubuntu 20.04
	Kernel: 5.4.0-167-generic
	Compiler: gcc 9.4.0-1ubuntu1~20.04.1

Ubuntu 22.04
	Kernel: 5.4.0-167-generic
	Compiler: gcc 11.4.0

To view detailed results, visit:
https://lab.dpdk.org/results/dashboard/patchsets/29904/

UNH-IOL DPDK Community Lab

To manage your email subscriptions, visit: 
https://lab.dpdk.org/results/dashboard/preferences/subscriptions/