From mboxrd@z Thu Jan  1 00:00:00 1970
Return-Path: <test-report-bounces@dpdk.org>
Received: from mails.dpdk.org (mails.dpdk.org [217.70.189.124])
	by inbox.dpdk.org (Postfix) with ESMTP id 00B4B43F74
	for <public@inbox.dpdk.org>; Fri,  3 May 2024 11:37:18 +0200 (CEST)
Received: from mails.dpdk.org (localhost [127.0.0.1])
	by mails.dpdk.org (Postfix) with ESMTP id F02B8402D0;
	Fri,  3 May 2024 11:37:18 +0200 (CEST)
Received: from mail-yb1-f228.google.com (mail-yb1-f228.google.com
 [209.85.219.228])
 by mails.dpdk.org (Postfix) with ESMTP id CDF92402C5
 for <test-report@dpdk.org>; Fri,  3 May 2024 11:37:15 +0200 (CEST)
Received: by mail-yb1-f228.google.com with SMTP id
 3f1490d57ef6-dcc6fc978ddso2491482276.0
 for <test-report@dpdk.org>; Fri, 03 May 2024 02:37:15 -0700 (PDT)
DKIM-Signature: v=1; a=rsa-sha256; c=relaxed/relaxed;
 d=iol.unh.edu; s=unh-iol; t=1714729035; x=1715333835; darn=dpdk.org;
 h=references:in-reply-to:cc:to:from:subject:message-id:date:from:to
 :cc:subject:date:message-id:reply-to;
 bh=zqBd7qL23r1cmWAu2rfWvA6t6DYQhBtSm1tu6+chB4I=;
 b=d0W+8s1UZ5nk5hyvkyWbAIuaIIefFqeJz2v0Ygj+aNbGuO8SYsvgU4a1R/Vl3KElBk
 +qCZqJpz68jBiXVl8wt4m7ImAOwapRP1PjjklBc3QdbNYlKG9p6wa2cqzPd2jOT7V8R/
 VeCirn9YlfIfupK7XArNC7I3sGilDWQVDf8JE=
X-Google-DKIM-Signature: v=1; a=rsa-sha256; c=relaxed/relaxed;
 d=1e100.net; s=20230601; t=1714729035; x=1715333835;
 h=references:in-reply-to:cc:to:from:subject:message-id:date
 :x-gm-message-state:from:to:cc:subject:date:message-id:reply-to;
 bh=zqBd7qL23r1cmWAu2rfWvA6t6DYQhBtSm1tu6+chB4I=;
 b=YRvgib7NF+ezIFVegg2481gptaq9B6Ki3e/oYInoBAgU0ePPNvJ67zPPPBWxnDqTWY
 phRWNji8tHmLx7OdleFA4oWz0Za0g6seRrl/A1dPG8CV1A7B/DhZShdCP9TKeseipL7D
 PgFa5rcsZLq1s1WX521rgKD19KcwnWd/FomdooCwUsgs5KOsOufju+yo8e6bW7qYIYnD
 zkVekXFKp5QxE9auOAvMLnYDN7LDbTDTKmQUM5C44JOnkMW+WkLTr9+WcKuGItHy+PTS
 Kw3t1yNr9Rpz6habtjPomr7TaECQwYC8STlECFsQxQHxyS6un6nLvJgYePgZD4nNJUam
 tPXw==
X-Gm-Message-State: AOJu0Yzf4+mQlkXq1jLG5u6fL//P/LqAzHYgWyN2bTJpRForEho/qZSk
 6DYmhdbpLd+ARqdDKq7aiek03jFvDuUcqgrI5Sy7QBC61j4/SXyNa8AtnIZEWqsaqSwCMsgEOUP
 YiliuC/eQcnWpU7+8V77WsQMbZJCEDBUFoLL2NOkN
X-Google-Smtp-Source: AGHT+IG0aEDASPAcsGmhlmvvzxxBxrJ1Pg9mrLcDZA10H9ZxWfPWN4dlNCNPpHMywxPmTPZHKvIpVgHV0r4J
X-Received: by 2002:a05:6902:168a:b0:de4:5d7f:a771 with SMTP id
 bx10-20020a056902168a00b00de45d7fa771mr3500028ybb.2.1714729035238; 
 Fri, 03 May 2024 02:37:15 -0700 (PDT)
Received: from postal.iol.unh.edu (postal.iol.unh.edu. [132.177.123.84])
 by smtp-relay.gmail.com with ESMTPS id
 x15-20020a056902102f00b00de4c3fdb07fsm114998ybt.26.2024.05.03.02.37.15
 (version=TLS1_2 cipher=ECDHE-ECDSA-AES128-GCM-SHA256 bits=128/128);
 Fri, 03 May 2024 02:37:15 -0700 (PDT)
X-Relaying-Domain: iol.unh.edu
Date: Fri, 03 May 2024 02:37:15 -0700 (PDT)
Message-ID: <6634b04b.050a0220.5a4e5.6736SMTPIN_ADDED_MISSING@mx.google.com>
Received: from [172.21.0.6] (unknown [172.18.0.240])
 by postal.iol.unh.edu (Postfix) with ESMTP id D73776052514;
 Fri,  3 May 2024 05:37:14 -0400 (EDT)
Subject: |SUCCESS| pw139809-139812 [PATCH] [v2,5/5] baseband/acc: cosmetic lo
From: dpdklab@iol.unh.edu
To: Test Report <test-report@dpdk.org>
Cc: dpdk-test-reports@iol.unh.edu
In-Reply-To: <20240502204548.236729-6-hernan.vargas@intel.com>
References: <20240502204548.236729-6-hernan.vargas@intel.com>
Content-Type: text/plain
X-BeenThere: test-report@dpdk.org
X-Mailman-Version: 2.1.29
Precedence: list
List-Id: automatic DPDK test reports <test-report.dpdk.org>
List-Unsubscribe: <https://mails.dpdk.org/options/test-report>,
 <mailto:test-report-request@dpdk.org?subject=unsubscribe>
List-Archive: <http://mails.dpdk.org/archives/test-report/>
List-Post: <mailto:test-report@dpdk.org>
List-Help: <mailto:test-report-request@dpdk.org?subject=help>
List-Subscribe: <https://mails.dpdk.org/listinfo/test-report>,
 <mailto:test-report-request@dpdk.org?subject=subscribe>
Errors-To: test-report-bounces@dpdk.org

Test-Label: iol-unit-amd64-testing
Test-Status: SUCCESS
http://dpdk.org/patch/139812

_Testing PASS_

Submitter: Hernan Vargas <hernan.vargas@intel.com>
Date: Thursday, May 02 2024 20:45:48 
DPDK git baseline: Repo:dpdk
  Branch: master
  CommitID:98b4ecb4e4d73e93fdfa53f552b48d71104b445f

139809-139812 --> testing pass

Test environment and result as below:

+-----------------+----------------+
|   Environment   | dpdk_unit_test |
+=================+================+
| Debian Bullseye | PASS           |
+-----------------+----------------+
| CentOS Stream 9 | PASS           |
+-----------------+----------------+
| Fedora 38       | PASS           |
+-----------------+----------------+
| Debian 12       | PASS           |
+-----------------+----------------+
| Fedora 37       | PASS           |
+-----------------+----------------+
| Fedora 39       | PASS           |
+-----------------+----------------+
| CentOS Stream 8 | PASS           |
+-----------------+----------------+


Debian Bullseye
	Kernel: 5.4.0-167-generic
	Compiler: gcc 10.2.1-6

CentOS Stream 9
	Kernel: 5.4.0-167-generic
	Compiler: gcc 11.4.1 20230605

Fedora 38
	Kernel: Depends on container host
	Compiler: gcc 13.2.1

Debian 12
	Kernel: Container Host Kernel
	Compiler: gcc 10.2.1

Fedora 37
	Kernel: Depends on container host system
	Compiler: gcc 12.3.1

Fedora 39
	Kernel: Depends on container host
	Compiler: gcc 13.2.1

CentOS Stream 8
	Kernel: 5.4.0-167-generic
	Compiler: gcc 8.5.0 20210514

To view detailed results, visit:
https://lab.dpdk.org/results/dashboard/patchsets/29903/

UNH-IOL DPDK Community Lab

To manage your email subscriptions, visit: 
https://lab.dpdk.org/results/dashboard/preferences/subscriptions/