From mboxrd@z Thu Jan  1 00:00:00 1970
Return-Path: <test-report-bounces@dpdk.org>
Received: from mails.dpdk.org (mails.dpdk.org [217.70.189.124])
	by inbox.dpdk.org (Postfix) with ESMTP id 2D4FB43F74
	for <public@inbox.dpdk.org>; Fri,  3 May 2024 11:40:09 +0200 (CEST)
Received: from mails.dpdk.org (localhost [127.0.0.1])
	by mails.dpdk.org (Postfix) with ESMTP id 248B2402D0;
	Fri,  3 May 2024 11:40:09 +0200 (CEST)
Received: from mail-oi1-f227.google.com (mail-oi1-f227.google.com
 [209.85.167.227])
 by mails.dpdk.org (Postfix) with ESMTP id C6557402C5
 for <test-report@dpdk.org>; Fri,  3 May 2024 11:40:07 +0200 (CEST)
Received: by mail-oi1-f227.google.com with SMTP id
 5614622812f47-3c9539d1bbcso821905b6e.1
 for <test-report@dpdk.org>; Fri, 03 May 2024 02:40:07 -0700 (PDT)
DKIM-Signature: v=1; a=rsa-sha256; c=relaxed/relaxed;
 d=iol.unh.edu; s=unh-iol; t=1714729207; x=1715334007; darn=dpdk.org;
 h=references:in-reply-to:cc:to:from:subject:message-id:date:from:to
 :cc:subject:date:message-id:reply-to;
 bh=XJ5co2LmeAWQ9jkUSisbksCQX4uWUPrR2kurr1afSVE=;
 b=gLXSWA6nCSkVQuGdLWOg4GOZurMAGE2Jy9cg0NCuSK5o4Q0z48vc/B+737eUV9xeSy
 Nz1R1yqAm7SYfdj7f3G0MqNGQxsPSLk8gZR3q/n6k3/A8Pc98tRCRQ1xD7DXw80qn1O1
 LjThOY2nD/C5I0JvOsNnO43KF/fhrj8YafPXk=
X-Google-DKIM-Signature: v=1; a=rsa-sha256; c=relaxed/relaxed;
 d=1e100.net; s=20230601; t=1714729207; x=1715334007;
 h=references:in-reply-to:cc:to:from:subject:message-id:date
 :x-gm-message-state:from:to:cc:subject:date:message-id:reply-to;
 bh=XJ5co2LmeAWQ9jkUSisbksCQX4uWUPrR2kurr1afSVE=;
 b=GMszFNBWmaFPIu42FoZ4x8SV++grC2F1AIrbQU0F/lxvOCl1fX6LeQFcFgKFsMWg+y
 DyqK8jrRrmOinyUVvhvpO9TzfnEGVhETYjAzVbCAc/oT3VdjDO2a8p458+TtuD7TZEiP
 JOz8Hg2LquHS2wGw6KWEPorkSQG1cgCXAekfmw4GFAWFFfZ9LCyATyIgtzJgDQfjFD9s
 AmX6oj0/hGezKqnjS5f026A6Ao3Osqf8qjCrh155g7T0XzkavpNgx8rb/jD7Lkkpo2jL
 Z1WpED+mf3kVKU9/QSb3VlWZAkTIiQzB3ZSTjvQxFMfFTCtw5J3Hhr6HWLKdGvFraBY0
 GEOg==
X-Gm-Message-State: AOJu0YyId6837P0JGlNqG0XDLBu6FV6RX8O2OYugNHFddK5dd/23/3jB
 ehb7ezdPT1Gm2nqm+hD3SLpC4VklQyyXSPCW5dk5pgbIymzabDXjYdtLjNr1+9aSuTh8S3QHIWu
 xDeu+bwVlMz5SXDs6XeLdcCvtjmqED0xLHVxm06mm
X-Google-Smtp-Source: AGHT+IESxgolZuS2BGroEcf3og6vFxiG7+SNdDBLXgRCM93PLFOMYxfPp/R4OkE9J2kMhbKs0F0lmknrATF7
X-Received: by 2002:a05:6808:14ce:b0:3c8:4cf8:a969 with SMTP id
 f14-20020a05680814ce00b003c84cf8a969mr2237341oiw.23.1714729207117; 
 Fri, 03 May 2024 02:40:07 -0700 (PDT)
Received: from postal.iol.unh.edu (postal.iol.unh.edu. [132.177.123.84])
 by smtp-relay.gmail.com with ESMTPS id
 bb7-20020a056820160700b005b1e75d0e98sm9038oob.3.2024.05.03.02.40.07
 (version=TLS1_2 cipher=ECDHE-ECDSA-AES128-GCM-SHA256 bits=128/128);
 Fri, 03 May 2024 02:40:07 -0700 (PDT)
X-Relaying-Domain: iol.unh.edu
Date: Fri, 03 May 2024 02:40:07 -0700 (PDT)
Message-ID: <6634b0f7.050a0220.b8ba0.093aSMTPIN_ADDED_MISSING@mx.google.com>
Received: from [172.17.0.5] (unknown [172.18.0.217])
 by postal.iol.unh.edu (Postfix) with ESMTP id 95AA96052514;
 Fri,  3 May 2024 05:40:06 -0400 (EDT)
Subject: |SUCCESS| pw139809-139812 [PATCH] [v2,5/5] baseband/acc: cosmetic lo
From: dpdklab@iol.unh.edu
To: Test Report <test-report@dpdk.org>
Cc: dpdk-test-reports@iol.unh.edu
In-Reply-To: <20240502204548.236729-6-hernan.vargas@intel.com>
References: <20240502204548.236729-6-hernan.vargas@intel.com>
Content-Type: text/plain
X-BeenThere: test-report@dpdk.org
X-Mailman-Version: 2.1.29
Precedence: list
List-Id: automatic DPDK test reports <test-report.dpdk.org>
List-Unsubscribe: <https://mails.dpdk.org/options/test-report>,
 <mailto:test-report-request@dpdk.org?subject=unsubscribe>
List-Archive: <http://mails.dpdk.org/archives/test-report/>
List-Post: <mailto:test-report@dpdk.org>
List-Help: <mailto:test-report-request@dpdk.org?subject=help>
List-Subscribe: <https://mails.dpdk.org/listinfo/test-report>,
 <mailto:test-report-request@dpdk.org?subject=subscribe>
Errors-To: test-report-bounces@dpdk.org

Test-Label: iol-compile-amd64-testing
Test-Status: SUCCESS
http://dpdk.org/patch/139812

_Testing PASS_

Submitter: Hernan Vargas <hernan.vargas@intel.com>
Date: Thursday, May 02 2024 20:45:48 
DPDK git baseline: Repo:dpdk
  Branch: master
  CommitID:98b4ecb4e4d73e93fdfa53f552b48d71104b445f

139809-139812 --> testing pass

Test environment and result as below:

+---------------------+--------------------+----------------------+-------------------+
|     Environment     | dpdk_meson_compile | dpdk_mingw64_compile | dpdk_msvc_compile |
+=====================+====================+======================+===================+
| FreeBSD 13.3        | PASS               | SKIPPED              | SKIPPED           |
+---------------------+--------------------+----------------------+-------------------+
| FreeBSD 14.0        | PASS               | SKIPPED              | SKIPPED           |
+---------------------+--------------------+----------------------+-------------------+
| Windows Server 2019 | PASS               | PASS                 | SKIPPED           |
+---------------------+--------------------+----------------------+-------------------+
| Windows Server 2022 | PASS               | PASS                 | PASS              |
+---------------------+--------------------+----------------------+-------------------+
| CentOS Stream 9     | PASS               | SKIPPED              | SKIPPED           |
+---------------------+--------------------+----------------------+-------------------+
| Debian 12           | PASS               | SKIPPED              | SKIPPED           |
+---------------------+--------------------+----------------------+-------------------+
| Debian Bullseye     | PASS               | SKIPPED              | SKIPPED           |
+---------------------+--------------------+----------------------+-------------------+
| Fedora 37           | PASS               | SKIPPED              | SKIPPED           |
+---------------------+--------------------+----------------------+-------------------+
| CentOS Stream 8     | PASS               | SKIPPED              | SKIPPED           |
+---------------------+--------------------+----------------------+-------------------+
| Fedora 38           | PASS               | SKIPPED              | SKIPPED           |
+---------------------+--------------------+----------------------+-------------------+
| Fedora 39           | PASS               | SKIPPED              | SKIPPED           |
+---------------------+--------------------+----------------------+-------------------+
| Ubuntu 22.04        | PASS               | SKIPPED              | SKIPPED           |
+---------------------+--------------------+----------------------+-------------------+
| Ubuntu 20.04        | PASS               | SKIPPED              | SKIPPED           |
+---------------------+--------------------+----------------------+-------------------+


FreeBSD 13.3
	Kernel: 13.3-RELEASE-p1
	Compiler: clang 17.0.6

FreeBSD 14.0
	Kernel: 14.0
	Compiler: clang 16.0.6

Windows Server 2019
	Kernel: 10.0.17763
	Compiler: clang 14.0 and gcc 8.1.0 (MinGW)

Windows Server 2022
	Kernel: 10.0.20348.2031
	Compiler: clang 15.0.7, gcc 8.1.0 (MinGW), and MSVC VS 17.9

CentOS Stream 9
	Kernel: 5.4.0-167-generic
	Compiler: gcc 11.4.1 20230605

Debian 12
	Kernel: Container Host Kernel
	Compiler: gcc 10.2.1

Debian Bullseye
	Kernel: 5.4.0-167-generic
	Compiler: gcc 10.2.1-6

Fedora 37
	Kernel: Depends on container host system
	Compiler: gcc 12.3.1

CentOS Stream 8
	Kernel: 5.4.0-167-generic
	Compiler: gcc 8.5.0 20210514

Fedora 38
	Kernel: Depends on container host
	Compiler: gcc 13.2.1

Fedora 39
	Kernel: Depends on container host
	Compiler: gcc 13.2.1

Ubuntu 22.04
	Kernel: 5.4.0-167-generic
	Compiler: gcc 11.4.0

Ubuntu 20.04
	Kernel: 5.4.0-167-generic
	Compiler: gcc 9.4.0-1ubuntu1~20.04.1

To view detailed results, visit:
https://lab.dpdk.org/results/dashboard/patchsets/29903/

UNH-IOL DPDK Community Lab

To manage your email subscriptions, visit: 
https://lab.dpdk.org/results/dashboard/preferences/subscriptions/