From mboxrd@z Thu Jan  1 00:00:00 1970
Return-Path: <test-report-bounces@dpdk.org>
Received: from mails.dpdk.org (mails.dpdk.org [217.70.189.124])
	by inbox.dpdk.org (Postfix) with ESMTP id 41A1E43F74
	for <public@inbox.dpdk.org>; Fri,  3 May 2024 11:40:25 +0200 (CEST)
Received: from mails.dpdk.org (localhost [127.0.0.1])
	by mails.dpdk.org (Postfix) with ESMTP id 3DE5C402D0;
	Fri,  3 May 2024 11:40:25 +0200 (CEST)
Received: from mail-ot1-f98.google.com (mail-ot1-f98.google.com
 [209.85.210.98]) by mails.dpdk.org (Postfix) with ESMTP id DB368402C5
 for <test-report@dpdk.org>; Fri,  3 May 2024 11:40:23 +0200 (CEST)
Received: by mail-ot1-f98.google.com with SMTP id
 46e09a7af769-6ef87e934f3so2097495a34.3
 for <test-report@dpdk.org>; Fri, 03 May 2024 02:40:23 -0700 (PDT)
DKIM-Signature: v=1; a=rsa-sha256; c=relaxed/relaxed;
 d=iol.unh.edu; s=unh-iol; t=1714729223; x=1715334023; darn=dpdk.org;
 h=references:in-reply-to:cc:to:from:subject:message-id:date:from:to
 :cc:subject:date:message-id:reply-to;
 bh=SZfFEgQFICZh8+N+01d8Kk9kQTkrtMm/MofLnvnWLsI=;
 b=fLDPawqOvU6pDEJ7hCjgrIsLRvTc4axazkiWvuGscuYMhScR6Aoa8lNtv/LoBYFMT7
 s6DwVBeu96bYfpRoVssdB4SWdbGvFIwIf4n9Ntw7JvVQygX2Ei3UPzSe4E+eDGXF8jSJ
 /wqALofZAtAngDnX4bCpPces/ZhIJT1b3JEsc=
X-Google-DKIM-Signature: v=1; a=rsa-sha256; c=relaxed/relaxed;
 d=1e100.net; s=20230601; t=1714729223; x=1715334023;
 h=references:in-reply-to:cc:to:from:subject:message-id:date
 :x-gm-message-state:from:to:cc:subject:date:message-id:reply-to;
 bh=SZfFEgQFICZh8+N+01d8Kk9kQTkrtMm/MofLnvnWLsI=;
 b=DuyoXjCBY5d0Uk1WeWeVcXKcVmW9oUjtDiHBUVDR5xBQVl7zu2L4vSgFSzHCZ+4f4L
 prEQlA4Tqio6TwG11NZrlM/KD5Eq344V6Mnylv9gwVz8o8GUo2G2q+jLye1vYXPWHnk9
 L3KaizR8eJZBtLHnYmFlnr2bLKYC48SZoV6ro5hLjZXFUC0hxPOMtUpiBN6fEAJlZy5P
 11cjpxOObcDlq9tr0WzT0F1u33G8euk6nPWVN4qvzH2sGyO2l6AIlYy/qJpx1rnqk6ji
 afLGJoPZd+DX4dynlZM8unoReUGTqx/i9AKQ5p3c+Bt6jcX4UcA0120o9OsoRG3DbDho
 FXfQ==
X-Gm-Message-State: AOJu0YwN8RlhagxblFUQolPlRuqmXkmS8gyppdpQHCF9jmw0YMFJ0BXX
 5Y8Vt8uQ88Xhb7RPBIbV3FzEZFko9gRGwshX7YO+bXnuAbZmJMrZn5iWbJGxi7XpHtugV603vpX
 l1AJRnQiMu8O7ndFrvy0GH3gTk9v+p88ypsDwaUdk
X-Google-Smtp-Source: AGHT+IHyFcMWTYn+xHn11YhHPdR+dZoAp9mRIPmNQjsWKZvuZUFK5o5vziUYYYtXipL5rbBO0K74iAFsAVEf
X-Received: by 2002:a9d:6457:0:b0:6ee:2cb3:1fda with SMTP id
 m23-20020a9d6457000000b006ee2cb31fdamr2207392otl.22.1714729223176; 
 Fri, 03 May 2024 02:40:23 -0700 (PDT)
Received: from postal.iol.unh.edu (postal.iol.unh.edu. [132.177.123.84])
 by smtp-relay.gmail.com with ESMTPS id
 31-20020a63145f000000b005d8bff21b44sm203016pgu.33.2024.05.03.02.40.23
 (version=TLS1_2 cipher=ECDHE-ECDSA-AES128-GCM-SHA256 bits=128/128);
 Fri, 03 May 2024 02:40:23 -0700 (PDT)
X-Relaying-Domain: iol.unh.edu
Date: Fri, 03 May 2024 02:40:23 -0700 (PDT)
Message-ID: <6634b107.630a0220.8f526.c155SMTPIN_ADDED_MISSING@mx.google.com>
Received: from [172.21.0.9] (unknown [172.18.0.240])
 by postal.iol.unh.edu (Postfix) with ESMTP id 67C326052514;
 Fri,  3 May 2024 05:40:22 -0400 (EDT)
Subject: |SUCCESS| pw139809-139812 [PATCH] [v2,5/5] baseband/acc: cosmetic lo
From: dpdklab@iol.unh.edu
To: Test Report <test-report@dpdk.org>
Cc: dpdk-test-reports@iol.unh.edu
In-Reply-To: <20240502204548.236729-6-hernan.vargas@intel.com>
References: <20240502204548.236729-6-hernan.vargas@intel.com>
Content-Type: text/plain
X-BeenThere: test-report@dpdk.org
X-Mailman-Version: 2.1.29
Precedence: list
List-Id: automatic DPDK test reports <test-report.dpdk.org>
List-Unsubscribe: <https://mails.dpdk.org/options/test-report>,
 <mailto:test-report-request@dpdk.org?subject=unsubscribe>
List-Archive: <http://mails.dpdk.org/archives/test-report/>
List-Post: <mailto:test-report@dpdk.org>
List-Help: <mailto:test-report-request@dpdk.org?subject=help>
List-Subscribe: <https://mails.dpdk.org/listinfo/test-report>,
 <mailto:test-report-request@dpdk.org?subject=subscribe>
Errors-To: test-report-bounces@dpdk.org

Test-Label: iol-unit-amd64-testing
Test-Status: SUCCESS
http://dpdk.org/patch/139812

_Testing PASS_

Submitter: Hernan Vargas <hernan.vargas@intel.com>
Date: Thursday, May 02 2024 20:45:48 
DPDK git baseline: Repo:dpdk
  Branch: master
  CommitID:98b4ecb4e4d73e93fdfa53f552b48d71104b445f

139809-139812 --> testing pass

Test environment and result as below:

+------------------+----------------+
|   Environment    | dpdk_unit_test |
+==================+================+
| Debian Bullseye  | PASS           |
+------------------+----------------+
| CentOS Stream 9  | PASS           |
+------------------+----------------+
| Fedora 38        | PASS           |
+------------------+----------------+
| Debian 12        | PASS           |
+------------------+----------------+
| Fedora 37        | PASS           |
+------------------+----------------+
| Fedora 39        | PASS           |
+------------------+----------------+
| CentOS Stream 8  | PASS           |
+------------------+----------------+
| openSUSE Leap 15 | PASS           |
+------------------+----------------+


Debian Bullseye
	Kernel: 5.4.0-167-generic
	Compiler: gcc 10.2.1-6

CentOS Stream 9
	Kernel: 5.4.0-167-generic
	Compiler: gcc 11.4.1 20230605

Fedora 38
	Kernel: Depends on container host
	Compiler: gcc 13.2.1

Debian 12
	Kernel: Container Host Kernel
	Compiler: gcc 10.2.1

Fedora 37
	Kernel: Depends on container host system
	Compiler: gcc 12.3.1

Fedora 39
	Kernel: Depends on container host
	Compiler: gcc 13.2.1

CentOS Stream 8
	Kernel: 5.4.0-167-generic
	Compiler: gcc 8.5.0 20210514

openSUSE Leap 15
	Kernel: 5.4.0-167-generic
	Compiler: gcc 7.5.0

To view detailed results, visit:
https://lab.dpdk.org/results/dashboard/patchsets/29903/

UNH-IOL DPDK Community Lab

To manage your email subscriptions, visit: 
https://lab.dpdk.org/results/dashboard/preferences/subscriptions/