From mboxrd@z Thu Jan  1 00:00:00 1970
Return-Path: <test-report-bounces@dpdk.org>
Received: from mails.dpdk.org (mails.dpdk.org [217.70.189.124])
	by inbox.dpdk.org (Postfix) with ESMTP id 058CC43F75
	for <public@inbox.dpdk.org>; Fri,  3 May 2024 12:06:12 +0200 (CEST)
Received: from mails.dpdk.org (localhost [127.0.0.1])
	by mails.dpdk.org (Postfix) with ESMTP id F33E2402D0;
	Fri,  3 May 2024 12:06:11 +0200 (CEST)
Received: from mail-oo1-f97.google.com (mail-oo1-f97.google.com
 [209.85.161.97]) by mails.dpdk.org (Postfix) with ESMTP id D0162402C5
 for <test-report@dpdk.org>; Fri,  3 May 2024 12:06:09 +0200 (CEST)
Received: by mail-oo1-f97.google.com with SMTP id
 006d021491bc7-5aa2bd6f651so6006790eaf.0
 for <test-report@dpdk.org>; Fri, 03 May 2024 03:06:09 -0700 (PDT)
DKIM-Signature: v=1; a=rsa-sha256; c=relaxed/relaxed;
 d=iol.unh.edu; s=unh-iol; t=1714730769; x=1715335569; darn=dpdk.org;
 h=references:in-reply-to:cc:to:from:subject:message-id:date:from:to
 :cc:subject:date:message-id:reply-to;
 bh=MQCm1pxBWeqo+DOoh4gTs1HLv0pp/8Y7cZeNBVHEfaE=;
 b=TIUlaZqxRJPZ5mM58O+3PwcdaDaMjlMO+Ju14e6jSUEe0QVnin/XNVravwJuBNv5pF
 sR/c6PEPaDJgyDAzBNmx/6oR74/dWQJdSlghTuEqOkkcn4wMC49lA/ortFfXXgXc52zX
 hS7koeHo4YvshDOGiQ9VPOXQeDSakyyJmUZCg=
X-Google-DKIM-Signature: v=1; a=rsa-sha256; c=relaxed/relaxed;
 d=1e100.net; s=20230601; t=1714730769; x=1715335569;
 h=references:in-reply-to:cc:to:from:subject:message-id:date
 :x-gm-message-state:from:to:cc:subject:date:message-id:reply-to;
 bh=MQCm1pxBWeqo+DOoh4gTs1HLv0pp/8Y7cZeNBVHEfaE=;
 b=Zt+GzI8h8Z4QXPFGoP5dyRK6s+x0misJdV1jV77aD03sxRL6cwDXC63O26/5TzKI68
 xhO72fTJ0Bvvvn5K7cUHpwh31aEuYR2gj6AAqxyZTWT5SZtvyUqHVZ5fox5iLv2LHK3G
 CUTomV6VobPAtJXQITwqKDVnDtHqyEkMygY/UP24wPy2grkQ49lFJHluzHdwDW/bS1MU
 zTs8/n+a/bTWZUdrnHwCThr/nRa9XztQFh2znAMQPf4FPxzG1SOqWWBZPZ2aARo20I1M
 9QVkFQz1c9DJEkFTcSD/yz5Jw7pLgPnucxx2OyE9/aF/kKgnhk6a9/sAQ6xQ4n0PFBal
 R4lA==
X-Gm-Message-State: AOJu0YyjamNIRD+Onnb77kmALBomJJLnU+8QGvcgfYkrUknPwkJcboXQ
 ryfZmP1zhd5uglwGJoCg0WkCcHY4nbH9xsm/KOI/GJga8ey2mNt+QtBpIM6/HQ8mkvV7G9oRFxW
 H+wR6Qh2z3Qdu8KoNiq/+TLIXQGUXApc9mgCfjXJf+RoEIWfFMVI0Z/kU
X-Google-Smtp-Source: AGHT+IFW3s5TEZZnRMCrinrAqWFfik5x3N9X+6gSU70vcO5ZA03dM4fJj43fC17/7ffQjyfG/eq2GVDPHD+X
X-Received: by 2002:a4a:4e87:0:b0:5af:2f43:1e69 with SMTP id
 r129-20020a4a4e87000000b005af2f431e69mr2180251ooa.8.1714730769200; 
 Fri, 03 May 2024 03:06:09 -0700 (PDT)
Received: from postal.iol.unh.edu (postal.iol.unh.edu.
 [2606:4100:3880:1234::84]) by smtp-relay.gmail.com with ESMTPS id
 y8-20020a4aaa48000000b005ac8b4c0021sm152060oom.13.2024.05.03.03.06.09
 (version=TLS1_2 cipher=ECDHE-ECDSA-AES128-GCM-SHA256 bits=128/128);
 Fri, 03 May 2024 03:06:09 -0700 (PDT)
X-Relaying-Domain: iol.unh.edu
Date: Fri, 03 May 2024 03:06:09 -0700 (PDT)
Message-ID: <6634b711.4a0a0220.c1e57.7db0SMTPIN_ADDED_MISSING@mx.google.com>
Received: from [172.21.0.6] (unknown [172.18.0.240])
 by postal.iol.unh.edu (Postfix) with ESMTP id 95D796052514;
 Fri,  3 May 2024 06:06:08 -0400 (EDT)
Subject: |SUCCESS| pw139809-139812 [PATCH] [v2,5/5] baseband/acc: cosmetic lo
From: dpdklab@iol.unh.edu
To: Test Report <test-report@dpdk.org>
Cc: dpdk-test-reports@iol.unh.edu
In-Reply-To: <20240502204548.236729-6-hernan.vargas@intel.com>
References: <20240502204548.236729-6-hernan.vargas@intel.com>
Content-Type: text/plain
X-BeenThere: test-report@dpdk.org
X-Mailman-Version: 2.1.29
Precedence: list
List-Id: automatic DPDK test reports <test-report.dpdk.org>
List-Unsubscribe: <https://mails.dpdk.org/options/test-report>,
 <mailto:test-report-request@dpdk.org?subject=unsubscribe>
List-Archive: <http://mails.dpdk.org/archives/test-report/>
List-Post: <mailto:test-report@dpdk.org>
List-Help: <mailto:test-report-request@dpdk.org?subject=help>
List-Subscribe: <https://mails.dpdk.org/listinfo/test-report>,
 <mailto:test-report-request@dpdk.org?subject=subscribe>
Errors-To: test-report-bounces@dpdk.org

Test-Label: iol-compile-amd64-testing
Test-Status: SUCCESS
http://dpdk.org/patch/139812

_Testing PASS_

Submitter: Hernan Vargas <hernan.vargas@intel.com>
Date: Thursday, May 02 2024 20:45:48 
DPDK git baseline: Repo:dpdk
  Branch: master
  CommitID:98b4ecb4e4d73e93fdfa53f552b48d71104b445f

139809-139812 --> testing pass

Test environment and result as below:

+---------------------+--------------------+----------------------+-------------------+
|     Environment     | dpdk_meson_compile | dpdk_mingw64_compile | dpdk_msvc_compile |
+=====================+====================+======================+===================+
| FreeBSD 13.3        | PASS               | SKIPPED              | SKIPPED           |
+---------------------+--------------------+----------------------+-------------------+
| FreeBSD 14.0        | PASS               | SKIPPED              | SKIPPED           |
+---------------------+--------------------+----------------------+-------------------+
| Windows Server 2019 | PASS               | PASS                 | SKIPPED           |
+---------------------+--------------------+----------------------+-------------------+
| Windows Server 2022 | PASS               | PASS                 | PASS              |
+---------------------+--------------------+----------------------+-------------------+
| CentOS Stream 9     | PASS               | SKIPPED              | SKIPPED           |
+---------------------+--------------------+----------------------+-------------------+
| Debian 12           | PASS               | SKIPPED              | SKIPPED           |
+---------------------+--------------------+----------------------+-------------------+
| Debian Bullseye     | PASS               | SKIPPED              | SKIPPED           |
+---------------------+--------------------+----------------------+-------------------+
| Fedora 37           | PASS               | SKIPPED              | SKIPPED           |
+---------------------+--------------------+----------------------+-------------------+
| CentOS Stream 8     | PASS               | SKIPPED              | SKIPPED           |
+---------------------+--------------------+----------------------+-------------------+
| Fedora 38           | PASS               | SKIPPED              | SKIPPED           |
+---------------------+--------------------+----------------------+-------------------+
| Fedora 39           | PASS               | SKIPPED              | SKIPPED           |
+---------------------+--------------------+----------------------+-------------------+
| Ubuntu 22.04        | PASS               | SKIPPED              | SKIPPED           |
+---------------------+--------------------+----------------------+-------------------+
| Ubuntu 20.04        | PASS               | SKIPPED              | SKIPPED           |
+---------------------+--------------------+----------------------+-------------------+
| RHEL8               | PASS               | SKIPPED              | SKIPPED           |
+---------------------+--------------------+----------------------+-------------------+


FreeBSD 13.3
	Kernel: 13.3-RELEASE-p1
	Compiler: clang 17.0.6

FreeBSD 14.0
	Kernel: 14.0
	Compiler: clang 16.0.6

Windows Server 2019
	Kernel: 10.0.17763
	Compiler: clang 14.0 and gcc 8.1.0 (MinGW)

Windows Server 2022
	Kernel: 10.0.20348.2031
	Compiler: clang 15.0.7, gcc 8.1.0 (MinGW), and MSVC VS 17.9

CentOS Stream 9
	Kernel: 5.4.0-167-generic
	Compiler: gcc 11.4.1 20230605

Debian 12
	Kernel: Container Host Kernel
	Compiler: gcc 10.2.1

Debian Bullseye
	Kernel: 5.4.0-167-generic
	Compiler: gcc 10.2.1-6

Fedora 37
	Kernel: Depends on container host system
	Compiler: gcc 12.3.1

CentOS Stream 8
	Kernel: 5.4.0-167-generic
	Compiler: gcc 8.5.0 20210514

Fedora 38
	Kernel: Depends on container host
	Compiler: gcc 13.2.1

Fedora 39
	Kernel: Depends on container host
	Compiler: gcc 13.2.1

Ubuntu 22.04
	Kernel: 5.4.0-167-generic
	Compiler: gcc 11.4.0

Ubuntu 20.04
	Kernel: 5.4.0-167-generic
	Compiler: gcc 9.4.0-1ubuntu1~20.04.1

RHEL8
	Kernel: 5.4.0-167-generic
	Compiler: gcc 8.5.0 20210514 (Red Hat 8.5.0-20)

To view detailed results, visit:
https://lab.dpdk.org/results/dashboard/patchsets/29903/

UNH-IOL DPDK Community Lab

To manage your email subscriptions, visit: 
https://lab.dpdk.org/results/dashboard/preferences/subscriptions/