From mboxrd@z Thu Jan  1 00:00:00 1970
Return-Path: <test-report-bounces@dpdk.org>
Received: from mails.dpdk.org (mails.dpdk.org [217.70.189.124])
	by inbox.dpdk.org (Postfix) with ESMTP id ABDA843F75
	for <public@inbox.dpdk.org>; Fri,  3 May 2024 12:16:40 +0200 (CEST)
Received: from mails.dpdk.org (localhost [127.0.0.1])
	by mails.dpdk.org (Postfix) with ESMTP id A780A402D0;
	Fri,  3 May 2024 12:16:40 +0200 (CEST)
Received: from mail-vk1-f225.google.com (mail-vk1-f225.google.com
 [209.85.221.225])
 by mails.dpdk.org (Postfix) with ESMTP id 94B63402C5
 for <test-report@dpdk.org>; Fri,  3 May 2024 12:16:39 +0200 (CEST)
Received: by mail-vk1-f225.google.com with SMTP id
 71dfb90a1353d-4df17810c7aso631263e0c.0
 for <test-report@dpdk.org>; Fri, 03 May 2024 03:16:39 -0700 (PDT)
DKIM-Signature: v=1; a=rsa-sha256; c=relaxed/relaxed;
 d=iol.unh.edu; s=unh-iol; t=1714731399; x=1715336199; darn=dpdk.org;
 h=references:in-reply-to:cc:to:from:subject:message-id:date:from:to
 :cc:subject:date:message-id:reply-to;
 bh=V5ZOaM4fAV6cI2BJe444/ktr0NTaXdup8ZCYIn+3Dyw=;
 b=J/+k2nz+LvZmhLjtbQ6GJno1PHBp5Yt0LWuHpdjdl5L/7pfr9Sm2YLxv+xXL7d4mjq
 3V0gK4FXcsCPA3HpxOfFWhkLPfc41zQ8AR2lqyztMS85THLfU21zsouXzeIKybD83/gT
 65FLCIkRftFeALWbBm/8oRWf6jOqq2VhQu43A=
X-Google-DKIM-Signature: v=1; a=rsa-sha256; c=relaxed/relaxed;
 d=1e100.net; s=20230601; t=1714731399; x=1715336199;
 h=references:in-reply-to:cc:to:from:subject:message-id:date
 :x-gm-message-state:from:to:cc:subject:date:message-id:reply-to;
 bh=V5ZOaM4fAV6cI2BJe444/ktr0NTaXdup8ZCYIn+3Dyw=;
 b=YFLjbklFj2A05xgHcV498+EP/qWGV4Rn9W8tFuzvmZu2IogMNNvaUUSi84/Bt4F6ZN
 R8W0IA9Y4t2MVZ0LNApTYasLuYBhzLNSFDjCgrV0FFDJRKy7t28vzXK6CwWKL1gqM52J
 /aJ6/CYlmFPF2xp+Uvme8bZT6MsJwO/YXnmlkoenHUfqr6YmUgkhNH/70daK8QnZK1KB
 6Yr9ihGlWPhTnCUKEooRp/nOdGPYlue5z9S9uvV39QoRzPlbwPJv0Tl9Tmko4WRyv31O
 jsgy+JsM1CBLMp1EPF8LEuAqRzcXGgdHfevte07TW55ZFSImS0usRwLQ7EiBTz+reDxF
 FULg==
X-Gm-Message-State: AOJu0YyAfI34QQI+k9xfyL5f4EaHjQ9pOa7PEdCEleRU8FDRjIKndPbJ
 dEFBUld6g//o3Tp4euySap74n9i75tvBPVOkbYzrv6kjFv0cLEOx0ZocbM6DkYeVE3AclkEiomB
 Y8hWIx6i0ai48Wea6ZeQq0zx+oHv+ih5HCiFtTX7p
X-Google-Smtp-Source: AGHT+IFtnIX0cShiaUfz5ZToiwIfT/eQv0PAwKABnNSBc8W2NFCMF5xkV+Zplwh79IsepZWUii3uokrmjrDg
X-Received: by 2002:a05:6122:220c:b0:4de:c8ac:baa8 with SMTP id
 bb12-20020a056122220c00b004dec8acbaa8mr8023386vkb.1.1714731398817; 
 Fri, 03 May 2024 03:16:38 -0700 (PDT)
Received: from postal.iol.unh.edu (postal.iol.unh.edu. [132.177.123.84])
 by smtp-relay.gmail.com with ESMTPS id
 a6-20020ab03c86000000b007efc69adb84sm138315uax.7.2024.05.03.03.16.38
 (version=TLS1_2 cipher=ECDHE-ECDSA-AES128-GCM-SHA256 bits=128/128);
 Fri, 03 May 2024 03:16:38 -0700 (PDT)
X-Relaying-Domain: iol.unh.edu
Date: Fri, 03 May 2024 03:16:38 -0700 (PDT)
Message-ID: <6634b986.b00a0220.7036f.790aSMTPIN_ADDED_MISSING@mx.google.com>
Received: from [172.21.0.9] (unknown [172.18.0.240])
 by postal.iol.unh.edu (Postfix) with ESMTP id 746086052514;
 Fri,  3 May 2024 06:16:38 -0400 (EDT)
Subject: |SUCCESS| pw139809-139812 [PATCH] [v2,5/5] baseband/acc: cosmetic lo
From: dpdklab@iol.unh.edu
To: Test Report <test-report@dpdk.org>
Cc: dpdk-test-reports@iol.unh.edu
In-Reply-To: <20240502204548.236729-6-hernan.vargas@intel.com>
References: <20240502204548.236729-6-hernan.vargas@intel.com>
Content-Type: text/plain
X-BeenThere: test-report@dpdk.org
X-Mailman-Version: 2.1.29
Precedence: list
List-Id: automatic DPDK test reports <test-report.dpdk.org>
List-Unsubscribe: <https://mails.dpdk.org/options/test-report>,
 <mailto:test-report-request@dpdk.org?subject=unsubscribe>
List-Archive: <http://mails.dpdk.org/archives/test-report/>
List-Post: <mailto:test-report@dpdk.org>
List-Help: <mailto:test-report-request@dpdk.org?subject=help>
List-Subscribe: <https://mails.dpdk.org/listinfo/test-report>,
 <mailto:test-report-request@dpdk.org?subject=subscribe>
Errors-To: test-report-bounces@dpdk.org

Test-Label: iol-unit-amd64-testing
Test-Status: SUCCESS
http://dpdk.org/patch/139812

_Testing PASS_

Submitter: Hernan Vargas <hernan.vargas@intel.com>
Date: Thursday, May 02 2024 20:45:48 
DPDK git baseline: Repo:dpdk
  Branch: master
  CommitID:98b4ecb4e4d73e93fdfa53f552b48d71104b445f

139809-139812 --> testing pass

Test environment and result as below:

+------------------+----------------+
|   Environment    | dpdk_unit_test |
+==================+================+
| Debian Bullseye  | PASS           |
+------------------+----------------+
| CentOS Stream 9  | PASS           |
+------------------+----------------+
| Fedora 38        | PASS           |
+------------------+----------------+
| Debian 12        | PASS           |
+------------------+----------------+
| Fedora 37        | PASS           |
+------------------+----------------+
| Fedora 39        | PASS           |
+------------------+----------------+
| CentOS Stream 8  | PASS           |
+------------------+----------------+
| openSUSE Leap 15 | PASS           |
+------------------+----------------+
| RHEL8            | PASS           |
+------------------+----------------+
| Ubuntu 20.04     | PASS           |
+------------------+----------------+
| Ubuntu 22.04     | PASS           |
+------------------+----------------+


Debian Bullseye
	Kernel: 5.4.0-167-generic
	Compiler: gcc 10.2.1-6

CentOS Stream 9
	Kernel: 5.4.0-167-generic
	Compiler: gcc 11.4.1 20230605

Fedora 38
	Kernel: Depends on container host
	Compiler: gcc 13.2.1

Debian 12
	Kernel: Container Host Kernel
	Compiler: gcc 10.2.1

Fedora 37
	Kernel: Depends on container host system
	Compiler: gcc 12.3.1

Fedora 39
	Kernel: Depends on container host
	Compiler: gcc 13.2.1

CentOS Stream 8
	Kernel: 5.4.0-167-generic
	Compiler: gcc 8.5.0 20210514

openSUSE Leap 15
	Kernel: 5.4.0-167-generic
	Compiler: gcc 7.5.0

RHEL8
	Kernel: 5.4.0-167-generic
	Compiler: gcc 8.5.0 20210514 (Red Hat 8.5.0-20)

Ubuntu 20.04
	Kernel: 5.4.0-167-generic
	Compiler: gcc 9.4.0-1ubuntu1~20.04.1

Ubuntu 22.04
	Kernel: 5.4.0-167-generic
	Compiler: gcc 11.4.0

To view detailed results, visit:
https://lab.dpdk.org/results/dashboard/patchsets/29903/

UNH-IOL DPDK Community Lab

To manage your email subscriptions, visit: 
https://lab.dpdk.org/results/dashboard/preferences/subscriptions/