From mboxrd@z Thu Jan  1 00:00:00 1970
Return-Path: <test-report-bounces@dpdk.org>
Received: from mails.dpdk.org (mails.dpdk.org [217.70.189.124])
	by inbox.dpdk.org (Postfix) with ESMTP id 345F043F75
	for <public@inbox.dpdk.org>; Fri,  3 May 2024 12:17:21 +0200 (CEST)
Received: from mails.dpdk.org (localhost [127.0.0.1])
	by mails.dpdk.org (Postfix) with ESMTP id 15BDC402D0;
	Fri,  3 May 2024 12:17:21 +0200 (CEST)
Received: from mail-yb1-f225.google.com (mail-yb1-f225.google.com
 [209.85.219.225])
 by mails.dpdk.org (Postfix) with ESMTP id A4E9C402C5
 for <test-report@dpdk.org>; Fri,  3 May 2024 12:17:18 +0200 (CEST)
Received: by mail-yb1-f225.google.com with SMTP id
 3f1490d57ef6-de5a7b18acdso8842972276.3
 for <test-report@dpdk.org>; Fri, 03 May 2024 03:17:18 -0700 (PDT)
DKIM-Signature: v=1; a=rsa-sha256; c=relaxed/relaxed;
 d=iol.unh.edu; s=unh-iol; t=1714731438; x=1715336238; darn=dpdk.org;
 h=references:in-reply-to:cc:to:from:subject:message-id:date:from:to
 :cc:subject:date:message-id:reply-to;
 bh=ckCBFZhsvhxtnBECWfYFpzFXFVi15lSSKjuUhElmUWc=;
 b=WBjAEDkRsPlHrR+kPOxJCclup1yvOCAfJpfKFbfRBG0phdRy638W/bfKtqA96w1iTa
 kVEToKKTChZPV4gYRZiFp2AHp06MxwN/TUO6+rj2MOSXkenJ4Jw1k/eP/6F4Dnkncode
 1nTN0ATZWZ0iz4cmYcLi0X51vna1Yij+RKaqI=
X-Google-DKIM-Signature: v=1; a=rsa-sha256; c=relaxed/relaxed;
 d=1e100.net; s=20230601; t=1714731438; x=1715336238;
 h=references:in-reply-to:cc:to:from:subject:message-id:date
 :x-gm-message-state:from:to:cc:subject:date:message-id:reply-to;
 bh=ckCBFZhsvhxtnBECWfYFpzFXFVi15lSSKjuUhElmUWc=;
 b=KfGacHIvZRKmdhk/RAzHMDw9/P/7i6rYpXrT/CK6Clq7RJ3nB/RL+s2gttlvwP05qc
 C3keqLYdMq3Mf0CoQBuAQRyHN5uUXqphwH9QCT9e1SuHHd5yCIAWoISVVh9LA792B/ca
 VCmk1FkgK7YM0Z8RpL9PDYuUu3kntIYx6JaKYb4tgiSbZGe4s2nKcB1V8i7NKBNYlrUe
 hc81J4YXZMPjU+7/z97eacZIfRcdKMxa9BwaaxoCO+qLlsMb/nyB7mYHMhDnXd2LfDlT
 DnDhLm21W66tw5EiLucdHXW35qSAVTzytYaNQsJOgzRu8SeZY1Ss/UKNvOqiI46/cmjM
 BxyQ==
X-Gm-Message-State: AOJu0YygLP9d+fehDw+bBQAWD8zlXJd5n7qvBSNv2OVAfP9IJv0ykJn8
 yS/pOIjWn0791Rb+T0wsJesdimyMeTt7GPy56R+8RSTGnGpqC9PcacQSHV9N+BKi+TN/98QQXvh
 xTlwzg1NGeNdrJ5LE8/zbkh5UYxODQ5IPGpabOYLv
X-Google-Smtp-Source: AGHT+IEiFj0qobkO3ZlgHXJnGdndHju4epGDI3+Lndi/tGGFfrm4c/Y303BwQhPgI5XMZRvmIQ0WWixxfyo9
X-Received: by 2002:a0d:e212:0:b0:61a:e11b:4305 with SMTP id
 l18-20020a0de212000000b0061ae11b4305mr2049846ywe.1.1714731438014; 
 Fri, 03 May 2024 03:17:18 -0700 (PDT)
Received: from postal.iol.unh.edu (postal.iol.unh.edu. [132.177.123.84])
 by smtp-relay.gmail.com with ESMTPS id
 fq3-20020a05690c350300b0061538cdc799sm136576ywb.26.2024.05.03.03.17.17
 (version=TLS1_2 cipher=ECDHE-ECDSA-AES128-GCM-SHA256 bits=128/128);
 Fri, 03 May 2024 03:17:17 -0700 (PDT)
X-Relaying-Domain: iol.unh.edu
Date: Fri, 03 May 2024 03:17:17 -0700 (PDT)
Message-ID: <6634b9ad.050a0220.c84f8.6d51SMTPIN_ADDED_MISSING@mx.google.com>
Received: from [172.21.0.10] (unknown [172.18.0.240])
 by postal.iol.unh.edu (Postfix) with ESMTP id 99DB36052514;
 Fri,  3 May 2024 06:17:17 -0400 (EDT)
Subject: |SUCCESS| pw139827 [PATCH] doc: fix testpmd ring size command
From: dpdklab@iol.unh.edu
To: Test Report <test-report@dpdk.org>
Cc: dpdk-test-reports@iol.unh.edu
In-Reply-To: <20240503085129.316979-1-ktraynor@redhat.com>
References: <20240503085129.316979-1-ktraynor@redhat.com>
Content-Type: text/plain
X-BeenThere: test-report@dpdk.org
X-Mailman-Version: 2.1.29
Precedence: list
List-Id: automatic DPDK test reports <test-report.dpdk.org>
List-Unsubscribe: <https://mails.dpdk.org/options/test-report>,
 <mailto:test-report-request@dpdk.org?subject=unsubscribe>
List-Archive: <http://mails.dpdk.org/archives/test-report/>
List-Post: <mailto:test-report@dpdk.org>
List-Help: <mailto:test-report-request@dpdk.org?subject=help>
List-Subscribe: <https://mails.dpdk.org/listinfo/test-report>,
 <mailto:test-report-request@dpdk.org?subject=subscribe>
Errors-To: test-report-bounces@dpdk.org

Test-Label: iol-abi-testing
Test-Status: SUCCESS
http://dpdk.org/patch/139827

_Testing PASS_

Submitter: Kevin Traynor <ktraynor@redhat.com>
Date: Friday, May 03 2024 08:51:29 
DPDK git baseline: Repo:dpdk
  Branch: master
  CommitID:baa8e2c6b4d7ce289e891b9c96fb3193311c0f01

139827 --> testing pass

Test environment and result as below:

+-----------------+----------+
|   Environment   | abi_test |
+=================+==========+
| CentOS Stream 8 | PASS     |
+-----------------+----------+
| Debian Bullseye | PASS     |
+-----------------+----------+
| Fedora 38       | PASS     |
+-----------------+----------+


CentOS Stream 8
	Kernel: 5.4.0-167-generic
	Compiler: gcc 8.5.0 20210514

Debian Bullseye
	Kernel: 5.4.0-167-generic
	Compiler: gcc 10.2.1-6

Fedora 38
	Kernel: Depends on container host
	Compiler: clang 16.0.6

To view detailed results, visit:
https://lab.dpdk.org/results/dashboard/patchsets/29906/

UNH-IOL DPDK Community Lab

To manage your email subscriptions, visit: 
https://lab.dpdk.org/results/dashboard/preferences/subscriptions/