From mboxrd@z Thu Jan  1 00:00:00 1970
Return-Path: <test-report-bounces@dpdk.org>
Received: from mails.dpdk.org (mails.dpdk.org [217.70.189.124])
	by inbox.dpdk.org (Postfix) with ESMTP id 942B943F75
	for <public@inbox.dpdk.org>; Fri,  3 May 2024 12:21:36 +0200 (CEST)
Received: from mails.dpdk.org (localhost [127.0.0.1])
	by mails.dpdk.org (Postfix) with ESMTP id 90051402D0;
	Fri,  3 May 2024 12:21:36 +0200 (CEST)
Received: from mail-io1-f99.google.com (mail-io1-f99.google.com
 [209.85.166.99]) by mails.dpdk.org (Postfix) with ESMTP id 82D40402C5
 for <test-report@dpdk.org>; Fri,  3 May 2024 12:21:35 +0200 (CEST)
Received: by mail-io1-f99.google.com with SMTP id
 ca18e2360f4ac-7d86adab5a7so401011039f.3
 for <test-report@dpdk.org>; Fri, 03 May 2024 03:21:35 -0700 (PDT)
DKIM-Signature: v=1; a=rsa-sha256; c=relaxed/relaxed;
 d=iol.unh.edu; s=unh-iol; t=1714731695; x=1715336495; darn=dpdk.org;
 h=references:in-reply-to:cc:to:from:subject:message-id:date:from:to
 :cc:subject:date:message-id:reply-to;
 bh=ZZPSuuwsj5JzmTcl+vrOQkmVh446Tn4w95m5f85u0XI=;
 b=DexODAlkmKX7XU0rPqsdotEwWRmhV7KICXonAPEiM/12kwyXH96Oz3Lym8fGYp2z/H
 q7U2HfI53HhxBqO2W+PUKaVAQojRbQNKtll8Nj3pegDOWgucAJEdrbQ91iI4TC54GaMS
 2GKPyXQbAQEzPvoFgv0lquu4TKcpiYvie4cxA=
X-Google-DKIM-Signature: v=1; a=rsa-sha256; c=relaxed/relaxed;
 d=1e100.net; s=20230601; t=1714731695; x=1715336495;
 h=references:in-reply-to:cc:to:from:subject:message-id:date
 :x-gm-message-state:from:to:cc:subject:date:message-id:reply-to;
 bh=ZZPSuuwsj5JzmTcl+vrOQkmVh446Tn4w95m5f85u0XI=;
 b=BVghi3iw1vg+MdnAnLpiK8XUHqvwTt+qpwHn4IF218pwo9qR1QtNSTbpdWP8gqwk+a
 HTlRcAn1MHO9L7hju81goz12IH5evKXekqnR5vVnnrVKcVNnj6RA206n0nNC7Z4iB8ZR
 ngSnJ3b/R+z1G2AGQF/x6JOha7Dt1xL0RZo+0/fjwTtDlLJAQKArO43ypsoEhFyZspyW
 pfGx8pFxYKqO2GkGzTjr2wVkTQ2UD/o1iyVSChEiYiupReMUK4hwXwsxjCgnzlszD2p3
 ZV1cu46VuicE5uKk4Xuzgp0xfxG3hw1rW+SeToa++0kQLp0gSF5k52pBrSXZ9PR6xFbR
 ZSiA==
X-Gm-Message-State: AOJu0YyhaNmu5Ed4gUemEfG3vQJrCRkyK1wP+5g2SFVyLchFjktT8Bvw
 yPtZMVjcRGD0HUcCRIV0h93sl7oBXzyVGAIVQe+dNsEh4KGyHmwqAjQ5WpKfBuvO8DxVlqFw2mj
 FHPAZ6cIJUMN8Kaxp3d+RARmd/YvkzEyxHCdEoayJc8C9rWGCjdSmQOSZ
X-Google-Smtp-Source: AGHT+IFANBBNliGbbrV9pPAW4ssafvF/tV4vCuUWpfbBPkF+Di8oj846GbG4s1IclmF0AQex7aFM3r2ra9Wy
X-Received: by 2002:a05:6e02:1a22:b0:36c:c9f:ccd0 with SMTP id
 g2-20020a056e021a2200b0036c0c9fccd0mr2668542ile.17.1714731694929; 
 Fri, 03 May 2024 03:21:34 -0700 (PDT)
Received: from postal.iol.unh.edu (postal.iol.unh.edu.
 [2606:4100:3880:1234::84]) by smtp-relay.gmail.com with ESMTPS id
 x15-20020a92060f000000b0036c4c5b0ceasm118546ilg.64.2024.05.03.03.21.34
 (version=TLS1_2 cipher=ECDHE-ECDSA-AES128-GCM-SHA256 bits=128/128);
 Fri, 03 May 2024 03:21:34 -0700 (PDT)
X-Relaying-Domain: iol.unh.edu
Date: Fri, 03 May 2024 03:21:34 -0700 (PDT)
Message-ID: <6634baae.920a0220.a299.6b3fSMTPIN_ADDED_MISSING@mx.google.com>
Received: from [172.21.0.13] (unknown [172.18.0.240])
 by postal.iol.unh.edu (Postfix) with ESMTP id 71B9E6052514;
 Fri,  3 May 2024 06:21:34 -0400 (EDT)
Subject: |SUCCESS| pw139827 [PATCH] doc: fix testpmd ring size command
From: dpdklab@iol.unh.edu
To: Test Report <test-report@dpdk.org>
Cc: dpdk-test-reports@iol.unh.edu
In-Reply-To: <20240503085129.316979-1-ktraynor@redhat.com>
References: <20240503085129.316979-1-ktraynor@redhat.com>
Content-Type: text/plain
X-BeenThere: test-report@dpdk.org
X-Mailman-Version: 2.1.29
Precedence: list
List-Id: automatic DPDK test reports <test-report.dpdk.org>
List-Unsubscribe: <https://mails.dpdk.org/options/test-report>,
 <mailto:test-report-request@dpdk.org?subject=unsubscribe>
List-Archive: <http://mails.dpdk.org/archives/test-report/>
List-Post: <mailto:test-report@dpdk.org>
List-Help: <mailto:test-report-request@dpdk.org?subject=help>
List-Subscribe: <https://mails.dpdk.org/listinfo/test-report>,
 <mailto:test-report-request@dpdk.org?subject=subscribe>
Errors-To: test-report-bounces@dpdk.org

Test-Label: iol-compile-amd64-testing
Test-Status: SUCCESS
http://dpdk.org/patch/139827

_Testing PASS_

Submitter: Kevin Traynor <ktraynor@redhat.com>
Date: Friday, May 03 2024 08:51:29 
DPDK git baseline: Repo:dpdk
  Branch: master
  CommitID:baa8e2c6b4d7ce289e891b9c96fb3193311c0f01

139827 --> testing pass

Test environment and result as below:

+---------------------+--------------------+----------------------+-------------------+
|     Environment     | dpdk_meson_compile | dpdk_mingw64_compile | dpdk_msvc_compile |
+=====================+====================+======================+===================+
| FreeBSD 13.3        | PASS               | SKIPPED              | SKIPPED           |
+---------------------+--------------------+----------------------+-------------------+
| FreeBSD 14.0        | PASS               | SKIPPED              | SKIPPED           |
+---------------------+--------------------+----------------------+-------------------+
| Windows Server 2019 | PASS               | SKIPPED              | SKIPPED           |
+---------------------+--------------------+----------------------+-------------------+
| CentOS Stream 8     | PASS               | SKIPPED              | SKIPPED           |
+---------------------+--------------------+----------------------+-------------------+
| Windows Server 2022 | PASS               | PASS                 | PASS              |
+---------------------+--------------------+----------------------+-------------------+


FreeBSD 13.3
	Kernel: 13.3-RELEASE-p1
	Compiler: clang 17.0.6

FreeBSD 14.0
	Kernel: 14.0
	Compiler: clang 16.0.6

Windows Server 2019
	Kernel: 10.0.17763
	Compiler: clang 14.0 and gcc 8.1.0 (MinGW)

CentOS Stream 8
	Kernel: 5.4.0-167-generic
	Compiler: gcc 8.5.0 20210514

Windows Server 2022
	Kernel: 10.0.20348.2031
	Compiler: clang 15.0.7, gcc 8.1.0 (MinGW), and MSVC VS 17.9

To view detailed results, visit:
https://lab.dpdk.org/results/dashboard/patchsets/29906/

UNH-IOL DPDK Community Lab

To manage your email subscriptions, visit: 
https://lab.dpdk.org/results/dashboard/preferences/subscriptions/