From mboxrd@z Thu Jan  1 00:00:00 1970
Return-Path: <test-report-bounces@dpdk.org>
Received: from mails.dpdk.org (mails.dpdk.org [217.70.189.124])
	by inbox.dpdk.org (Postfix) with ESMTP id 5099943F75
	for <public@inbox.dpdk.org>; Fri,  3 May 2024 12:26:50 +0200 (CEST)
Received: from mails.dpdk.org (localhost [127.0.0.1])
	by mails.dpdk.org (Postfix) with ESMTP id 47141402D0;
	Fri,  3 May 2024 12:26:50 +0200 (CEST)
Received: from mail-oo1-f97.google.com (mail-oo1-f97.google.com
 [209.85.161.97]) by mails.dpdk.org (Postfix) with ESMTP id C090A402C5
 for <test-report@dpdk.org>; Fri,  3 May 2024 12:26:48 +0200 (CEST)
Received: by mail-oo1-f97.google.com with SMTP id
 006d021491bc7-5aa17c29ba0so5670678eaf.3
 for <test-report@dpdk.org>; Fri, 03 May 2024 03:26:48 -0700 (PDT)
DKIM-Signature: v=1; a=rsa-sha256; c=relaxed/relaxed;
 d=iol.unh.edu; s=unh-iol; t=1714732008; x=1715336808; darn=dpdk.org;
 h=references:in-reply-to:cc:to:from:subject:message-id:date:from:to
 :cc:subject:date:message-id:reply-to;
 bh=0jScAgQj3oxrv3kwWEoulvo581IVkma5Km21v1bmndg=;
 b=DAKOmKQiJlck4BFtX1EqLpa40FaxaBMNpUbgmZlBMYpDdnbV+S1yS82BN912Dsjkjc
 RXZMCRMGttbWE6hsesEKoJTFC/LBIsgL0vjcgXT8feJJfDiWcDZwi45nJLg4hVUlRRrS
 BLoyx5TqsFme+dm2AsRHqt7RN27dlyRollpaA=
X-Google-DKIM-Signature: v=1; a=rsa-sha256; c=relaxed/relaxed;
 d=1e100.net; s=20230601; t=1714732008; x=1715336808;
 h=references:in-reply-to:cc:to:from:subject:message-id:date
 :x-gm-message-state:from:to:cc:subject:date:message-id:reply-to;
 bh=0jScAgQj3oxrv3kwWEoulvo581IVkma5Km21v1bmndg=;
 b=Jrj9r2172uM98/9C7uDX9eh2jm2SJ0ogJkKL11rsIZ+nwCUfnt8sGMItDZekZZP/Sq
 HzagNNe+G17/B1a0hbHnJ5bZVHtI7IH8T1mUdlv1dQs7tFTPnlHzydVSXm6Un8J5iLFP
 f5QrQ/DkQ4GbSsgtjk0OZoRKaGsNBCZhb7wIgt35dQH0R9koGA1vThUw9kvCWlWGWItT
 kzYssodVbOOk/f4oiIQq6sk0FeBfaSa54MwFbdecTtIQvjJdTLj2vHRdIDTGkCRg+tAv
 hcln70vIMOC/j+fxAVWcjVNIapeExi6rckSr4R54+RHYPvyxgSmGYgaWwUh/JwvO1ePN
 sF+g==
X-Gm-Message-State: AOJu0YyZjN2Qc9bzIxEEvTWcHnYe5c5jtF2WqqUt1KVG8IPnAZLd8X0n
 WvrjJfEhY1GtZyEst4i1rqwvvQkLZe+kzkGFW2J/VQ3tteqQHNHu0FI03d4xSIidnly7JQqPwj6
 9eeDt/+4RWKdMswd6BtKjDn+/Pb4ZTutLPUBMUGK/
X-Google-Smtp-Source: AGHT+IFBPoKUL+ljMbAebr8FQpWYl9m/oocNnJL7tDNnCXJT6UGzGIV1GLoPA/pP7h3MqWEZJe6e8QT4sXzK
X-Received: by 2002:a4a:ac08:0:b0:5af:886b:fd5a with SMTP id
 p8-20020a4aac08000000b005af886bfd5amr2262659oon.2.1714732008209; 
 Fri, 03 May 2024 03:26:48 -0700 (PDT)
Received: from postal.iol.unh.edu (postal.iol.unh.edu. [132.177.123.84])
 by smtp-relay.gmail.com with ESMTPS id
 ct24-20020a0568201c9800b005aa5b168eb7sm142481oob.5.2024.05.03.03.26.48
 (version=TLS1_2 cipher=ECDHE-ECDSA-AES128-GCM-SHA256 bits=128/128);
 Fri, 03 May 2024 03:26:48 -0700 (PDT)
X-Relaying-Domain: iol.unh.edu
Date: Fri, 03 May 2024 03:26:48 -0700 (PDT)
Message-ID: <6634bbe8.050a0220.78f2d.77a9SMTPIN_ADDED_MISSING@mx.google.com>
Received: from [172.21.0.9] (unknown [172.18.0.240])
 by postal.iol.unh.edu (Postfix) with ESMTP id AC5D06052514;
 Fri,  3 May 2024 06:26:47 -0400 (EDT)
Subject: |SUCCESS| pw139827 [PATCH] doc: fix testpmd ring size command
From: dpdklab@iol.unh.edu
To: Test Report <test-report@dpdk.org>
Cc: dpdk-test-reports@iol.unh.edu
In-Reply-To: <20240503085129.316979-1-ktraynor@redhat.com>
References: <20240503085129.316979-1-ktraynor@redhat.com>
Content-Type: text/plain
X-BeenThere: test-report@dpdk.org
X-Mailman-Version: 2.1.29
Precedence: list
List-Id: automatic DPDK test reports <test-report.dpdk.org>
List-Unsubscribe: <https://mails.dpdk.org/options/test-report>,
 <mailto:test-report-request@dpdk.org?subject=unsubscribe>
List-Archive: <http://mails.dpdk.org/archives/test-report/>
List-Post: <mailto:test-report@dpdk.org>
List-Help: <mailto:test-report-request@dpdk.org?subject=help>
List-Subscribe: <https://mails.dpdk.org/listinfo/test-report>,
 <mailto:test-report-request@dpdk.org?subject=subscribe>
Errors-To: test-report-bounces@dpdk.org

Test-Label: iol-unit-amd64-testing
Test-Status: SUCCESS
http://dpdk.org/patch/139827

_Testing PASS_

Submitter: Kevin Traynor <ktraynor@redhat.com>
Date: Friday, May 03 2024 08:51:29 
DPDK git baseline: Repo:dpdk
  Branch: master
  CommitID:baa8e2c6b4d7ce289e891b9c96fb3193311c0f01

139827 --> testing pass

Test environment and result as below:

+-----------------+----------------+
|   Environment   | dpdk_unit_test |
+=================+================+
| CentOS Stream 8 | PASS           |
+-----------------+----------------+
| Debian Bullseye | PASS           |
+-----------------+----------------+
| CentOS Stream 9 | PASS           |
+-----------------+----------------+


CentOS Stream 8
	Kernel: 5.4.0-167-generic
	Compiler: gcc 8.5.0 20210514

Debian Bullseye
	Kernel: 5.4.0-167-generic
	Compiler: gcc 10.2.1-6

CentOS Stream 9
	Kernel: 5.4.0-167-generic
	Compiler: gcc 11.4.1 20230605

To view detailed results, visit:
https://lab.dpdk.org/results/dashboard/patchsets/29906/

UNH-IOL DPDK Community Lab

To manage your email subscriptions, visit: 
https://lab.dpdk.org/results/dashboard/preferences/subscriptions/