From mboxrd@z Thu Jan  1 00:00:00 1970
Return-Path: <test-report-bounces@dpdk.org>
Received: from mails.dpdk.org (mails.dpdk.org [217.70.189.124])
	by inbox.dpdk.org (Postfix) with ESMTP id 992CF43F75
	for <public@inbox.dpdk.org>; Fri,  3 May 2024 12:27:44 +0200 (CEST)
Received: from mails.dpdk.org (localhost [127.0.0.1])
	by mails.dpdk.org (Postfix) with ESMTP id 95401402D0;
	Fri,  3 May 2024 12:27:44 +0200 (CEST)
Received: from mail-yb1-f228.google.com (mail-yb1-f228.google.com
 [209.85.219.228])
 by mails.dpdk.org (Postfix) with ESMTP id 6E4EC402C5
 for <test-report@dpdk.org>; Fri,  3 May 2024 12:27:43 +0200 (CEST)
Received: by mail-yb1-f228.google.com with SMTP id
 3f1490d57ef6-de5acdb3838so8280148276.1
 for <test-report@dpdk.org>; Fri, 03 May 2024 03:27:43 -0700 (PDT)
DKIM-Signature: v=1; a=rsa-sha256; c=relaxed/relaxed;
 d=iol.unh.edu; s=unh-iol; t=1714732063; x=1715336863; darn=dpdk.org;
 h=references:in-reply-to:cc:to:from:subject:message-id:date:from:to
 :cc:subject:date:message-id:reply-to;
 bh=vBvoua0rTBTgrpU3SdJ3i5iki+JgqYpsNIDiSAMhAJU=;
 b=ApiXTsVsDJeqWDXoHOwhOjf4P/NlyWMMOgNR2DUDGmsnCBvcdkAVgxl1JW3doIWyas
 tK6gh5rN7gGYf97phymORmLU/oQVz0TicYdqbLZEwU4lGVqxlGDtWgzisn2u6p2Ht4tX
 98mgU6kbXSl9zt7dIYiFJ6Ih4idU5xDAUJbnI=
X-Google-DKIM-Signature: v=1; a=rsa-sha256; c=relaxed/relaxed;
 d=1e100.net; s=20230601; t=1714732063; x=1715336863;
 h=references:in-reply-to:cc:to:from:subject:message-id:date
 :x-gm-message-state:from:to:cc:subject:date:message-id:reply-to;
 bh=vBvoua0rTBTgrpU3SdJ3i5iki+JgqYpsNIDiSAMhAJU=;
 b=i8e4nD2L7sMNJGgRFYiiAvj/fVegqyuQ2qvQAW9XPKcRlcgpDSrOCZfY8Y5OBCdHYa
 qEjnQHWJVyxFRbyc9nEVERZIbx2qRC65mMlnJ3FnR+Yokog4uyugNWjHWbKQwHDIdZMD
 N1hthP8Z8ldjGo4JXdfi3IErjRC3YeSkNjqjuj3kdpKT34Dh+8JRDwCyCyuvdDYb3hUL
 btmnaQQP+OIAEeoUyqJrH1J0oI+prJsHP65jrcmgF/PJZ1HFMET6W5aT74Hyktx4Ouqj
 eL/F/8+btbman/j44Ow8R2SKSmm4/u8PnHPry4SjTDPMCCE1k+RZe7ARJV6X+Uytp9QL
 TltA==
X-Gm-Message-State: AOJu0YzAS37SjBvt2Q/UUzW4WUDArC8WsL1m9Xhc4Vgm4kGYLyv+P6Ru
 7GlP3dwpmNOOAz03kNz8seEOrAl9w0usXxrW4COLQLHjIwmjfwJ99wXjB0r6SCoWc0NHrqDdFwC
 EkLo143bpiBHa8/rWhTcusbmZzbrV5s8322AEHeD9wq6zCSAhGawee+hn
X-Google-Smtp-Source: AGHT+IF4YrqLj021BfSGGD1nMUBKetLers7yte1kAcdOF8NKOSdbKhsLOmfw7J0LY/JOA5MFGgMwgiO4hAVl
X-Received: by 2002:a5b:f8c:0:b0:dcd:c3ba:d788 with SMTP id
 q12-20020a5b0f8c000000b00dcdc3bad788mr2220259ybh.47.1714732062809; 
 Fri, 03 May 2024 03:27:42 -0700 (PDT)
Received: from postal.iol.unh.edu (postal.iol.unh.edu.
 [2606:4100:3880:1234::84]) by smtp-relay.gmail.com with ESMTPS id
 v2-20020a056902108200b00de8c1df98e6sm109645ybu.17.2024.05.03.03.27.42
 (version=TLS1_2 cipher=ECDHE-ECDSA-AES128-GCM-SHA256 bits=128/128);
 Fri, 03 May 2024 03:27:42 -0700 (PDT)
X-Relaying-Domain: iol.unh.edu
Date: Fri, 03 May 2024 03:27:42 -0700 (PDT)
Message-ID: <6634bc1e.050a0220.d5488.71fcSMTPIN_ADDED_MISSING@mx.google.com>
Received: from [172.21.0.13] (unknown [172.18.0.240])
 by postal.iol.unh.edu (Postfix) with ESMTP id 53D196052514;
 Fri,  3 May 2024 06:27:42 -0400 (EDT)
Subject: |SUCCESS| pw139827 [PATCH] doc: fix testpmd ring size command
From: dpdklab@iol.unh.edu
To: Test Report <test-report@dpdk.org>
Cc: dpdk-test-reports@iol.unh.edu
In-Reply-To: <20240503085129.316979-1-ktraynor@redhat.com>
References: <20240503085129.316979-1-ktraynor@redhat.com>
Content-Type: text/plain
X-BeenThere: test-report@dpdk.org
X-Mailman-Version: 2.1.29
Precedence: list
List-Id: automatic DPDK test reports <test-report.dpdk.org>
List-Unsubscribe: <https://mails.dpdk.org/options/test-report>,
 <mailto:test-report-request@dpdk.org?subject=unsubscribe>
List-Archive: <http://mails.dpdk.org/archives/test-report/>
List-Post: <mailto:test-report@dpdk.org>
List-Help: <mailto:test-report-request@dpdk.org?subject=help>
List-Subscribe: <https://mails.dpdk.org/listinfo/test-report>,
 <mailto:test-report-request@dpdk.org?subject=subscribe>
Errors-To: test-report-bounces@dpdk.org

Test-Label: iol-abi-testing
Test-Status: SUCCESS
http://dpdk.org/patch/139827

_Testing PASS_

Submitter: Kevin Traynor <ktraynor@redhat.com>
Date: Friday, May 03 2024 08:51:29 
DPDK git baseline: Repo:dpdk
  Branch: master
  CommitID:baa8e2c6b4d7ce289e891b9c96fb3193311c0f01

139827 --> testing pass

Test environment and result as below:

+-----------------+----------+
|   Environment   | abi_test |
+=================+==========+
| CentOS Stream 8 | PASS     |
+-----------------+----------+
| Debian Bullseye | PASS     |
+-----------------+----------+
| Fedora 38       | PASS     |
+-----------------+----------+
| Debian 12       | PASS     |
+-----------------+----------+
| Fedora 39       | PASS     |
+-----------------+----------+
| CentOS Stream 9 | PASS     |
+-----------------+----------+


CentOS Stream 8
	Kernel: 5.4.0-167-generic
	Compiler: gcc 8.5.0 20210514

Debian Bullseye
	Kernel: 5.4.0-167-generic
	Compiler: gcc 10.2.1-6

Fedora 38
	Kernel: Depends on container host
	Compiler: clang 16.0.6

Debian 12
	Kernel: Container Host Kernel
	Compiler: gcc 10.2.1

Fedora 39
	Kernel: Depends on container host
	Compiler: clang 17.0.6

CentOS Stream 9
	Kernel: 5.4.0-167-generic
	Compiler: gcc 11.4.1 20230605

To view detailed results, visit:
https://lab.dpdk.org/results/dashboard/patchsets/29906/

UNH-IOL DPDK Community Lab

To manage your email subscriptions, visit: 
https://lab.dpdk.org/results/dashboard/preferences/subscriptions/