From mboxrd@z Thu Jan  1 00:00:00 1970
Return-Path: <test-report-bounces@dpdk.org>
Received: from mails.dpdk.org (mails.dpdk.org [217.70.189.124])
	by inbox.dpdk.org (Postfix) with ESMTP id 6FDB243F75
	for <public@inbox.dpdk.org>; Fri,  3 May 2024 12:30:00 +0200 (CEST)
Received: from mails.dpdk.org (localhost [127.0.0.1])
	by mails.dpdk.org (Postfix) with ESMTP id 680D1402D0;
	Fri,  3 May 2024 12:30:00 +0200 (CEST)
Received: from mail-yw1-f228.google.com (mail-yw1-f228.google.com
 [209.85.128.228])
 by mails.dpdk.org (Postfix) with ESMTP id 138C7402C5
 for <test-report@dpdk.org>; Fri,  3 May 2024 12:29:59 +0200 (CEST)
Received: by mail-yw1-f228.google.com with SMTP id
 00721157ae682-61bec6bab2bso40717157b3.1
 for <test-report@dpdk.org>; Fri, 03 May 2024 03:29:59 -0700 (PDT)
DKIM-Signature: v=1; a=rsa-sha256; c=relaxed/relaxed;
 d=iol.unh.edu; s=unh-iol; t=1714732198; x=1715336998; darn=dpdk.org;
 h=references:in-reply-to:cc:to:from:subject:message-id:date:from:to
 :cc:subject:date:message-id:reply-to;
 bh=J63f/HQLNtDFele0pwjqDuamCrxYeeVZdsctxWB2g4M=;
 b=RODtIwgEpRCamGi328chNjhL8N8okdFMJJxOdhNoXXc09GqzzShj/G6dPD3CD2Rd+E
 4gMt0n0FT8KWeePiUfxiJpT8XXfnuE/57X1JU2vej8lzMuDmrT5wOs6uEYmfyvU6pw5I
 T85GJOH7v7YFpUksU6s6CmdJcA2XFAtoEgQMc=
X-Google-DKIM-Signature: v=1; a=rsa-sha256; c=relaxed/relaxed;
 d=1e100.net; s=20230601; t=1714732198; x=1715336998;
 h=references:in-reply-to:cc:to:from:subject:message-id:date
 :x-gm-message-state:from:to:cc:subject:date:message-id:reply-to;
 bh=J63f/HQLNtDFele0pwjqDuamCrxYeeVZdsctxWB2g4M=;
 b=buHs1i1PAUBQrPAY/dVuD4mWLx5vbNbUAKSMd1AgSnjt1TUjlmqNCwgTBEBJ5SUElB
 kU/TzILxZD8FshPnpiBqvKPykv+dpoXrhTqxNe3LfBs7OF0iJxVCrgoI631v4HC/I2An
 0PwskYc2UGNLheu9h0SNFceXNiMEraOr80L6bv6B3CVlpaYzXZzrEImVBELSCq7hfkcM
 c0p6yuuar/o0H9ptiMCARVALe5NcEhS4MWM3cNaO46hIL01uDLd/irNqWCWRvwMpwobI
 e0N9VFu3yyDhPav/2gOK/5HuS8O8m1ixW3TXGFmeoKZZuNH3NYI/8cGcS59+W2zVyB24
 lQfQ==
X-Gm-Message-State: AOJu0Yz+Mm7EKcDDkftqA5tqgtLrFQvhvfM2DdholhDL/8+kV41ki6H0
 57XVgWwfY8DmsG7EvOpsMDH0VoxrbKEh3Ejg6ddTOHVqN0ACFMjrAEjGwdY0U/redOfcvxB1d07
 hjAYQgcLhNyW7B5GcO4lqY804CYqB9/4lQAsk9GzH
X-Google-Smtp-Source: AGHT+IF3mbQR85f7lbKK2crKAdHpFG0yw5U0mnsPlLxwBKGQGhG5R582IeUrcWuS28Xy95yS/XxszFGjZcfx
X-Received: by 2002:a81:7646:0:b0:61b:34b0:ff04 with SMTP id
 j6-20020a817646000000b0061b34b0ff04mr1884981ywk.32.1714732198451; 
 Fri, 03 May 2024 03:29:58 -0700 (PDT)
Received: from postal.iol.unh.edu (postal.iol.unh.edu. [132.177.123.84])
 by smtp-relay.gmail.com with ESMTPS id
 i130-20020a0ddf88000000b0061adb2484a5sm222725ywe.5.2024.05.03.03.29.58
 (version=TLS1_2 cipher=ECDHE-ECDSA-AES128-GCM-SHA256 bits=128/128);
 Fri, 03 May 2024 03:29:58 -0700 (PDT)
X-Relaying-Domain: iol.unh.edu
Date: Fri, 03 May 2024 03:29:58 -0700 (PDT)
Message-ID: <6634bca6.0d0a0220.806a6.eaedSMTPIN_ADDED_MISSING@mx.google.com>
Received: from [172.21.0.9] (unknown [172.18.0.240])
 by postal.iol.unh.edu (Postfix) with ESMTP id 1E3EB6052514;
 Fri,  3 May 2024 06:29:58 -0400 (EDT)
Subject: |SUCCESS| pw139827 [PATCH] doc: fix testpmd ring size command
From: dpdklab@iol.unh.edu
To: Test Report <test-report@dpdk.org>
Cc: dpdk-test-reports@iol.unh.edu
In-Reply-To: <20240503085129.316979-1-ktraynor@redhat.com>
References: <20240503085129.316979-1-ktraynor@redhat.com>
Content-Type: text/plain
X-BeenThere: test-report@dpdk.org
X-Mailman-Version: 2.1.29
Precedence: list
List-Id: automatic DPDK test reports <test-report.dpdk.org>
List-Unsubscribe: <https://mails.dpdk.org/options/test-report>,
 <mailto:test-report-request@dpdk.org?subject=unsubscribe>
List-Archive: <http://mails.dpdk.org/archives/test-report/>
List-Post: <mailto:test-report@dpdk.org>
List-Help: <mailto:test-report-request@dpdk.org?subject=help>
List-Subscribe: <https://mails.dpdk.org/listinfo/test-report>,
 <mailto:test-report-request@dpdk.org?subject=subscribe>
Errors-To: test-report-bounces@dpdk.org

Test-Label: iol-compile-amd64-testing
Test-Status: SUCCESS
http://dpdk.org/patch/139827

_Testing PASS_

Submitter: Kevin Traynor <ktraynor@redhat.com>
Date: Friday, May 03 2024 08:51:29 
DPDK git baseline: Repo:dpdk
  Branch: master
  CommitID:baa8e2c6b4d7ce289e891b9c96fb3193311c0f01

139827 --> testing pass

Test environment and result as below:

+---------------------+--------------------+----------------------+-------------------+
|     Environment     | dpdk_meson_compile | dpdk_mingw64_compile | dpdk_msvc_compile |
+=====================+====================+======================+===================+
| FreeBSD 13.3        | PASS               | SKIPPED              | SKIPPED           |
+---------------------+--------------------+----------------------+-------------------+
| FreeBSD 14.0        | PASS               | SKIPPED              | SKIPPED           |
+---------------------+--------------------+----------------------+-------------------+
| Windows Server 2019 | PASS               | PASS                 | SKIPPED           |
+---------------------+--------------------+----------------------+-------------------+
| CentOS Stream 8     | PASS               | SKIPPED              | SKIPPED           |
+---------------------+--------------------+----------------------+-------------------+
| Windows Server 2022 | PASS               | PASS                 | PASS              |
+---------------------+--------------------+----------------------+-------------------+
| Debian Bullseye     | PASS               | SKIPPED              | SKIPPED           |
+---------------------+--------------------+----------------------+-------------------+
| CentOS Stream 9     | PASS               | SKIPPED              | SKIPPED           |
+---------------------+--------------------+----------------------+-------------------+
| Fedora 37           | PASS               | SKIPPED              | SKIPPED           |
+---------------------+--------------------+----------------------+-------------------+


FreeBSD 13.3
	Kernel: 13.3-RELEASE-p1
	Compiler: clang 17.0.6

FreeBSD 14.0
	Kernel: 14.0
	Compiler: clang 16.0.6

Windows Server 2019
	Kernel: 10.0.17763
	Compiler: clang 14.0 and gcc 8.1.0 (MinGW)

CentOS Stream 8
	Kernel: 5.4.0-167-generic
	Compiler: gcc 8.5.0 20210514

Windows Server 2022
	Kernel: 10.0.20348.2031
	Compiler: clang 15.0.7, gcc 8.1.0 (MinGW), and MSVC VS 17.9

Debian Bullseye
	Kernel: 5.4.0-167-generic
	Compiler: gcc 10.2.1-6

CentOS Stream 9
	Kernel: 5.4.0-167-generic
	Compiler: gcc 11.4.1 20230605

Fedora 37
	Kernel: Depends on container host system
	Compiler: gcc 12.3.1

To view detailed results, visit:
https://lab.dpdk.org/results/dashboard/patchsets/29906/

UNH-IOL DPDK Community Lab

To manage your email subscriptions, visit: 
https://lab.dpdk.org/results/dashboard/preferences/subscriptions/