From mboxrd@z Thu Jan  1 00:00:00 1970
Return-Path: <test-report-bounces@dpdk.org>
Received: from mails.dpdk.org (mails.dpdk.org [217.70.189.124])
	by inbox.dpdk.org (Postfix) with ESMTP id 9D6D643F75
	for <public@inbox.dpdk.org>; Fri,  3 May 2024 12:40:51 +0200 (CEST)
Received: from mails.dpdk.org (localhost [127.0.0.1])
	by mails.dpdk.org (Postfix) with ESMTP id 99510402D0;
	Fri,  3 May 2024 12:40:51 +0200 (CEST)
Received: from mail-pl1-f225.google.com (mail-pl1-f225.google.com
 [209.85.214.225])
 by mails.dpdk.org (Postfix) with ESMTP id 2FBE7402C5
 for <test-report@dpdk.org>; Fri,  3 May 2024 12:40:51 +0200 (CEST)
Received: by mail-pl1-f225.google.com with SMTP id
 d9443c01a7336-1ec92e355bfso27931425ad.3
 for <test-report@dpdk.org>; Fri, 03 May 2024 03:40:51 -0700 (PDT)
DKIM-Signature: v=1; a=rsa-sha256; c=relaxed/relaxed;
 d=iol.unh.edu; s=unh-iol; t=1714732850; x=1715337650; darn=dpdk.org;
 h=references:in-reply-to:cc:to:from:subject:message-id:date:from:to
 :cc:subject:date:message-id:reply-to;
 bh=rl5XkQHt23R1CU/rxOPALNwMi4bGT8Ydhtk4OgVW6uU=;
 b=Eda4nbNKEYsGfr4cV+pJMV233zciOv9q1Sc/+wLYcZ/KYu2H1VOhV+WyvlbLbaKcvH
 +LHruWM3oj2BeBgq6AEpqohdO8us2UDiBaVKZddMdK8HkyVJEP+X3F+SswRcrmrd0wld
 1PpUlJGtMiQKPI7VKX/QBvwIIiQWqr6RIBEeg=
X-Google-DKIM-Signature: v=1; a=rsa-sha256; c=relaxed/relaxed;
 d=1e100.net; s=20230601; t=1714732850; x=1715337650;
 h=references:in-reply-to:cc:to:from:subject:message-id:date
 :x-gm-message-state:from:to:cc:subject:date:message-id:reply-to;
 bh=rl5XkQHt23R1CU/rxOPALNwMi4bGT8Ydhtk4OgVW6uU=;
 b=Y8NCXIvhZgsI/NfBGckfoQtZrz6C7a1cM+60IomYGPftWBoBBCRenCkzHcoJo9gBjs
 ajlaEaWTZotaS1nz5YIZjP5ClF6Cwz99pqxC+BR7JWIcD2JQKwBruJal5XjZqI2303AC
 /oENN2DCk/pcLtq9xcVfqO0xre+wRl6nRZ0CgUHzlGw647F6KlWtI43a5SDVW4h823mM
 1r06Y7+N+GyEjWEu5CYurL/h3nPoPElno6T3zdD6FNy769UIjWg9l67IwpvFybTNtzP6
 7Z4hOuYrDFz/0GsqhrMHLHBW4WJJvPgxn25VHbh/NFFJi4uGaXkr5G0gMD5hhoJt9Wey
 iEAQ==
X-Gm-Message-State: AOJu0YzzSQ8PN6ka19WXKlwPS2CwCQkxyyWqUf5FOR0vDsfFkvYgWYhC
 7FeSBtGT9KfbOpLfbxJgISbPZRIsLBw/v34aRmzx8dOfxnYolOeKH4/gnBkLyktTTktVclCq/OY
 v2LN7jSUUXNjgIgErUvjRs86ZEy5MUibwMSVPXj1LGZdDQReha43G0fWM
X-Google-Smtp-Source: AGHT+IGRhqF3GUMJaZZh4PLN04p7929GNkueog/048xicdIjEuusHre9H9nI97lTdKuWRSJ1vpvUL2oFS52K
X-Received: by 2002:a17:902:82c6:b0:1e2:1805:52c5 with SMTP id
 u6-20020a17090282c600b001e2180552c5mr2184830plz.16.1714732850495; 
 Fri, 03 May 2024 03:40:50 -0700 (PDT)
Received: from postal.iol.unh.edu (postal.iol.unh.edu.
 [2606:4100:3880:1234::84]) by smtp-relay.gmail.com with ESMTPS id
 p10-20020a170902bd0a00b001e60b8c9c66sm76182pls.78.2024.05.03.03.40.50
 (version=TLS1_2 cipher=ECDHE-ECDSA-AES128-GCM-SHA256 bits=128/128);
 Fri, 03 May 2024 03:40:50 -0700 (PDT)
X-Relaying-Domain: iol.unh.edu
Date: Fri, 03 May 2024 03:40:50 -0700 (PDT)
Message-ID: <6634bf32.170a0220.54ab2.3867SMTPIN_ADDED_MISSING@mx.google.com>
Received: from [172.21.0.6] (unknown [172.18.0.240])
 by postal.iol.unh.edu (Postfix) with ESMTP id F35196052514;
 Fri,  3 May 2024 06:40:49 -0400 (EDT)
Subject: |SUCCESS| pw139827 [PATCH] doc: fix testpmd ring size command
From: dpdklab@iol.unh.edu
To: Test Report <test-report@dpdk.org>
Cc: dpdk-test-reports@iol.unh.edu
In-Reply-To: <20240503085129.316979-1-ktraynor@redhat.com>
References: <20240503085129.316979-1-ktraynor@redhat.com>
Content-Type: text/plain
X-BeenThere: test-report@dpdk.org
X-Mailman-Version: 2.1.29
Precedence: list
List-Id: automatic DPDK test reports <test-report.dpdk.org>
List-Unsubscribe: <https://mails.dpdk.org/options/test-report>,
 <mailto:test-report-request@dpdk.org?subject=unsubscribe>
List-Archive: <http://mails.dpdk.org/archives/test-report/>
List-Post: <mailto:test-report@dpdk.org>
List-Help: <mailto:test-report-request@dpdk.org?subject=help>
List-Subscribe: <https://mails.dpdk.org/listinfo/test-report>,
 <mailto:test-report-request@dpdk.org?subject=subscribe>
Errors-To: test-report-bounces@dpdk.org

Test-Label: iol-compile-amd64-testing
Test-Status: SUCCESS
http://dpdk.org/patch/139827

_Testing PASS_

Submitter: Kevin Traynor <ktraynor@redhat.com>
Date: Friday, May 03 2024 08:51:29 
DPDK git baseline: Repo:dpdk
  Branch: master
  CommitID:baa8e2c6b4d7ce289e891b9c96fb3193311c0f01

139827 --> testing pass

Test environment and result as below:

+---------------------+--------------------+----------------------+-------------------+
|     Environment     | dpdk_meson_compile | dpdk_mingw64_compile | dpdk_msvc_compile |
+=====================+====================+======================+===================+
| FreeBSD 13.3        | PASS               | SKIPPED              | SKIPPED           |
+---------------------+--------------------+----------------------+-------------------+
| FreeBSD 14.0        | PASS               | SKIPPED              | SKIPPED           |
+---------------------+--------------------+----------------------+-------------------+
| Windows Server 2019 | PASS               | PASS                 | SKIPPED           |
+---------------------+--------------------+----------------------+-------------------+
| CentOS Stream 8     | PASS               | SKIPPED              | SKIPPED           |
+---------------------+--------------------+----------------------+-------------------+
| Windows Server 2022 | PASS               | PASS                 | PASS              |
+---------------------+--------------------+----------------------+-------------------+
| Debian Bullseye     | PASS               | SKIPPED              | SKIPPED           |
+---------------------+--------------------+----------------------+-------------------+
| CentOS Stream 9     | PASS               | SKIPPED              | SKIPPED           |
+---------------------+--------------------+----------------------+-------------------+
| Fedora 37           | PASS               | SKIPPED              | SKIPPED           |
+---------------------+--------------------+----------------------+-------------------+
| Debian 12           | PASS               | SKIPPED              | SKIPPED           |
+---------------------+--------------------+----------------------+-------------------+
| Fedora 39           | PASS               | SKIPPED              | SKIPPED           |
+---------------------+--------------------+----------------------+-------------------+
| Fedora 38           | PASS               | SKIPPED              | SKIPPED           |
+---------------------+--------------------+----------------------+-------------------+


FreeBSD 13.3
	Kernel: 13.3-RELEASE-p1
	Compiler: clang 17.0.6

FreeBSD 14.0
	Kernel: 14.0
	Compiler: clang 16.0.6

Windows Server 2019
	Kernel: 10.0.17763
	Compiler: clang 14.0 and gcc 8.1.0 (MinGW)

CentOS Stream 8
	Kernel: 5.4.0-167-generic
	Compiler: gcc 8.5.0 20210514

Windows Server 2022
	Kernel: 10.0.20348.2031
	Compiler: clang 15.0.7, gcc 8.1.0 (MinGW), and MSVC VS 17.9

Debian Bullseye
	Kernel: 5.4.0-167-generic
	Compiler: gcc 10.2.1-6

CentOS Stream 9
	Kernel: 5.4.0-167-generic
	Compiler: gcc 11.4.1 20230605

Fedora 37
	Kernel: Depends on container host system
	Compiler: gcc 12.3.1

Debian 12
	Kernel: Container Host Kernel
	Compiler: gcc 10.2.1

Fedora 39
	Kernel: Depends on container host
	Compiler: gcc 13.2.1

Fedora 38
	Kernel: Depends on container host
	Compiler: clang 16.0.6

To view detailed results, visit:
https://lab.dpdk.org/results/dashboard/patchsets/29906/

UNH-IOL DPDK Community Lab

To manage your email subscriptions, visit: 
https://lab.dpdk.org/results/dashboard/preferences/subscriptions/