From mboxrd@z Thu Jan  1 00:00:00 1970
Return-Path: <test-report-bounces@dpdk.org>
Received: from mails.dpdk.org (mails.dpdk.org [217.70.189.124])
	by inbox.dpdk.org (Postfix) with ESMTP id D9A9543F75
	for <public@inbox.dpdk.org>; Fri,  3 May 2024 12:48:30 +0200 (CEST)
Received: from mails.dpdk.org (localhost [127.0.0.1])
	by mails.dpdk.org (Postfix) with ESMTP id D53D4402D0;
	Fri,  3 May 2024 12:48:30 +0200 (CEST)
Received: from mail-qv1-f99.google.com (mail-qv1-f99.google.com
 [209.85.219.99]) by mails.dpdk.org (Postfix) with ESMTP id 3011D402C5
 for <test-report@dpdk.org>; Fri,  3 May 2024 12:48:29 +0200 (CEST)
Received: by mail-qv1-f99.google.com with SMTP id
 6a1803df08f44-69b6c2e9ed9so42411816d6.1
 for <test-report@dpdk.org>; Fri, 03 May 2024 03:48:29 -0700 (PDT)
DKIM-Signature: v=1; a=rsa-sha256; c=relaxed/relaxed;
 d=iol.unh.edu; s=unh-iol; t=1714733308; x=1715338108; darn=dpdk.org;
 h=references:in-reply-to:cc:to:from:subject:message-id:date:from:to
 :cc:subject:date:message-id:reply-to;
 bh=SjkdJaKKHBD80/Ca9rTM//JJFVCJUBP/ygVgcwXk6N8=;
 b=RHa6swU6STpTzO4bwfs8Y7ugYKvfOa/FmnCtN97NCy81/8cKuZh04dVhgAHCyAyiN+
 Q9XInWxCY6qB03RqEANy/FiPdRV8O9/h5pmLKiGHAaBPco750F3k/LZoylqyVmPEU6fS
 tNvqnQnT27HIO++7yKQP+dJVAAKIN+zQ4i09E=
X-Google-DKIM-Signature: v=1; a=rsa-sha256; c=relaxed/relaxed;
 d=1e100.net; s=20230601; t=1714733308; x=1715338108;
 h=references:in-reply-to:cc:to:from:subject:message-id:date
 :x-gm-message-state:from:to:cc:subject:date:message-id:reply-to;
 bh=SjkdJaKKHBD80/Ca9rTM//JJFVCJUBP/ygVgcwXk6N8=;
 b=T3HaUOFDbI2yNvGs/rjw5grcCb8Hq76wxKaMMe9sKIvSjF+gC9lj7xl+cBtuxA0zuI
 J4jHM6SXuwOLj3BVUHv6UwVHRHmY7hdQd8g5tGFLdui73EhJV1zqfi3TsiEP5BsSzJI5
 04kxckh5wWQcQPbNYwlq0sTiToQX59hZxGbDQMian77WZImro1psKCTzN2iFjkCUqW5K
 IKCF/5SeHEwx+mP4jk8jtvQA/61AWKXBL2dD3ese+9lr/jEXnL/Ls4VeZF7ZIiRkoZ2/
 M/1vp92oAlMxMdFQMvcDRopQmiBXDd0eDOt28vtoqSImNU5f4R9jn5wkw1g8raPKCggD
 cVyQ==
X-Gm-Message-State: AOJu0Yyk8JJERN1I6YwEADyueCdM+6kyiVgb7BjNbaUSGkdtzt+QyagW
 zWHYXx1lY8QwxUQDlLcp98oWNftbm18TNGafZ6nBN4CVEm7pMXznNdVaBAqqAWAcLZOGiQDlpi4
 xWu0+65572OgsK+IbqNTwWzICQQPLqa1bM/Tjtzsx
X-Google-Smtp-Source: AGHT+IE4WfuBnTqoToLm5EcOAlE5HvAzweVCHvD38FObhvrVAQ8GxsQqNZdgujyToKZam1aockZYPzRVLfpT
X-Received: by 2002:a05:6214:4008:b0:6a0:b905:97ab with SMTP id
 kd8-20020a056214400800b006a0b90597abmr1929177qvb.52.1714733308594; 
 Fri, 03 May 2024 03:48:28 -0700 (PDT)
Received: from postal.iol.unh.edu (postal.iol.unh.edu. [132.177.123.84])
 by smtp-relay.gmail.com with ESMTPS id
 v18-20020a0ced52000000b00698fda0ee75sm123333qvq.17.2024.05.03.03.48.28
 (version=TLS1_2 cipher=ECDHE-ECDSA-AES128-GCM-SHA256 bits=128/128);
 Fri, 03 May 2024 03:48:28 -0700 (PDT)
X-Relaying-Domain: iol.unh.edu
Date: Fri, 03 May 2024 03:48:28 -0700 (PDT)
Message-ID: <6634c0fc.0c0a0220.a842b.7364SMTPIN_ADDED_MISSING@mx.google.com>
Received: from [172.21.0.7] (unknown [172.18.0.240])
 by postal.iol.unh.edu (Postfix) with ESMTP id 4ADBB6052514;
 Fri,  3 May 2024 06:48:28 -0400 (EDT)
Subject: |SUCCESS| pw139827 [PATCH] doc: fix testpmd ring size command
From: dpdklab@iol.unh.edu
To: Test Report <test-report@dpdk.org>
Cc: dpdk-test-reports@iol.unh.edu
In-Reply-To: <20240503085129.316979-1-ktraynor@redhat.com>
References: <20240503085129.316979-1-ktraynor@redhat.com>
Content-Type: text/plain
X-BeenThere: test-report@dpdk.org
X-Mailman-Version: 2.1.29
Precedence: list
List-Id: automatic DPDK test reports <test-report.dpdk.org>
List-Unsubscribe: <https://mails.dpdk.org/options/test-report>,
 <mailto:test-report-request@dpdk.org?subject=unsubscribe>
List-Archive: <http://mails.dpdk.org/archives/test-report/>
List-Post: <mailto:test-report@dpdk.org>
List-Help: <mailto:test-report-request@dpdk.org?subject=help>
List-Subscribe: <https://mails.dpdk.org/listinfo/test-report>,
 <mailto:test-report-request@dpdk.org?subject=subscribe>
Errors-To: test-report-bounces@dpdk.org

Test-Label: iol-unit-amd64-testing
Test-Status: SUCCESS
http://dpdk.org/patch/139827

_Testing PASS_

Submitter: Kevin Traynor <ktraynor@redhat.com>
Date: Friday, May 03 2024 08:51:29 
DPDK git baseline: Repo:dpdk
  Branch: master
  CommitID:baa8e2c6b4d7ce289e891b9c96fb3193311c0f01

139827 --> testing pass

Test environment and result as below:

+-----------------+----------------+
|   Environment   | dpdk_unit_test |
+=================+================+
| CentOS Stream 8 | PASS           |
+-----------------+----------------+
| Debian Bullseye | PASS           |
+-----------------+----------------+
| CentOS Stream 9 | PASS           |
+-----------------+----------------+
| Fedora 37       | PASS           |
+-----------------+----------------+
| Fedora 38       | PASS           |
+-----------------+----------------+
| Debian 12       | PASS           |
+-----------------+----------------+
| Fedora 39       | PASS           |
+-----------------+----------------+


CentOS Stream 8
	Kernel: 5.4.0-167-generic
	Compiler: gcc 8.5.0 20210514

Debian Bullseye
	Kernel: 5.4.0-167-generic
	Compiler: gcc 10.2.1-6

CentOS Stream 9
	Kernel: 5.4.0-167-generic
	Compiler: gcc 11.4.1 20230605

Fedora 37
	Kernel: Depends on container host system
	Compiler: gcc 12.3.1

Fedora 38
	Kernel: Depends on container host
	Compiler: clang 16.0.6

Debian 12
	Kernel: Container Host Kernel
	Compiler: gcc 10.2.1

Fedora 39
	Kernel: Depends on container host
	Compiler: gcc 13.2.1

To view detailed results, visit:
https://lab.dpdk.org/results/dashboard/patchsets/29906/

UNH-IOL DPDK Community Lab

To manage your email subscriptions, visit: 
https://lab.dpdk.org/results/dashboard/preferences/subscriptions/