From mboxrd@z Thu Jan  1 00:00:00 1970
Return-Path: <test-report-bounces@dpdk.org>
Received: from mails.dpdk.org (mails.dpdk.org [217.70.189.124])
	by inbox.dpdk.org (Postfix) with ESMTP id ABBAC43F75
	for <public@inbox.dpdk.org>; Fri,  3 May 2024 12:52:31 +0200 (CEST)
Received: from mails.dpdk.org (localhost [127.0.0.1])
	by mails.dpdk.org (Postfix) with ESMTP id A3F75402D0;
	Fri,  3 May 2024 12:52:31 +0200 (CEST)
Received: from mail-pg1-f228.google.com (mail-pg1-f228.google.com
 [209.85.215.228])
 by mails.dpdk.org (Postfix) with ESMTP id 8DE02402C5
 for <test-report@dpdk.org>; Fri,  3 May 2024 12:52:29 +0200 (CEST)
Received: by mail-pg1-f228.google.com with SMTP id
 41be03b00d2f7-5e4f79007ffso5814359a12.2
 for <test-report@dpdk.org>; Fri, 03 May 2024 03:52:29 -0700 (PDT)
DKIM-Signature: v=1; a=rsa-sha256; c=relaxed/relaxed;
 d=iol.unh.edu; s=unh-iol; t=1714733549; x=1715338349; darn=dpdk.org;
 h=references:in-reply-to:cc:to:from:subject:message-id:date:from:to
 :cc:subject:date:message-id:reply-to;
 bh=sZIJR7Fjoa/A7Iw2xNootMA8DGou3HSOk8Rtrq4oz98=;
 b=HQPHCWv4JLj02UZndcIa83bbmWhJKUEbdwZ5t0vqvWkBw2pO2Kkj8uKAjFjRHTuyV/
 IXGfGpemYJnemkfOkW3T4kMia5vIEi4jNszLqHE38JPsPtinT1xIuWZdgfsj2cp+IwCr
 584X1GAnPi0OrBLHk83gCcWDtNq2MHRsXyY9M=
X-Google-DKIM-Signature: v=1; a=rsa-sha256; c=relaxed/relaxed;
 d=1e100.net; s=20230601; t=1714733549; x=1715338349;
 h=references:in-reply-to:cc:to:from:subject:message-id:date
 :x-gm-message-state:from:to:cc:subject:date:message-id:reply-to;
 bh=sZIJR7Fjoa/A7Iw2xNootMA8DGou3HSOk8Rtrq4oz98=;
 b=OxNPoYB7C/I45Jg7MEOqwhd64y3Km8n/EmR5rYzrObv7PkHixmUeW5gb2N/QLM7sFy
 YVXMNoNlFns94mSKGeVrmg9vVIFhhzdpNJCd113DoI1CaS7HM08VW0nq7N3ExOT2D3I4
 F9lKXhoKDDFCwNDHwMj3iJ10aZ0+1N5lw11+P2rELs7jwVtlrWB7gsaW8BX+yh+7qTzg
 +wk0+0V0Gwx7JP2cFbmz4J3yrTHOnsaL6mTfWAebrC8WLVTcb7HKi06Upi6iPytnqeuM
 aLtzoAAsGBlEBMSbtzo2LSXsRDIMmFq6RYwpeb+/EwLqbDKihxisxhWCJnOHgdZ+tN6j
 OfGA==
X-Gm-Message-State: AOJu0YxG8KlQGvMNi+uOBE9EKbrYexy6s+S+dSuvIWxNb9FZDyMFt10c
 JyGfAXxKDCYytBJkb5sAru2xEgUyK86sa++9dQU9UMotLZVMtTxE57BTGmQMjy4xAB7z7skCTKb
 njSsjyPHdWH5hQU3v4kQ1G4W47A/CEk/L2eqvd0/dftB+5LkIcCtpJUna
X-Google-Smtp-Source: AGHT+IF5Afx6KirNXAWSkwM0LVcz/xCiTHAJWRrGp4B/+lsqMRKgY8RYQyUBgJy4lxOQPKqOBAoNt5o9kQOU
X-Received: by 2002:a05:6a21:4986:b0:1a9:cd98:5cd7 with SMTP id
 ax6-20020a056a21498600b001a9cd985cd7mr2138542pzc.39.1714733548729; 
 Fri, 03 May 2024 03:52:28 -0700 (PDT)
Received: from postal.iol.unh.edu (postal.iol.unh.edu.
 [2606:4100:3880:1234::84]) by smtp-relay.gmail.com with ESMTPS id
 x40-20020a056a0018a800b006f44b35d7acsm49921pfh.17.2024.05.03.03.52.28
 (version=TLS1_2 cipher=ECDHE-ECDSA-AES128-GCM-SHA256 bits=128/128);
 Fri, 03 May 2024 03:52:28 -0700 (PDT)
X-Relaying-Domain: iol.unh.edu
Date: Fri, 03 May 2024 03:52:28 -0700 (PDT)
Message-ID: <6634c1ec.050a0220.bf2e8.3789SMTPIN_ADDED_MISSING@mx.google.com>
Received: from [172.21.0.6] (unknown [172.18.0.240])
 by postal.iol.unh.edu (Postfix) with ESMTP id E7DFC6052514;
 Fri,  3 May 2024 06:52:27 -0400 (EDT)
Subject: |SUCCESS| pw139827 [PATCH] doc: fix testpmd ring size command
From: dpdklab@iol.unh.edu
To: Test Report <test-report@dpdk.org>
Cc: dpdk-test-reports@iol.unh.edu
In-Reply-To: <20240503085129.316979-1-ktraynor@redhat.com>
References: <20240503085129.316979-1-ktraynor@redhat.com>
Content-Type: text/plain
X-BeenThere: test-report@dpdk.org
X-Mailman-Version: 2.1.29
Precedence: list
List-Id: automatic DPDK test reports <test-report.dpdk.org>
List-Unsubscribe: <https://mails.dpdk.org/options/test-report>,
 <mailto:test-report-request@dpdk.org?subject=unsubscribe>
List-Archive: <http://mails.dpdk.org/archives/test-report/>
List-Post: <mailto:test-report@dpdk.org>
List-Help: <mailto:test-report-request@dpdk.org?subject=help>
List-Subscribe: <https://mails.dpdk.org/listinfo/test-report>,
 <mailto:test-report-request@dpdk.org?subject=subscribe>
Errors-To: test-report-bounces@dpdk.org

Test-Label: iol-compile-arm64-testing
Test-Status: SUCCESS
http://dpdk.org/patch/139827

_Testing PASS_

Submitter: Kevin Traynor <ktraynor@redhat.com>
Date: Friday, May 03 2024 08:51:29 
DPDK git baseline: Repo:dpdk
  Branch: master
  CommitID:baa8e2c6b4d7ce289e891b9c96fb3193311c0f01

139827 --> testing pass

Test environment and result as below:

+----------------------------------------+--------------------+
|              Environment               | dpdk_meson_compile |
+========================================+====================+
| Ubuntu 20.04 ARM SVE                   | PASS               |
+----------------------------------------+--------------------+
| Debian 12 with MUSDK                   | PASS               |
+----------------------------------------+--------------------+
| Fedora 37 (ARM)                        | PASS               |
+----------------------------------------+--------------------+
| Ubuntu 20.04 (ARM)                     | PASS               |
+----------------------------------------+--------------------+
| Fedora 38 (ARM)                        | PASS               |
+----------------------------------------+--------------------+
| Fedora 39 (ARM)                        | PASS               |
+----------------------------------------+--------------------+
| CentOS Stream 9 (ARM)                  | PASS               |
+----------------------------------------+--------------------+
| Debian 11 (Buster) (ARM)               | PASS               |
+----------------------------------------+--------------------+
| Ubuntu 20.04 aarch32 GCC Cross Compile | PASS               |
+----------------------------------------+--------------------+
| Debian 12 (arm)                        | PASS               |
+----------------------------------------+--------------------+


Ubuntu 20.04 ARM SVE
	Kernel: 5.4.0-167-generic
	Compiler: gcc (Ubuntu 10.5.0-1ubuntu1~20.04) 10.5.0

Debian 12 with MUSDK
	Kernel: Container Host Kernel
	Compiler: gcc 12.2.0

Fedora 37 (ARM)
	Kernel: Depends on container host
	Compiler: gcc 12.3.1

Ubuntu 20.04 (ARM)
	Kernel: Container Host Kernel
	Compiler: gcc 9.4.0

Fedora 38 (ARM)
	Kernel: Depends on container host
	Compiler: gcc 13.2.1

Fedora 39 (ARM)
	Kernel: Depends on container host
	Compiler: gcc 13.2.1

CentOS Stream 9 (ARM)
	Kernel: Container Host Kernel
	Compiler: gcc 11.4.1

Debian 11 (Buster) (ARM)
	Kernel: Container Host Kernel
	Compiler: gcc 10.2.1

Ubuntu 20.04 aarch32 GCC Cross Compile
	Kernel: 5.4.0-167-generic
	Compiler: gcc 9.4.0

Debian 12 (arm)
	Kernel: Container Host Kernel
	Compiler: gcc 12.2.0

To view detailed results, visit:
https://lab.dpdk.org/results/dashboard/patchsets/29906/

UNH-IOL DPDK Community Lab

To manage your email subscriptions, visit: 
https://lab.dpdk.org/results/dashboard/preferences/subscriptions/