From mboxrd@z Thu Jan  1 00:00:00 1970
Return-Path: <test-report-bounces@dpdk.org>
Received: from mails.dpdk.org (mails.dpdk.org [217.70.189.124])
	by inbox.dpdk.org (Postfix) with ESMTP id 86BCD43F75
	for <public@inbox.dpdk.org>; Fri,  3 May 2024 13:00:10 +0200 (CEST)
Received: from mails.dpdk.org (localhost [127.0.0.1])
	by mails.dpdk.org (Postfix) with ESMTP id 6F68D402D0;
	Fri,  3 May 2024 13:00:10 +0200 (CEST)
Received: from mail-il1-f226.google.com (mail-il1-f226.google.com
 [209.85.166.226])
 by mails.dpdk.org (Postfix) with ESMTP id 57972402C5
 for <test-report@dpdk.org>; Fri,  3 May 2024 13:00:09 +0200 (CEST)
Received: by mail-il1-f226.google.com with SMTP id
 e9e14a558f8ab-36c0ef5f7ebso39723955ab.0
 for <test-report@dpdk.org>; Fri, 03 May 2024 04:00:09 -0700 (PDT)
DKIM-Signature: v=1; a=rsa-sha256; c=relaxed/relaxed;
 d=iol.unh.edu; s=unh-iol; t=1714734008; x=1715338808; darn=dpdk.org;
 h=references:in-reply-to:cc:to:from:subject:message-id:date:from:to
 :cc:subject:date:message-id:reply-to;
 bh=uBRfyys5J9UvF7pIb61zefMS8idN8XqIxeJnDXuAbV4=;
 b=iukSBxEA48gTwQJ3MknKcvUMNsi6MdvBnTFtZwTSngI1iPfJzxOTqEnjTs5HcRJYOW
 w6872jBx6rpKCtGKtJUKNydWmmgZxBFkoEkP9eLjYM0n0QVrgx4CLfxqmW/mBnvTZkks
 IELgNqbJaYIJradZUP1cQe/NSNjIMGV5Ny8uQ=
X-Google-DKIM-Signature: v=1; a=rsa-sha256; c=relaxed/relaxed;
 d=1e100.net; s=20230601; t=1714734008; x=1715338808;
 h=references:in-reply-to:cc:to:from:subject:message-id:date
 :x-gm-message-state:from:to:cc:subject:date:message-id:reply-to;
 bh=uBRfyys5J9UvF7pIb61zefMS8idN8XqIxeJnDXuAbV4=;
 b=ZbPpnEgSv4xHk5xt/2N6TP0aNJHrqlUTQqW87Bv0at2fd5lzzb6uX3LkZpXlpS8X2k
 uFTXWrcTBP4e27+M2XE3eXijUTndK23cFJw0ENYdCyAkJkN7SJKJimLMZ+gLk2R2RU6E
 19IjORFdlX5oUbLvyEssscm65YS8DI+Jfcz0WcrcCxUe4pX3cs5QUCWQxviIWgFFlYyQ
 fAylJuEXKnOjQCO3YvN8AnmifiyTBX35XWLcnBfH240DOSPjTc2iLyJTRm4/+V9xvT2I
 cw/O0YT2tClHL2ECnUyUOZHguDRAkOO7sRmX0PfQrn8CEZ0HuErs0bFOtxcEaULpQ+yT
 HkRQ==
X-Gm-Message-State: AOJu0Ywchz25em+tvJicacucp6yL5+KWyWcIc97VZdOoND9IDp4YmZ5x
 cLYZEIYBfW+VHRXwZSESKmwHaAmtjZGhjYJxi86ci7fO4hMCa1cNhL5TIZyi78w0b9z2Larvjsj
 YIEJSfcMDDzYHeh0PYogr2JF5EbOdMsh8sgO1F3q5b0f5WcuJb8Ys954L
X-Google-Smtp-Source: AGHT+IFDavm2ZhQfXlLRMDugFcurnNKvfqwJuQKF7gmhpsOmQ+aKCt3HRrS05p0obfgnu4MkXN7Uw0zgw96v
X-Received: by 2002:a05:6e02:1d98:b0:36b:3bf8:8caa with SMTP id
 h24-20020a056e021d9800b0036b3bf88caamr2813421ila.10.1714734008668; 
 Fri, 03 May 2024 04:00:08 -0700 (PDT)
Received: from postal.iol.unh.edu (postal.iol.unh.edu.
 [2606:4100:3880:1234::84]) by smtp-relay.gmail.com with ESMTPS id
 o4-20020a056e02068400b0036b389e90cbsm118443ils.35.2024.05.03.04.00.08
 (version=TLS1_2 cipher=ECDHE-ECDSA-AES128-GCM-SHA256 bits=128/128);
 Fri, 03 May 2024 04:00:08 -0700 (PDT)
X-Relaying-Domain: iol.unh.edu
Date: Fri, 03 May 2024 04:00:08 -0700 (PDT)
Message-ID: <6634c3b8.050a0220.8d99c.7b1bSMTPIN_ADDED_MISSING@mx.google.com>
Received: from [172.17.0.2] (unknown [172.18.0.217])
 by postal.iol.unh.edu (Postfix) with ESMTP id 140E86052514;
 Fri,  3 May 2024 07:00:08 -0400 (EDT)
Subject: |SUCCESS| pw139827 [PATCH] doc: fix testpmd ring size command
From: dpdklab@iol.unh.edu
To: Test Report <test-report@dpdk.org>
Cc: dpdk-test-reports@iol.unh.edu
In-Reply-To: <20240503085129.316979-1-ktraynor@redhat.com>
References: <20240503085129.316979-1-ktraynor@redhat.com>
Content-Type: text/plain
X-BeenThere: test-report@dpdk.org
X-Mailman-Version: 2.1.29
Precedence: list
List-Id: automatic DPDK test reports <test-report.dpdk.org>
List-Unsubscribe: <https://mails.dpdk.org/options/test-report>,
 <mailto:test-report-request@dpdk.org?subject=unsubscribe>
List-Archive: <http://mails.dpdk.org/archives/test-report/>
List-Post: <mailto:test-report@dpdk.org>
List-Help: <mailto:test-report-request@dpdk.org?subject=help>
List-Subscribe: <https://mails.dpdk.org/listinfo/test-report>,
 <mailto:test-report-request@dpdk.org?subject=subscribe>
Errors-To: test-report-bounces@dpdk.org

Test-Label: iol-abi-testing
Test-Status: SUCCESS
http://dpdk.org/patch/139827

_Testing PASS_

Submitter: Kevin Traynor <ktraynor@redhat.com>
Date: Friday, May 03 2024 08:51:29 
DPDK git baseline: Repo:dpdk
  Branch: master
  CommitID:baa8e2c6b4d7ce289e891b9c96fb3193311c0f01

139827 --> testing pass

Test environment and result as below:

+------------------+----------+
|   Environment    | abi_test |
+==================+==========+
| CentOS Stream 8  | PASS     |
+------------------+----------+
| Debian Bullseye  | PASS     |
+------------------+----------+
| Fedora 38        | PASS     |
+------------------+----------+
| Debian 12        | PASS     |
+------------------+----------+
| Fedora 39        | PASS     |
+------------------+----------+
| CentOS Stream 9  | PASS     |
+------------------+----------+
| Ubuntu 22.04     | PASS     |
+------------------+----------+
| openSUSE Leap 15 | PASS     |
+------------------+----------+
| RHEL8            | PASS     |
+------------------+----------+
| Fedora 37        | PASS     |
+------------------+----------+


CentOS Stream 8
	Kernel: 5.4.0-167-generic
	Compiler: gcc 8.5.0 20210514

Debian Bullseye
	Kernel: 5.4.0-167-generic
	Compiler: gcc 10.2.1-6

Fedora 38
	Kernel: Depends on container host
	Compiler: clang 16.0.6

Debian 12
	Kernel: Container Host Kernel
	Compiler: gcc 10.2.1

Fedora 39
	Kernel: Depends on container host
	Compiler: clang 17.0.6

CentOS Stream 9
	Kernel: 5.4.0-167-generic
	Compiler: gcc 11.4.1 20230605

Ubuntu 22.04
	Kernel: 5.4.0-167-generic
	Compiler: gcc 11.4.0

openSUSE Leap 15
	Kernel: 5.4.0-167-generic
	Compiler: gcc 7.5.0

RHEL8
	Kernel: 5.4.0-167-generic
	Compiler: gcc 8.5.0 20210514 (Red Hat 8.5.0-20)

Fedora 37
	Kernel: Depends on container host system
	Compiler: gcc 12.3.1

To view detailed results, visit:
https://lab.dpdk.org/results/dashboard/patchsets/29906/

UNH-IOL DPDK Community Lab

To manage your email subscriptions, visit: 
https://lab.dpdk.org/results/dashboard/preferences/subscriptions/