From mboxrd@z Thu Jan  1 00:00:00 1970
Return-Path: <test-report-bounces@dpdk.org>
Received: from mails.dpdk.org (mails.dpdk.org [217.70.189.124])
	by inbox.dpdk.org (Postfix) with ESMTP id 47F5F43F75
	for <public@inbox.dpdk.org>; Fri,  3 May 2024 13:15:00 +0200 (CEST)
Received: from mails.dpdk.org (localhost [127.0.0.1])
	by mails.dpdk.org (Postfix) with ESMTP id 1E0AC402D0;
	Fri,  3 May 2024 13:15:00 +0200 (CEST)
Received: from mail-pf1-f228.google.com (mail-pf1-f228.google.com
 [209.85.210.228])
 by mails.dpdk.org (Postfix) with ESMTP id 3EE9B402C5
 for <test-report@dpdk.org>; Fri,  3 May 2024 13:14:59 +0200 (CEST)
Received: by mail-pf1-f228.google.com with SMTP id
 d2e1a72fcca58-6f4178aec15so3074476b3a.0
 for <test-report@dpdk.org>; Fri, 03 May 2024 04:14:59 -0700 (PDT)
DKIM-Signature: v=1; a=rsa-sha256; c=relaxed/relaxed;
 d=iol.unh.edu; s=unh-iol; t=1714734898; x=1715339698; darn=dpdk.org;
 h=references:in-reply-to:cc:to:from:subject:message-id:date:from:to
 :cc:subject:date:message-id:reply-to;
 bh=JG9gKxpa4G6nwK3qaUREXm7nmVJSVCrxVeGcGj/fdmI=;
 b=eRcI1taF/3zxHsOyCmBPXSXH0h8wmYcvbTzjqZWWQSvJ3Rfr9j/c3tyDkMEo+VUu5t
 e7SQuio5k8qZZAVyNDCt37I9zXG1xNV0o263JkxbvjCvmRZzx4HgDJPLNt0PHR2ewbeV
 XgKD5TbD9RcK+UOaeT4A6J+j1CP5D7pbN3lkg=
X-Google-DKIM-Signature: v=1; a=rsa-sha256; c=relaxed/relaxed;
 d=1e100.net; s=20230601; t=1714734898; x=1715339698;
 h=references:in-reply-to:cc:to:from:subject:message-id:date
 :x-gm-message-state:from:to:cc:subject:date:message-id:reply-to;
 bh=JG9gKxpa4G6nwK3qaUREXm7nmVJSVCrxVeGcGj/fdmI=;
 b=p4kjT3lyg01xWXEBS4gyNZTaCTDJFXEQi7PX+Nxpnz8Jg9pZNPFkcRYKOwK0WuisJe
 JDPhkuQn637EdVMsi4toPHzY2xnQgyXPjmMHEEUwq7/T96u0tVZxrtyv0sHphU5/HT5+
 blvwgJkcZdPHXXVsCJBe+K1P9PZ0rBZvh6de0v0UfZ7GfaHwafgBeAtoW5bvPxtmZVjC
 LRrEUZoWpzDPg2TOOGoD3i1zvYKe9dYeEWmTyoZoiuTxEci9HYA99us3kgfByUU8K23D
 J3VrDs91VfFLOZT8/QxV8lYuRQqd644wTsDohdhvrJF+xRSB9WSkfWMVxMUDR7LZOmxk
 3FhA==
X-Gm-Message-State: AOJu0YxuAIid3GWyh10je+5lb5xY6c74J3uoCv62vheRnVx2sAYYjdUM
 k069oMM0Dz3qrhRmaZA7++h3N9NHKdtHFMUHyEyg9AkBOyhnjygC7pO3p8U8bMxwxmJcmWTprPb
 ZN4eApO/HNDpoblyqtYILqIPmMRYuxEV76ovNghLY
X-Google-Smtp-Source: AGHT+IEue1Rq5atpVaD592p8HCFk+M6b5P5q4GjzjQ9VSjMiO0qlA1R8YtMQEhZn8JJDvHmWon5hd7uZikMu
X-Received: by 2002:a05:6a21:4988:b0:1a7:4b6f:7934 with SMTP id
 ax8-20020a056a21498800b001a74b6f7934mr2215414pzc.17.1714734898215; 
 Fri, 03 May 2024 04:14:58 -0700 (PDT)
Received: from postal.iol.unh.edu (postal.iol.unh.edu. [132.177.123.84])
 by smtp-relay.gmail.com with ESMTPS id
 b11-20020a056a000a8b00b006f4476e0790sm96039pfl.15.2024.05.03.04.14.58
 (version=TLS1_2 cipher=ECDHE-ECDSA-AES128-GCM-SHA256 bits=128/128);
 Fri, 03 May 2024 04:14:58 -0700 (PDT)
X-Relaying-Domain: iol.unh.edu
Date: Fri, 03 May 2024 04:14:58 -0700 (PDT)
Message-ID: <6634c732.050a0220.ac286.710aSMTPIN_ADDED_MISSING@mx.google.com>
Received: from [172.17.0.4] (unknown [172.18.0.217])
 by postal.iol.unh.edu (Postfix) with ESMTP id 469C26052514;
 Fri,  3 May 2024 07:14:57 -0400 (EDT)
Subject: |SUCCESS| pw139827 [PATCH] doc: fix testpmd ring size command
From: dpdklab@iol.unh.edu
To: Test Report <test-report@dpdk.org>
Cc: dpdk-test-reports@iol.unh.edu
In-Reply-To: <20240503085129.316979-1-ktraynor@redhat.com>
References: <20240503085129.316979-1-ktraynor@redhat.com>
Content-Type: text/plain
X-BeenThere: test-report@dpdk.org
X-Mailman-Version: 2.1.29
Precedence: list
List-Id: automatic DPDK test reports <test-report.dpdk.org>
List-Unsubscribe: <https://mails.dpdk.org/options/test-report>,
 <mailto:test-report-request@dpdk.org?subject=unsubscribe>
List-Archive: <http://mails.dpdk.org/archives/test-report/>
List-Post: <mailto:test-report@dpdk.org>
List-Help: <mailto:test-report-request@dpdk.org?subject=help>
List-Subscribe: <https://mails.dpdk.org/listinfo/test-report>,
 <mailto:test-report-request@dpdk.org?subject=subscribe>
Errors-To: test-report-bounces@dpdk.org

Test-Label: iol-unit-amd64-testing
Test-Status: SUCCESS
http://dpdk.org/patch/139827

_Testing PASS_

Submitter: Kevin Traynor <ktraynor@redhat.com>
Date: Friday, May 03 2024 08:51:29 
DPDK git baseline: Repo:dpdk
  Branch: master
  CommitID:baa8e2c6b4d7ce289e891b9c96fb3193311c0f01

139827 --> testing pass

Test environment and result as below:

+---------------------+----------------+
|     Environment     | dpdk_unit_test |
+=====================+================+
| CentOS Stream 8     | PASS           |
+---------------------+----------------+
| Debian Bullseye     | PASS           |
+---------------------+----------------+
| CentOS Stream 9     | PASS           |
+---------------------+----------------+
| Fedora 37           | PASS           |
+---------------------+----------------+
| Fedora 38           | PASS           |
+---------------------+----------------+
| Debian 12           | PASS           |
+---------------------+----------------+
| Fedora 39           | PASS           |
+---------------------+----------------+
| Ubuntu 20.04        | PASS           |
+---------------------+----------------+
| Ubuntu 22.04        | PASS           |
+---------------------+----------------+
| openSUSE Leap 15    | PASS           |
+---------------------+----------------+
| RHEL8               | PASS           |
+---------------------+----------------+
| Windows Server 2019 | PASS           |
+---------------------+----------------+


CentOS Stream 8
	Kernel: 5.4.0-167-generic
	Compiler: gcc 8.5.0 20210514

Debian Bullseye
	Kernel: 5.4.0-167-generic
	Compiler: gcc 10.2.1-6

CentOS Stream 9
	Kernel: 5.4.0-167-generic
	Compiler: gcc 11.4.1 20230605

Fedora 37
	Kernel: Depends on container host system
	Compiler: gcc 12.3.1

Fedora 38
	Kernel: Depends on container host
	Compiler: clang 16.0.6

Debian 12
	Kernel: Container Host Kernel
	Compiler: gcc 10.2.1

Fedora 39
	Kernel: Depends on container host
	Compiler: gcc 13.2.1

Ubuntu 20.04
	Kernel: 5.4.0-167-generic
	Compiler: gcc 9.4.0-1ubuntu1~20.04.1

Ubuntu 22.04
	Kernel: 5.4.0-167-generic
	Compiler: gcc 11.4.0

openSUSE Leap 15
	Kernel: 5.4.0-167-generic
	Compiler: gcc 7.5.0

RHEL8
	Kernel: 5.4.0-167-generic
	Compiler: gcc 8.5.0 20210514 (Red Hat 8.5.0-20)

Windows Server 2019
	Kernel: 10.0.17763
	Compiler: clang 14.0 and gcc 8.1.0 (MinGW)

To view detailed results, visit:
https://lab.dpdk.org/results/dashboard/patchsets/29906/

UNH-IOL DPDK Community Lab

To manage your email subscriptions, visit: 
https://lab.dpdk.org/results/dashboard/preferences/subscriptions/