From mboxrd@z Thu Jan  1 00:00:00 1970
Return-Path: <test-report-bounces@dpdk.org>
Received: from mails.dpdk.org (mails.dpdk.org [217.70.189.124])
	by inbox.dpdk.org (Postfix) with ESMTP id 7740243D99
	for <public@inbox.dpdk.org>; Fri,  3 May 2024 17:04:13 +0200 (CEST)
Received: from mails.dpdk.org (localhost [127.0.0.1])
	by mails.dpdk.org (Postfix) with ESMTP id 7069F402D1;
	Fri,  3 May 2024 17:04:13 +0200 (CEST)
Received: from mail-yb1-f225.google.com (mail-yb1-f225.google.com
 [209.85.219.225])
 by mails.dpdk.org (Postfix) with ESMTP id 3CC1F402D0
 for <test-report@dpdk.org>; Fri,  3 May 2024 17:04:12 +0200 (CEST)
Received: by mail-yb1-f225.google.com with SMTP id
 3f1490d57ef6-de5e74939fdso5469230276.0
 for <test-report@dpdk.org>; Fri, 03 May 2024 08:04:12 -0700 (PDT)
DKIM-Signature: v=1; a=rsa-sha256; c=relaxed/relaxed;
 d=iol.unh.edu; s=unh-iol; t=1714748651; x=1715353451; darn=dpdk.org;
 h=references:in-reply-to:cc:to:from:subject:message-id:date:from:to
 :cc:subject:date:message-id:reply-to;
 bh=ZfsQwfMtrwC+uE7OfduE1/69fLdH6zfkXQm2dKsUnhE=;
 b=ZP2XIqMotPDA2rT8k7gavYS/A/3aXfFiji+2reSbDf9q9alICCmnYFz7pRoCzuoicL
 LJ3XBwIlnN720vfFIrTpnI0s4648be+yFxB5t/wSV5MXPKOEBgo/E1vhkmHENwEnVSmu
 Mr8ndjw6Y/WNOOuWtsKcknN1VQieE+DV4c/1o=
X-Google-DKIM-Signature: v=1; a=rsa-sha256; c=relaxed/relaxed;
 d=1e100.net; s=20230601; t=1714748651; x=1715353451;
 h=references:in-reply-to:cc:to:from:subject:message-id:date
 :x-gm-message-state:from:to:cc:subject:date:message-id:reply-to;
 bh=ZfsQwfMtrwC+uE7OfduE1/69fLdH6zfkXQm2dKsUnhE=;
 b=P0yu1VFZdEX+F96bhJQMIjiAA79q+78WmVTZjbVwvBcXOV2jHk0FkGlV1ODauE4DSW
 uS21jw0abpEKD0jizgyyQC7F9VqDRmZiGDw50QboJ4LmlKMXBmmGrKrRsA4doLR8ccxM
 Rby5ZnMqDuVSF38p9nJdlBIEkywAo1NVsDT9kgliLvJtVJorfP6pneWwy4wzcTRvkzcR
 0ZEYTSFZUQT+x9sJlDEyCmy39a8u7JLeJovFK4jAP/9163UACZ/qw5cNd5sL9odRDHDU
 7uKATApXm6SGh/tGgYVST6ssXj+akmeJIK1I1i06EzFYOF4lh3fE+xtl3f3GoESsXkQs
 /UIA==
X-Gm-Message-State: AOJu0YwAO9hZKLHEb0td4rKwRS7Cg7LCkgcZ+o4zJv1ls2sKXiZMV10g
 Nc9cV3r825qOIklfHhHNW9GchHW4Sd1H+sD+1koFlMK5AdE6ODzl1zmuu0EasogU1OOBi+WbI06
 5Bqdhb2/ZlRcJHYspK5QFYxB9o7ktPlh7RF7CqbFTeBZSzkiQvadVklXK
X-Google-Smtp-Source: AGHT+IHchTB9GjzdwREr9Irtw8WpET1uiczklwNawuI/SlHyBeRxCY/BLU00bbCuSqQ+2OUsH5ZyiUDCvCYh
X-Received: by 2002:a05:690c:b05:b0:618:9353:100c with SMTP id
 cj5-20020a05690c0b0500b006189353100cmr2868260ywb.23.1714748651629; 
 Fri, 03 May 2024 08:04:11 -0700 (PDT)
Received: from postal.iol.unh.edu (postal.iol.unh.edu.
 [2606:4100:3880:1234::84]) by smtp-relay.gmail.com with ESMTPS id
 g65-20020a0df644000000b00617bba8f2basm246096ywf.17.2024.05.03.08.04.11
 (version=TLS1_2 cipher=ECDHE-ECDSA-AES128-GCM-SHA256 bits=128/128);
 Fri, 03 May 2024 08:04:11 -0700 (PDT)
X-Relaying-Domain: iol.unh.edu
Date: Fri, 03 May 2024 08:04:11 -0700 (PDT)
Message-ID: <6634fceb.0d0a0220.9ad93.f1b5SMTPIN_ADDED_MISSING@mx.google.com>
Received: from [172.21.0.6] (unknown [172.18.0.240])
 by postal.iol.unh.edu (Postfix) with ESMTP id 4FB7A604D420;
 Fri,  3 May 2024 11:04:11 -0400 (EDT)
Subject: |SUCCESS| pw139829-139855 [PATCH] [v2,27/27] net/ixgbe/base: add var
From: dpdklab@iol.unh.edu
To: Test Report <test-report@dpdk.org>
Cc: dpdk-test-reports@iol.unh.edu
In-Reply-To: <93795571c98db29f975ee12675246b5169c7082e.1714744629.git.anatoly.burakov@intel.com>
References: <93795571c98db29f975ee12675246b5169c7082e.1714744629.git.anatoly.burakov@intel.com>
Content-Type: text/plain
X-BeenThere: test-report@dpdk.org
X-Mailman-Version: 2.1.29
Precedence: list
List-Id: automatic DPDK test reports <test-report.dpdk.org>
List-Unsubscribe: <https://mails.dpdk.org/options/test-report>,
 <mailto:test-report-request@dpdk.org?subject=unsubscribe>
List-Archive: <http://mails.dpdk.org/archives/test-report/>
List-Post: <mailto:test-report@dpdk.org>
List-Help: <mailto:test-report-request@dpdk.org?subject=help>
List-Subscribe: <https://mails.dpdk.org/listinfo/test-report>,
 <mailto:test-report-request@dpdk.org?subject=subscribe>
Errors-To: test-report-bounces@dpdk.org

Test-Label: iol-compile-amd64-testing
Test-Status: SUCCESS
http://dpdk.org/patch/139855

_Testing PASS_

Submitter: Anatoly Burakov <anatoly.burakov@intel.com>
Date: Friday, May 03 2024 13:57:58 
DPDK git baseline: Repo:dpdk
  Branch: master
  CommitID:2ac57ed414af92f0c30a799e1824fd47f86a94b0

139829-139855 --> testing pass

Test environment and result as below:

+---------------------+--------------------+----------------------+-------------------+
|     Environment     | dpdk_meson_compile | dpdk_mingw64_compile | dpdk_msvc_compile |
+=====================+====================+======================+===================+
| FreeBSD 13.3        | PASS               | SKIPPED              | SKIPPED           |
+---------------------+--------------------+----------------------+-------------------+
| CentOS Stream 9     | PASS               | SKIPPED              | SKIPPED           |
+---------------------+--------------------+----------------------+-------------------+
| Windows Server 2022 | PASS               | PASS                 | PASS              |
+---------------------+--------------------+----------------------+-------------------+
| CentOS Stream 8     | PASS               | SKIPPED              | SKIPPED           |
+---------------------+--------------------+----------------------+-------------------+
| Windows Server 2019 | PASS               | PASS                 | SKIPPED           |
+---------------------+--------------------+----------------------+-------------------+
| Debian Bullseye     | PASS               | SKIPPED              | SKIPPED           |
+---------------------+--------------------+----------------------+-------------------+
| Debian 12           | PASS               | SKIPPED              | SKIPPED           |
+---------------------+--------------------+----------------------+-------------------+


FreeBSD 13.3
	Kernel: 13.3-RELEASE-p1
	Compiler: clang 17.0.6

CentOS Stream 9
	Kernel: 5.4.0-167-generic
	Compiler: gcc 11.4.1 20230605

Windows Server 2022
	Kernel: 10.0.20348.2031
	Compiler: clang 15.0.7, gcc 8.1.0 (MinGW), and MSVC VS 17.9

CentOS Stream 8
	Kernel: 5.4.0-167-generic
	Compiler: gcc 8.5.0 20210514

Windows Server 2019
	Kernel: 10.0.17763
	Compiler: clang 14.0 and gcc 8.1.0 (MinGW)

Debian Bullseye
	Kernel: 5.4.0-167-generic
	Compiler: gcc 10.2.1-6

Debian 12
	Kernel: Container Host Kernel
	Compiler: gcc 10.2.1

To view detailed results, visit:
https://lab.dpdk.org/results/dashboard/patchsets/29908/

UNH-IOL DPDK Community Lab

To manage your email subscriptions, visit: 
https://lab.dpdk.org/results/dashboard/preferences/subscriptions/