From mboxrd@z Thu Jan  1 00:00:00 1970
Return-Path: <test-report-bounces@dpdk.org>
Received: from mails.dpdk.org (mails.dpdk.org [217.70.189.124])
	by inbox.dpdk.org (Postfix) with ESMTP id C23E643D99
	for <public@inbox.dpdk.org>; Fri,  3 May 2024 17:05:14 +0200 (CEST)
Received: from mails.dpdk.org (localhost [127.0.0.1])
	by mails.dpdk.org (Postfix) with ESMTP id BD77D402D1;
	Fri,  3 May 2024 17:05:14 +0200 (CEST)
Received: from mail-pf1-f226.google.com (mail-pf1-f226.google.com
 [209.85.210.226])
 by mails.dpdk.org (Postfix) with ESMTP id DB0BA402D0
 for <test-report@dpdk.org>; Fri,  3 May 2024 17:05:13 +0200 (CEST)
Received: by mail-pf1-f226.google.com with SMTP id
 d2e1a72fcca58-6f44881ad9eso1012403b3a.3
 for <test-report@dpdk.org>; Fri, 03 May 2024 08:05:13 -0700 (PDT)
DKIM-Signature: v=1; a=rsa-sha256; c=relaxed/relaxed;
 d=iol.unh.edu; s=unh-iol; t=1714748713; x=1715353513; darn=dpdk.org;
 h=references:in-reply-to:cc:to:from:subject:message-id:date:from:to
 :cc:subject:date:message-id:reply-to;
 bh=ZfsQwfMtrwC+uE7OfduE1/69fLdH6zfkXQm2dKsUnhE=;
 b=bXp+V1au0e9cQowRj6rtAj2xROa1N48symY7K2Wd80hwRZimOhKg+jC2sY6qKtQ1+C
 PKmOKzbcCr6fSJ318G43vyD1q1VB3/Q2F2WKN+d7NXaWbqVUOkgFPy+kYkXiUQvp+QcK
 h3hOvrTfN+nYjLvx71Yunz2sqE+FKn+ThYr3o=
X-Google-DKIM-Signature: v=1; a=rsa-sha256; c=relaxed/relaxed;
 d=1e100.net; s=20230601; t=1714748713; x=1715353513;
 h=references:in-reply-to:cc:to:from:subject:message-id:date
 :x-gm-message-state:from:to:cc:subject:date:message-id:reply-to;
 bh=ZfsQwfMtrwC+uE7OfduE1/69fLdH6zfkXQm2dKsUnhE=;
 b=QSc51HyFQrF35an8X5viZq4o24zE63Ax0wnk2YowZexBaDINm50LZYs2WBvqU7IukL
 NsyZIaDBE5f/sONcEou8nhrmSM60XmZpOrEYFe3Ne+DiuolMvTydcFRMXmFPA3Q4v15O
 jb9XMblEl38FuP6Igw21woyAcIFWCrsro5YPuryY6OswoqebmQQpK9SDmEYoEoEgX2Cc
 Yp6SYCey58AY0v3gdLCUOtxsHST/72zAuuf2VRLBOtNalF+oxXcxyeymk1W0FEtu5q2T
 W9tQM3Z+N3p3Ee+SOEJGFRVVUprvF1fc1kF1fnyKk0NbbRHbNNsiXgum8/n2/ImZi0Tg
 wpng==
X-Gm-Message-State: AOJu0YyDvVo4oF71dtXfxhi3rNY3VAEzzj+2cuKtFyP4WZy+Cf4izBX/
 JNtXdn1ZGAfv7XZZq026BdKBYT9TgvggZT5yxUsVf+PAZ0J2fa0oQkXe9BU5GCtMuy/3svo0UXE
 r3nmbfyy2GPM2ZVp2fCKmX4lJWctZpeKZHI9y4Dh6
X-Google-Smtp-Source: AGHT+IFtO57TpHre0JdnNeuuTcLTsnE/F3pdqVOzESKdbWin2AebNgIvjP3FlNLjuD7W3+HFrwS7uFkVbvq3
X-Received: by 2002:a05:6a20:55a1:b0:1a7:84e8:8037 with SMTP id
 kk33-20020a056a2055a100b001a784e88037mr2337815pzb.41.1714748713048; 
 Fri, 03 May 2024 08:05:13 -0700 (PDT)
Received: from postal.iol.unh.edu (postal.iol.unh.edu. [132.177.123.84])
 by smtp-relay.gmail.com with ESMTPS id
 v6-20020a056a00148600b006f40cdb6400sm188526pfu.21.2024.05.03.08.05.12
 (version=TLS1_2 cipher=ECDHE-ECDSA-AES128-GCM-SHA256 bits=128/128);
 Fri, 03 May 2024 08:05:13 -0700 (PDT)
X-Relaying-Domain: iol.unh.edu
Date: Fri, 03 May 2024 08:05:13 -0700 (PDT)
Message-ID: <6634fd29.050a0220.93f11.b7c7SMTPIN_ADDED_MISSING@mx.google.com>
Received: from [172.21.0.6] (unknown [172.18.0.240])
 by postal.iol.unh.edu (Postfix) with ESMTP id 4BBD7604D420;
 Fri,  3 May 2024 11:05:12 -0400 (EDT)
Subject: |SUCCESS| pw139829-139855 [PATCH] [v2,27/27] net/ixgbe/base: add var
From: dpdklab@iol.unh.edu
To: Test Report <test-report@dpdk.org>
Cc: dpdk-test-reports@iol.unh.edu
In-Reply-To: <93795571c98db29f975ee12675246b5169c7082e.1714744629.git.anatoly.burakov@intel.com>
References: <93795571c98db29f975ee12675246b5169c7082e.1714744629.git.anatoly.burakov@intel.com>
Content-Type: text/plain
X-BeenThere: test-report@dpdk.org
X-Mailman-Version: 2.1.29
Precedence: list
List-Id: automatic DPDK test reports <test-report.dpdk.org>
List-Unsubscribe: <https://mails.dpdk.org/options/test-report>,
 <mailto:test-report-request@dpdk.org?subject=unsubscribe>
List-Archive: <http://mails.dpdk.org/archives/test-report/>
List-Post: <mailto:test-report@dpdk.org>
List-Help: <mailto:test-report-request@dpdk.org?subject=help>
List-Subscribe: <https://mails.dpdk.org/listinfo/test-report>,
 <mailto:test-report-request@dpdk.org?subject=subscribe>
Errors-To: test-report-bounces@dpdk.org

Test-Label: iol-compile-amd64-testing
Test-Status: SUCCESS
http://dpdk.org/patch/139855

_Testing PASS_

Submitter: Anatoly Burakov <anatoly.burakov@intel.com>
Date: Friday, May 03 2024 13:57:58 
DPDK git baseline: Repo:dpdk
  Branch: master
  CommitID:2ac57ed414af92f0c30a799e1824fd47f86a94b0

139829-139855 --> testing pass

Test environment and result as below:

+---------------------+--------------------+----------------------+-------------------+
|     Environment     | dpdk_meson_compile | dpdk_mingw64_compile | dpdk_msvc_compile |
+=====================+====================+======================+===================+
| FreeBSD 13.3        | PASS               | SKIPPED              | SKIPPED           |
+---------------------+--------------------+----------------------+-------------------+
| CentOS Stream 9     | PASS               | SKIPPED              | SKIPPED           |
+---------------------+--------------------+----------------------+-------------------+
| Windows Server 2022 | PASS               | PASS                 | PASS              |
+---------------------+--------------------+----------------------+-------------------+
| CentOS Stream 8     | PASS               | SKIPPED              | SKIPPED           |
+---------------------+--------------------+----------------------+-------------------+
| Windows Server 2019 | PASS               | PASS                 | SKIPPED           |
+---------------------+--------------------+----------------------+-------------------+
| Debian Bullseye     | PASS               | SKIPPED              | SKIPPED           |
+---------------------+--------------------+----------------------+-------------------+
| Debian 12           | PASS               | SKIPPED              | SKIPPED           |
+---------------------+--------------------+----------------------+-------------------+


FreeBSD 13.3
	Kernel: 13.3-RELEASE-p1
	Compiler: clang 17.0.6

CentOS Stream 9
	Kernel: 5.4.0-167-generic
	Compiler: gcc 11.4.1 20230605

Windows Server 2022
	Kernel: 10.0.20348.2031
	Compiler: clang 15.0.7, gcc 8.1.0 (MinGW), and MSVC VS 17.9

CentOS Stream 8
	Kernel: 5.4.0-167-generic
	Compiler: gcc 8.5.0 20210514

Windows Server 2019
	Kernel: 10.0.17763
	Compiler: clang 14.0 and gcc 8.1.0 (MinGW)

Debian Bullseye
	Kernel: 5.4.0-167-generic
	Compiler: gcc 10.2.1-6

Debian 12
	Kernel: Container Host Kernel
	Compiler: gcc 10.2.1

To view detailed results, visit:
https://lab.dpdk.org/results/dashboard/patchsets/29908/

UNH-IOL DPDK Community Lab

To manage your email subscriptions, visit: 
https://lab.dpdk.org/results/dashboard/preferences/subscriptions/