From mboxrd@z Thu Jan  1 00:00:00 1970
Return-Path: <test-report-bounces@dpdk.org>
Received: from mails.dpdk.org (mails.dpdk.org [217.70.189.124])
	by inbox.dpdk.org (Postfix) with ESMTP id 4EBF743DD5
	for <public@inbox.dpdk.org>; Fri,  3 May 2024 17:06:55 +0200 (CEST)
Received: from mails.dpdk.org (localhost [127.0.0.1])
	by mails.dpdk.org (Postfix) with ESMTP id 4AF0E402D1;
	Fri,  3 May 2024 17:06:55 +0200 (CEST)
Received: from mail-qt1-f225.google.com (mail-qt1-f225.google.com
 [209.85.160.225])
 by mails.dpdk.org (Postfix) with ESMTP id 65BC9402D0
 for <test-report@dpdk.org>; Fri,  3 May 2024 17:06:53 +0200 (CEST)
Received: by mail-qt1-f225.google.com with SMTP id
 d75a77b69052e-4376e3fd7e4so51632861cf.2
 for <test-report@dpdk.org>; Fri, 03 May 2024 08:06:53 -0700 (PDT)
DKIM-Signature: v=1; a=rsa-sha256; c=relaxed/relaxed;
 d=iol.unh.edu; s=unh-iol; t=1714748813; x=1715353613; darn=dpdk.org;
 h=references:in-reply-to:cc:to:from:subject:message-id:date:from:to
 :cc:subject:date:message-id:reply-to;
 bh=3Ssw0LOiPom8eaEkS8UF5in1gpy0nUMKk47+ytVRMqs=;
 b=CVuU25IpTJ9O/0KAz2SuVCiekOJr8JjTHePac2Lwn9E/qt4N+6wJZGBLPTCXBfKfzp
 eUyH55rsZvfEZ0bBY49P+3eckFRgsq6B86FrkYXrC3hpHTG+6nN7q63EGElDrq514Q6k
 m93FKRuJwzGyd3NwMQxLUu2BeaaDpo+bg7xWc=
X-Google-DKIM-Signature: v=1; a=rsa-sha256; c=relaxed/relaxed;
 d=1e100.net; s=20230601; t=1714748813; x=1715353613;
 h=references:in-reply-to:cc:to:from:subject:message-id:date
 :x-gm-message-state:from:to:cc:subject:date:message-id:reply-to;
 bh=3Ssw0LOiPom8eaEkS8UF5in1gpy0nUMKk47+ytVRMqs=;
 b=ktTf540VeVVQ5ycQvKzJdaZL1sA8pbvyctGu45J6Hfq1lrW+UhP9T009wiEkfOrsLv
 4CMLGMYxZc1pmZYYcid6N3vcyEgZHw3rPLJmwKt/34AE8Sf3SK7dD9ykrAv4ByGJ36yS
 Y9PKF+twHf2edFvoBpgqPWWWa4frAcOKKKLOfKEvtpsTFpBKMXcLzEC1pHd4A/MLOgKk
 oMnLPIWQKcCFN05WguQ7LWtpKHURd22B0Im+YPcYPwjmuFmppANNh/ak0asActSEZClW
 hWewIz+3Aw0WxknpZwd7LIIuSx61Wg8ed2T7X66r4B8Yx+uWZialJ3w3p9T2Pa5yrTnd
 zguw==
X-Gm-Message-State: AOJu0Yzob18Tcp7YtmBSFtoQ46pVU2K/9lQnNlFJ76BCgi0QY7oxWlpQ
 M3Zv2CTT4Vofc9pt04ltBsmbClSVup264HsgA6rrAEC3fEkdf+IfPhBffo9YKZftb2CVv+dd1eW
 HonUOpjRwyTv8QvqaE1fvrh6g/i8zc9lfzOJdDTB2
X-Google-Smtp-Source: AGHT+IF3nX2YwZHXhoXWnOb+02/qcbngA+710JYMEJ2+zwnohjjs8jPYIy5O+sGoEMMJSh68IninQ77ADU1X
X-Received: by 2002:ac8:5d09:0:b0:43a:c471:aa3d with SMTP id
 f9-20020ac85d09000000b0043ac471aa3dmr2954435qtx.20.1714748812755; 
 Fri, 03 May 2024 08:06:52 -0700 (PDT)
Received: from postal.iol.unh.edu (postal.iol.unh.edu. [132.177.123.84])
 by smtp-relay.gmail.com with ESMTPS id
 z1-20020ac87f81000000b0043ae5c6b703sm135279qtj.28.2024.05.03.08.06.52
 (version=TLS1_2 cipher=ECDHE-ECDSA-AES128-GCM-SHA256 bits=128/128);
 Fri, 03 May 2024 08:06:52 -0700 (PDT)
X-Relaying-Domain: iol.unh.edu
Date: Fri, 03 May 2024 08:06:52 -0700 (PDT)
Message-ID: <6634fd8c.c80a0220.6aa5d.9529SMTPIN_ADDED_MISSING@mx.google.com>
Received: from [172.21.0.7] (unknown [172.18.0.240])
 by postal.iol.unh.edu (Postfix) with ESMTP id 8183C604D420;
 Fri,  3 May 2024 11:06:52 -0400 (EDT)
Subject: |SUCCESS| pw139829-139855 [PATCH] [v2,27/27] net/ixgbe/base: add var
From: dpdklab@iol.unh.edu
To: Test Report <test-report@dpdk.org>
Cc: dpdk-test-reports@iol.unh.edu
In-Reply-To: <93795571c98db29f975ee12675246b5169c7082e.1714744629.git.anatoly.burakov@intel.com>
References: <93795571c98db29f975ee12675246b5169c7082e.1714744629.git.anatoly.burakov@intel.com>
Content-Type: text/plain
X-BeenThere: test-report@dpdk.org
X-Mailman-Version: 2.1.29
Precedence: list
List-Id: automatic DPDK test reports <test-report.dpdk.org>
List-Unsubscribe: <https://mails.dpdk.org/options/test-report>,
 <mailto:test-report-request@dpdk.org?subject=unsubscribe>
List-Archive: <http://mails.dpdk.org/archives/test-report/>
List-Post: <mailto:test-report@dpdk.org>
List-Help: <mailto:test-report-request@dpdk.org?subject=help>
List-Subscribe: <https://mails.dpdk.org/listinfo/test-report>,
 <mailto:test-report-request@dpdk.org?subject=subscribe>
Errors-To: test-report-bounces@dpdk.org

Test-Label: iol-compile-arm64-testing
Test-Status: SUCCESS
http://dpdk.org/patch/139855

_Testing PASS_

Submitter: Anatoly Burakov <anatoly.burakov@intel.com>
Date: Friday, May 03 2024 13:57:58 
DPDK git baseline: Repo:dpdk
  Branch: master
  CommitID:2ac57ed414af92f0c30a799e1824fd47f86a94b0

139829-139855 --> testing pass

Test environment and result as below:

+--------------------------+--------------------+
|       Environment        | dpdk_meson_compile |
+==========================+====================+
| Ubuntu 20.04 ARM SVE     | PASS               |
+--------------------------+--------------------+
| Debian 12 with MUSDK     | PASS               |
+--------------------------+--------------------+
| Fedora 39 (ARM)          | PASS               |
+--------------------------+--------------------+
| CentOS Stream 9 (ARM)    | PASS               |
+--------------------------+--------------------+
| Debian 11 (Buster) (ARM) | PASS               |
+--------------------------+--------------------+


Ubuntu 20.04 ARM SVE
	Kernel: 5.4.0-167-generic
	Compiler: gcc (Ubuntu 10.5.0-1ubuntu1~20.04) 10.5.0

Debian 12 with MUSDK
	Kernel: Container Host Kernel
	Compiler: gcc 12.2.0

Fedora 39 (ARM)
	Kernel: Depends on container host
	Compiler: gcc 13.2.1

CentOS Stream 9 (ARM)
	Kernel: Container Host Kernel
	Compiler: gcc 11.4.1

Debian 11 (Buster) (ARM)
	Kernel: Container Host Kernel
	Compiler: gcc 10.2.1

To view detailed results, visit:
https://lab.dpdk.org/results/dashboard/patchsets/29908/

UNH-IOL DPDK Community Lab

To manage your email subscriptions, visit: 
https://lab.dpdk.org/results/dashboard/preferences/subscriptions/