From mboxrd@z Thu Jan  1 00:00:00 1970
Return-Path: <test-report-bounces@dpdk.org>
Received: from mails.dpdk.org (mails.dpdk.org [217.70.189.124])
	by inbox.dpdk.org (Postfix) with ESMTP id 0937143DD5
	for <public@inbox.dpdk.org>; Fri,  3 May 2024 17:08:47 +0200 (CEST)
Received: from mails.dpdk.org (localhost [127.0.0.1])
	by mails.dpdk.org (Postfix) with ESMTP id 02CFE402DA;
	Fri,  3 May 2024 17:08:47 +0200 (CEST)
Received: from mail-qk1-f227.google.com (mail-qk1-f227.google.com
 [209.85.222.227])
 by mails.dpdk.org (Postfix) with ESMTP id 1FFBA402D1
 for <test-report@dpdk.org>; Fri,  3 May 2024 17:08:46 +0200 (CEST)
Received: by mail-qk1-f227.google.com with SMTP id
 af79cd13be357-7927a0a8d6aso144748685a.1
 for <test-report@dpdk.org>; Fri, 03 May 2024 08:08:46 -0700 (PDT)
DKIM-Signature: v=1; a=rsa-sha256; c=relaxed/relaxed;
 d=iol.unh.edu; s=unh-iol; t=1714748925; x=1715353725; darn=dpdk.org;
 h=references:in-reply-to:cc:to:from:subject:message-id:date:from:to
 :cc:subject:date:message-id:reply-to;
 bh=0SB0OgaIwXHYdcJWDmtyYdQ4O6/4MSmHZMZA911zHA8=;
 b=b37ZjQoYnJwK4EDETyjvM9gEKFISj9tps3o5RnyKsxdlXu5rN9p6RiuCczvf6Ng8V0
 iX1pJ8NvVBbWN+8OGyOJlqcNR6V/bl2zQnaWADPhKK1B2i+6dYrI7PxdrbafrRzGQtLN
 +Po4kdhpB1PJEn9XVNk2jvFBSqITDqQ97rxeg=
X-Google-DKIM-Signature: v=1; a=rsa-sha256; c=relaxed/relaxed;
 d=1e100.net; s=20230601; t=1714748925; x=1715353725;
 h=references:in-reply-to:cc:to:from:subject:message-id:date
 :x-gm-message-state:from:to:cc:subject:date:message-id:reply-to;
 bh=0SB0OgaIwXHYdcJWDmtyYdQ4O6/4MSmHZMZA911zHA8=;
 b=N1SPIqnqK7IzB81+OmDCAf0dHhIAiqfLZnPE70DhCip7wXHGZgX6vVCSTexUZZ5QCz
 fSUwVz3EHrVrytvKr2NyAXHSyteNHCk456Is+aZmtfGD2mjx+VgsbrXdDYd5UcgffUSW
 pYYZ22vEHuRa1+I2GhOrTLN8tgxQftooKSkJfhYsqZMujY/c4TB2eewxIHfSWBwRplT2
 JAS2yIdjDoUNjEv1s744bck1tKYB20dffTQ9ykcOTpri/neHaEjyqZwue30Cjv0spdId
 VJ4kbphLCp//emJve145WR4pXOkiVjrMlY7Dp5WoKb2GPfhgY8W/c9rgXBmAHQz1s8HC
 iX5Q==
X-Gm-Message-State: AOJu0YyjwpEItYq2XZW9mkH/xLY2gaO03E7cz86ldYtV1hX64TCT0lWk
 uWpq4EHmqGpri3IdDO3YQi/vUV6/xe6B/hSHkQ8ic6e9HMDpXoBa1qMbJUl97qZRTvV+1uwXXww
 V7g17gG0WVH+O2MIJRYVoK1dBOPQXiX7hLgqvTnWZ310WDNCieXgS3MtM
X-Google-Smtp-Source: AGHT+IHEBxwSTWxqSi8mLR6GMzTnJNU3uzBjn31oUKXs7oe1OxhIzROsUu2iVVsCFPrL/FRabOLw1XtVKMQ0
X-Received: by 2002:a05:620a:388c:b0:790:87fb:f618 with SMTP id
 qp12-20020a05620a388c00b0079087fbf618mr4693737qkn.0.1714748925491; 
 Fri, 03 May 2024 08:08:45 -0700 (PDT)
Received: from postal.iol.unh.edu (postal.iol.unh.edu.
 [2606:4100:3880:1234::84]) by smtp-relay.gmail.com with ESMTPS id
 t10-20020a05620a450a00b00790eff482acsm86911qkp.7.2024.05.03.08.08.45
 (version=TLS1_2 cipher=ECDHE-ECDSA-AES128-GCM-SHA256 bits=128/128);
 Fri, 03 May 2024 08:08:45 -0700 (PDT)
X-Relaying-Domain: iol.unh.edu
Date: Fri, 03 May 2024 08:08:45 -0700 (PDT)
Message-ID: <6634fdfd.050a0220.4a079.4c4fSMTPIN_ADDED_MISSING@mx.google.com>
Received: from [172.21.0.8] (unknown [172.18.0.240])
 by postal.iol.unh.edu (Postfix) with ESMTP id B6F71604D421;
 Fri,  3 May 2024 11:08:44 -0400 (EDT)
Subject: |SUCCESS| pw139829-139855 [PATCH] [v2,27/27] net/ixgbe/base: add var
From: dpdklab@iol.unh.edu
To: Test Report <test-report@dpdk.org>
Cc: dpdk-test-reports@iol.unh.edu
In-Reply-To: <93795571c98db29f975ee12675246b5169c7082e.1714744629.git.anatoly.burakov@intel.com>
References: <93795571c98db29f975ee12675246b5169c7082e.1714744629.git.anatoly.burakov@intel.com>
Content-Type: text/plain
X-BeenThere: test-report@dpdk.org
X-Mailman-Version: 2.1.29
Precedence: list
List-Id: automatic DPDK test reports <test-report.dpdk.org>
List-Unsubscribe: <https://mails.dpdk.org/options/test-report>,
 <mailto:test-report-request@dpdk.org?subject=unsubscribe>
List-Archive: <http://mails.dpdk.org/archives/test-report/>
List-Post: <mailto:test-report@dpdk.org>
List-Help: <mailto:test-report-request@dpdk.org?subject=help>
List-Subscribe: <https://mails.dpdk.org/listinfo/test-report>,
 <mailto:test-report-request@dpdk.org?subject=subscribe>
Errors-To: test-report-bounces@dpdk.org

Test-Label: iol-unit-arm64-testing
Test-Status: SUCCESS
http://dpdk.org/patch/139855

_Testing PASS_

Submitter: Anatoly Burakov <anatoly.burakov@intel.com>
Date: Friday, May 03 2024 13:57:58 
DPDK git baseline: Repo:dpdk
  Branch: master
  CommitID:2ac57ed414af92f0c30a799e1824fd47f86a94b0

139829-139855 --> testing pass

Test environment and result as below:

+-----------------------+------------------------------+--------------+---------------------------+----------------+
|      Environment      | cryptodev_sw_snow3g_autotest | lpm_autotest | cryptodev_sw_zuc_autotest | dpdk_unit_test |
+=======================+==============================+==============+===========================+================+
| Debian 12 (arm)       | PASS                         | SKIPPED      | PASS                      | SKIPPED        |
+-----------------------+------------------------------+--------------+---------------------------+----------------+
| Ubuntu 20.04 ARM SVE  | SKIPPED                      | PASS         | SKIPPED                   | SKIPPED        |
+-----------------------+------------------------------+--------------+---------------------------+----------------+
| CentOS Stream 9 (ARM) | SKIPPED                      | SKIPPED      | SKIPPED                   | PASS           |
+-----------------------+------------------------------+--------------+---------------------------+----------------+


Debian 12 (arm)
	Kernel: Container Host Kernel
	Compiler: gcc 12.2.0

Ubuntu 20.04 ARM SVE
	Kernel: 5.4.0-167-generic
	Compiler: gcc (Ubuntu 10.5.0-1ubuntu1~20.04) 10.5.0

CentOS Stream 9 (ARM)
	Kernel: Container Host Kernel
	Compiler: gcc 11.4.1

To view detailed results, visit:
https://lab.dpdk.org/results/dashboard/patchsets/29908/

UNH-IOL DPDK Community Lab

To manage your email subscriptions, visit: 
https://lab.dpdk.org/results/dashboard/preferences/subscriptions/