From mboxrd@z Thu Jan  1 00:00:00 1970
Return-Path: <test-report-bounces@dpdk.org>
Received: from mails.dpdk.org (mails.dpdk.org [217.70.189.124])
	by inbox.dpdk.org (Postfix) with ESMTP id 1B94143F31
	for <public@inbox.dpdk.org>; Fri,  3 May 2024 17:25:09 +0200 (CEST)
Received: from mails.dpdk.org (localhost [127.0.0.1])
	by mails.dpdk.org (Postfix) with ESMTP id 957DC402DD;
	Fri,  3 May 2024 17:25:08 +0200 (CEST)
Received: from mail-io1-f97.google.com (mail-io1-f97.google.com
 [209.85.166.97]) by mails.dpdk.org (Postfix) with ESMTP id D1CD9402E0
 for <test-report@dpdk.org>; Fri,  3 May 2024 17:25:06 +0200 (CEST)
Received: by mail-io1-f97.google.com with SMTP id
 ca18e2360f4ac-7d9480d96bdso466987739f.1
 for <test-report@dpdk.org>; Fri, 03 May 2024 08:25:06 -0700 (PDT)
DKIM-Signature: v=1; a=rsa-sha256; c=relaxed/relaxed;
 d=iol.unh.edu; s=unh-iol; t=1714749906; x=1715354706; darn=dpdk.org;
 h=references:in-reply-to:cc:to:from:subject:message-id:date:from:to
 :cc:subject:date:message-id:reply-to;
 bh=Zwl9JMHKxQKLTB5MLE0LOmMkO5gII7gJ3kZm80TP14g=;
 b=IWeqfgbpCP+3Qp87sTQR8jHccb1cxhEaAdfNYPfrADeljTsRXS5xXM/avaE5L9k0K/
 wE/syLsN0+GqbF/iIUowlI51WiH3dYZffKxef/6lt0qyFgZomSDcDv6MUNIJcq+A98zh
 K7ete9XIDNTVSAcmFVJf/z6UuTHXvKcPRh3uQ=
X-Google-DKIM-Signature: v=1; a=rsa-sha256; c=relaxed/relaxed;
 d=1e100.net; s=20230601; t=1714749906; x=1715354706;
 h=references:in-reply-to:cc:to:from:subject:message-id:date
 :x-gm-message-state:from:to:cc:subject:date:message-id:reply-to;
 bh=Zwl9JMHKxQKLTB5MLE0LOmMkO5gII7gJ3kZm80TP14g=;
 b=LYsj7f3NTOgWSQOaWIHaEd96lO7Jk3zb5JqkPBdw/Z9Cns3Niz6rsbuV/E3D8MeGoZ
 XwYfDZT36WNmOLpS66od80c5saZCSArN3EiVzLL1Lfsl2V6r8XzDwDu67UYRjGl4pIOQ
 XgtOEK1wjWvqfBku29FtVB14CW3d8M5rz1qBuCJTs3OGkOvWeb63VUrM5TEDCAnC7FYO
 RuZ4TnyxSKfBtCsmhDNCvqNXkDXs0mPpOsXKQzJXrIfYGFyjBjTR58AmFpnlaxr3AIcl
 +BbnzjKjJsf2sFDaw7ku3g1WOAGg4d+pwK4iJSY2GNpy4Z01CS2xTPHqM9+ByLPdTeCj
 hPlg==
X-Gm-Message-State: AOJu0YwfegELairHlepvhy+bPiR8vTesxe09/ol7DAch/FmaBuzmd702
 R9kUvQB7uC4wlBQ7t5gDEA2qCBC55Z7wMJ1+Bc8Axi0ofisowj+52nsZD88a5b2YVlOrgl+Xbbw
 EW4klbj+a9IzG1u2YZZj3ThqWCW5WIG4fc/KllMVXv4AEy7GY7cGw34fy
X-Google-Smtp-Source: AGHT+IFuKtBDgoPNWfcBwIofIhX5WR981fZ5m7BNavbQfYvdldS2oHmz9bpszE4yVXtp0I1yNiYJKih361Wm
X-Received: by 2002:a5e:8619:0:b0:7de:a848:94c9 with SMTP id
 z25-20020a5e8619000000b007dea84894c9mr3307488ioj.6.1714749906191; 
 Fri, 03 May 2024 08:25:06 -0700 (PDT)
Received: from postal.iol.unh.edu (postal.iol.unh.edu.
 [2606:4100:3880:1234::84]) by smtp-relay.gmail.com with ESMTPS id
 b19-20020a5d8953000000b007deda26d324sm144185iot.15.2024.05.03.08.25.06
 (version=TLS1_2 cipher=ECDHE-ECDSA-AES128-GCM-SHA256 bits=128/128);
 Fri, 03 May 2024 08:25:06 -0700 (PDT)
X-Relaying-Domain: iol.unh.edu
Date: Fri, 03 May 2024 08:25:06 -0700 (PDT)
Message-ID: <663501d2.5d0a0220.c478.8773SMTPIN_ADDED_MISSING@mx.google.com>
Received: from [172.17.0.4] (unknown [172.18.0.217])
 by postal.iol.unh.edu (Postfix) with ESMTP id B6115604D420;
 Fri,  3 May 2024 11:25:05 -0400 (EDT)
Subject: |SUCCESS| pw139829-139855 [PATCH] [v2,27/27] net/ixgbe/base: add var
From: dpdklab@iol.unh.edu
To: Test Report <test-report@dpdk.org>
Cc: dpdk-test-reports@iol.unh.edu
In-Reply-To: <93795571c98db29f975ee12675246b5169c7082e.1714744629.git.anatoly.burakov@intel.com>
References: <93795571c98db29f975ee12675246b5169c7082e.1714744629.git.anatoly.burakov@intel.com>
Content-Type: text/plain
X-BeenThere: test-report@dpdk.org
X-Mailman-Version: 2.1.29
Precedence: list
List-Id: automatic DPDK test reports <test-report.dpdk.org>
List-Unsubscribe: <https://mails.dpdk.org/options/test-report>,
 <mailto:test-report-request@dpdk.org?subject=unsubscribe>
List-Archive: <http://mails.dpdk.org/archives/test-report/>
List-Post: <mailto:test-report@dpdk.org>
List-Help: <mailto:test-report-request@dpdk.org?subject=help>
List-Subscribe: <https://mails.dpdk.org/listinfo/test-report>,
 <mailto:test-report-request@dpdk.org?subject=subscribe>
Errors-To: test-report-bounces@dpdk.org

Test-Label: iol-unit-arm64-testing
Test-Status: SUCCESS
http://dpdk.org/patch/139855

_Testing PASS_

Submitter: Anatoly Burakov <anatoly.burakov@intel.com>
Date: Friday, May 03 2024 13:57:58 
DPDK git baseline: Repo:dpdk
  Branch: master
  CommitID:2ac57ed414af92f0c30a799e1824fd47f86a94b0

139829-139855 --> testing pass

Test environment and result as below:

+--------------------------+------------------------------+--------------+---------------------------+----------------+
|       Environment        | cryptodev_sw_snow3g_autotest | lpm_autotest | cryptodev_sw_zuc_autotest | dpdk_unit_test |
+==========================+==============================+==============+===========================+================+
| Debian 12 (arm)          | PASS                         | SKIPPED      | PASS                      | PASS           |
+--------------------------+------------------------------+--------------+---------------------------+----------------+
| Ubuntu 20.04 ARM SVE     | SKIPPED                      | PASS         | SKIPPED                   | SKIPPED        |
+--------------------------+------------------------------+--------------+---------------------------+----------------+
| CentOS Stream 9 (ARM)    | SKIPPED                      | SKIPPED      | SKIPPED                   | PASS           |
+--------------------------+------------------------------+--------------+---------------------------+----------------+
| Debian 11 (Buster) (ARM) | SKIPPED                      | SKIPPED      | SKIPPED                   | PASS           |
+--------------------------+------------------------------+--------------+---------------------------+----------------+
| Fedora 38 (ARM Clang)    | SKIPPED                      | SKIPPED      | SKIPPED                   | PASS           |
+--------------------------+------------------------------+--------------+---------------------------+----------------+
| Fedora 37 (ARM)          | SKIPPED                      | SKIPPED      | SKIPPED                   | PASS           |
+--------------------------+------------------------------+--------------+---------------------------+----------------+


Debian 12 (arm)
	Kernel: Container Host Kernel
	Compiler: gcc 12.2.0

Ubuntu 20.04 ARM SVE
	Kernel: 5.4.0-167-generic
	Compiler: gcc (Ubuntu 10.5.0-1ubuntu1~20.04) 10.5.0

CentOS Stream 9 (ARM)
	Kernel: Container Host Kernel
	Compiler: gcc 11.4.1

Debian 11 (Buster) (ARM)
	Kernel: Container Host Kernel
	Compiler: gcc 10.2.1

Fedora 38 (ARM Clang)
	Kernel: Depends on container host
	Compiler: clang 16.0.6

Fedora 37 (ARM)
	Kernel: Depends on container host
	Compiler: gcc 12.3.1

To view detailed results, visit:
https://lab.dpdk.org/results/dashboard/patchsets/29908/

UNH-IOL DPDK Community Lab

To manage your email subscriptions, visit: 
https://lab.dpdk.org/results/dashboard/preferences/subscriptions/