From mboxrd@z Thu Jan  1 00:00:00 1970
Return-Path: <test-report-bounces@dpdk.org>
Received: from mails.dpdk.org (mails.dpdk.org [217.70.189.124])
	by inbox.dpdk.org (Postfix) with ESMTP id EAD9643F39
	for <public@inbox.dpdk.org>; Fri,  3 May 2024 22:12:45 +0200 (CEST)
Received: from mails.dpdk.org (localhost [127.0.0.1])
	by mails.dpdk.org (Postfix) with ESMTP id E5E0D402D4;
	Fri,  3 May 2024 22:12:45 +0200 (CEST)
Received: from mail-oo1-f99.google.com (mail-oo1-f99.google.com
 [209.85.161.99]) by mails.dpdk.org (Postfix) with ESMTP id 87FE3402D1
 for <test-report@dpdk.org>; Fri,  3 May 2024 22:12:44 +0200 (CEST)
Received: by mail-oo1-f99.google.com with SMTP id
 006d021491bc7-5acfba298d5so34661eaf.2
 for <test-report@dpdk.org>; Fri, 03 May 2024 13:12:44 -0700 (PDT)
DKIM-Signature: v=1; a=rsa-sha256; c=relaxed/relaxed;
 d=iol.unh.edu; s=unh-iol; t=1714767164; x=1715371964; darn=dpdk.org;
 h=references:in-reply-to:cc:to:from:subject:message-id:date:from:to
 :cc:subject:date:message-id:reply-to;
 bh=WMjO7FFZgt0gMBY/vNgYZMKLyQijz2b4e7T+cujvHzA=;
 b=PIVeIip03ii1FUAt0yUtVtyfkO1c82GXd+6lObOsG3IY3AjOaP5AFuOhPfga1BZRz3
 y8qKEm9/Ca1b3ofy3PGoB5DaCxrhow2Xdu7lCrPbRnCsy+hHAXg4W9j49ZceHj5WG7mj
 I8r+SpolUuzvDLNI8+8+lTbpWLTviCD1pQMeg=
X-Google-DKIM-Signature: v=1; a=rsa-sha256; c=relaxed/relaxed;
 d=1e100.net; s=20230601; t=1714767164; x=1715371964;
 h=references:in-reply-to:cc:to:from:subject:message-id:date
 :x-gm-message-state:from:to:cc:subject:date:message-id:reply-to;
 bh=WMjO7FFZgt0gMBY/vNgYZMKLyQijz2b4e7T+cujvHzA=;
 b=D7WiXdvgx31LYz3ZMViu7T6CC39cLgc5fyBrGXbnsK7MM3C8RMJSOvGPaONDEG37F9
 jJHmXG52z+GmcadPyx4q8GVeZDqg6i2mudPLW3qIzj/HotmHqPeu5rcn98dghjkOzaaS
 ump3JW1dj7jjUtAp75TD8ZRROmr1Cbie1bjkxeRmtudq9JkaAbxNPOT/P/UvzbEIrJOM
 Jm1uc7eESOUDF2xHOyMffraqrhJpUGfuns2Otmgu8Iz6UBzyu4nalB1XZFRgUp2lVU4Y
 rXUnkjFZixBAuB9NEvrYEi3s5OuIBCaM/6htHO5NNoxZtbxeNKVBDgQSY2UBbYfsJhvX
 n38w==
X-Gm-Message-State: AOJu0YxxohW0ICSa4UygkVb3fw0FObAwzp64M9zE91AfZaB1GZ/m8nmn
 4PKToVQtE5/0ZJgIB59c55WPnLG4TwQkKnKWfYfdhFznsSKVcUz7Hn8Nur9MEzlnhFvS4XBfnSg
 AUvYRmesTuEAZiv33078yQcItsdM2AdcCrzuPoFVEBl/gzAqxwra5u2wb
X-Google-Smtp-Source: AGHT+IGMiiVPOzv1KmBNNGotngAKf+ChgyopuvoF31KFtUJkvPsOqSC6pN5KQV1AausuVIUpr/xxjHpfZX3C
X-Received: by 2002:a4a:ab0f:0:b0:5af:36ef:27d1 with SMTP id
 i15-20020a4aab0f000000b005af36ef27d1mr3897066oon.3.1714767163870; 
 Fri, 03 May 2024 13:12:43 -0700 (PDT)
Received: from postal.iol.unh.edu (postal.iol.unh.edu.
 [2606:4100:3880:1234::84]) by smtp-relay.gmail.com with ESMTPS id
 cj41-20020a056820222900b005aa6da93185sm187828oob.20.2024.05.03.13.12.43
 (version=TLS1_2 cipher=ECDHE-ECDSA-AES128-GCM-SHA256 bits=128/128);
 Fri, 03 May 2024 13:12:43 -0700 (PDT)
X-Relaying-Domain: iol.unh.edu
Date: Fri, 03 May 2024 13:12:43 -0700 (PDT)
Message-ID: <6635453b.050a0220.96167.abf2SMTPIN_ADDED_MISSING@mx.google.com>
Received: from [172.17.0.3] (unknown [172.18.0.217])
 by postal.iol.unh.edu (Postfix) with ESMTP id 539EE604D420;
 Fri,  3 May 2024 16:12:43 -0400 (EDT)
Subject: |SUCCESS| pw139857 [PATCH] [v2] eal/arm: replace RTE_BUILD_BUG on no
From: dpdklab@iol.unh.edu
To: Test Report <test-report@dpdk.org>
Cc: dpdk-test-reports@iol.unh.edu
In-Reply-To: <20240503182730.31693-1-daniel.gregory@bytedance.com>
References: <20240503182730.31693-1-daniel.gregory@bytedance.com>
Content-Type: text/plain
X-BeenThere: test-report@dpdk.org
X-Mailman-Version: 2.1.29
Precedence: list
List-Id: automatic DPDK test reports <test-report.dpdk.org>
List-Unsubscribe: <https://mails.dpdk.org/options/test-report>,
 <mailto:test-report-request@dpdk.org?subject=unsubscribe>
List-Archive: <http://mails.dpdk.org/archives/test-report/>
List-Post: <mailto:test-report@dpdk.org>
List-Help: <mailto:test-report-request@dpdk.org?subject=help>
List-Subscribe: <https://mails.dpdk.org/listinfo/test-report>,
 <mailto:test-report-request@dpdk.org?subject=subscribe>
Errors-To: test-report-bounces@dpdk.org

Test-Label: iol-unit-amd64-testing
Test-Status: SUCCESS
http://dpdk.org/patch/139857

_Testing PASS_

Submitter: Daniel Gregory <daniel.gregory@bytedance.com>
Date: Friday, May 03 2024 18:27:30 
DPDK git baseline: Repo:dpdk
  Branch: master
  CommitID:7e06c0de1952d3109a5b0c4779d7e7d8059c9d78

139857 --> testing pass

Test environment and result as below:

+---------------------+----------------+
|     Environment     | dpdk_unit_test |
+=====================+================+
| CentOS Stream 9     | PASS           |
+---------------------+----------------+
| Windows Server 2019 | PASS           |
+---------------------+----------------+
| CentOS Stream 8     | PASS           |
+---------------------+----------------+
| Debian Bullseye     | PASS           |
+---------------------+----------------+
| Debian 12           | PASS           |
+---------------------+----------------+
| Fedora 38           | PASS           |
+---------------------+----------------+
| Ubuntu 22.04        | PASS           |
+---------------------+----------------+
| Fedora 39           | PASS           |
+---------------------+----------------+
| Fedora 37           | PASS           |
+---------------------+----------------+
| RHEL8               | PASS           |
+---------------------+----------------+
| Ubuntu 20.04        | PASS           |
+---------------------+----------------+
| openSUSE Leap 15    | PASS           |
+---------------------+----------------+
| Windows Server 2022 | PASS           |
+---------------------+----------------+


CentOS Stream 9
	Kernel: 5.4.0-167-generic
	Compiler: gcc 11.4.1 20230605

Windows Server 2019
	Kernel: 10.0.17763
	Compiler: clang 14.0 and gcc 8.1.0 (MinGW)

CentOS Stream 8
	Kernel: 5.4.0-167-generic
	Compiler: gcc 8.5.0 20210514

Debian Bullseye
	Kernel: 5.4.0-167-generic
	Compiler: gcc 10.2.1-6

Debian 12
	Kernel: Container Host Kernel
	Compiler: gcc 10.2.1

Fedora 38
	Kernel: Depends on container host
	Compiler: gcc 13.2.1

Ubuntu 22.04
	Kernel: 5.4.0-167-generic
	Compiler: gcc 11.4.0

Fedora 39
	Kernel: Depends on container host
	Compiler: gcc 13.2.1

Fedora 37
	Kernel: Depends on container host system
	Compiler: gcc 12.3.1

RHEL8
	Kernel: 5.4.0-167-generic
	Compiler: gcc 8.5.0 20210514 (Red Hat 8.5.0-20)

Ubuntu 20.04
	Kernel: 5.4.0-167-generic
	Compiler: gcc 9.4.0-1ubuntu1~20.04.1

openSUSE Leap 15
	Kernel: 5.4.0-167-generic
	Compiler: gcc 7.5.0

Windows Server 2022
	Kernel: 10.0.20348.2031
	Compiler: clang 15.0.7, gcc 8.1.0 (MinGW), and MSVC VS 17.9

To view detailed results, visit:
https://lab.dpdk.org/results/dashboard/patchsets/29910/

UNH-IOL DPDK Community Lab

To manage your email subscriptions, visit: 
https://lab.dpdk.org/results/dashboard/preferences/subscriptions/