From mboxrd@z Thu Jan  1 00:00:00 1970
Return-Path: <test-report-bounces@dpdk.org>
Received: from mails.dpdk.org (mails.dpdk.org [217.70.189.124])
	by inbox.dpdk.org (Postfix) with ESMTP id 43EB943F39
	for <public@inbox.dpdk.org>; Fri,  3 May 2024 22:20:22 +0200 (CEST)
Received: from mails.dpdk.org (localhost [127.0.0.1])
	by mails.dpdk.org (Postfix) with ESMTP id 3FC65402D4;
	Fri,  3 May 2024 22:20:22 +0200 (CEST)
Received: from mail-io1-f99.google.com (mail-io1-f99.google.com
 [209.85.166.99]) by mails.dpdk.org (Postfix) with ESMTP id D3D1D402D1
 for <test-report@dpdk.org>; Fri,  3 May 2024 22:20:21 +0200 (CEST)
Received: by mail-io1-f99.google.com with SMTP id
 ca18e2360f4ac-7de95c7851dso2375639f.3
 for <test-report@dpdk.org>; Fri, 03 May 2024 13:20:21 -0700 (PDT)
DKIM-Signature: v=1; a=rsa-sha256; c=relaxed/relaxed;
 d=iol.unh.edu; s=unh-iol; t=1714767621; x=1715372421; darn=dpdk.org;
 h=references:in-reply-to:cc:to:from:subject:message-id:date:from:to
 :cc:subject:date:message-id:reply-to;
 bh=m1gLzslmr0GtVenGZ8BEP8hD1ME9LUr7GhnBENm/9f4=;
 b=L1uQ9gIfuVl4sODN+mVQyiFjr4g8Y8h5a0YZQmS206MmkeZFqJdMhg2icLpvWpEKxZ
 V4FlCw1P0Vi3N40SaXZZFvJfxhkvGsTuB13eE3t7xPmiV2eholuPByBfaKFxuYm8ruxh
 u9s8MIAHbXmfhyN9lw9pcWT6OPVenaoPKGze8=
X-Google-DKIM-Signature: v=1; a=rsa-sha256; c=relaxed/relaxed;
 d=1e100.net; s=20230601; t=1714767621; x=1715372421;
 h=references:in-reply-to:cc:to:from:subject:message-id:date
 :x-gm-message-state:from:to:cc:subject:date:message-id:reply-to;
 bh=m1gLzslmr0GtVenGZ8BEP8hD1ME9LUr7GhnBENm/9f4=;
 b=NDBasKu2LxrJR+pd+wOM5hYeSHrRl3f/v2loICbRdw5O9/iMtYxvCVjSWhP7VCqcvK
 mbzw/HZ+2FvsaxaanmFxHH5YAlk8YOlPNyFn2TlMNXUDc6ZO83Tln5cx55nyZoCSV4hi
 zAmH2Ie0IzjplhZP2v5wt4TTlC7ADoHNF0kzmnaSICtQq5GTI1UG/1//JI5tBLqgZz2j
 Mj7iZbIQDfCYnrpFW4okoHszON0Sh1W/EjPI1kQcXUw+e42XB4iaCvzC8WoGpF07wxEQ
 hGv1r8DB+3mX+zziqEoeXZNnHuSY2b0BI4+CSO7RuCzI3fJUwFCtgzQv47vHth/yzTTa
 oOlA==
X-Gm-Message-State: AOJu0Yz782WWU7MD/wazmP+WYaMjKwUpMetvdP5QQk8lhjVs2ycfQ0zo
 kvZYr4biU2echIW/bHIMhcFnoVx8MBSPE3Xa6WFTIoRf2DSLpeh1KzeVmEqDGHHbKOPglCIshiL
 O8U8pYVaWASoYxcH42QObNizpfBfpqHgN0i1bHd3v
X-Google-Smtp-Source: AGHT+IFKy8QQQxo75LZ4PEDl7w1/HAwDczIptGmikmndrcOPhNb4QH76/jWrvdEx/+qr/On20Rt0+sHLfmRb
X-Received: by 2002:a05:6602:1cce:b0:7de:d698:32c8 with SMTP id
 hg14-20020a0566021cce00b007ded69832c8mr3973500iob.7.1714767621251; 
 Fri, 03 May 2024 13:20:21 -0700 (PDT)
Received: from postal.iol.unh.edu (postal.iol.unh.edu. [132.177.123.84])
 by smtp-relay.gmail.com with ESMTPS id
 m9-20020a6b5809000000b007da93947fdbsm167022iob.32.2024.05.03.13.20.21
 (version=TLS1_2 cipher=ECDHE-ECDSA-AES128-GCM-SHA256 bits=128/128);
 Fri, 03 May 2024 13:20:21 -0700 (PDT)
X-Relaying-Domain: iol.unh.edu
Date: Fri, 03 May 2024 13:20:21 -0700 (PDT)
Message-ID: <66354705.6b0a0220.bc304.9e84SMTPIN_ADDED_MISSING@mx.google.com>
Received: from [172.17.0.3] (unknown [172.18.0.217])
 by postal.iol.unh.edu (Postfix) with ESMTP id 8B721604D420;
 Fri,  3 May 2024 16:20:20 -0400 (EDT)
Subject: |SUCCESS| pw139856 [PATCH] [RFC,v3] net/af_packet: make stats reset 
From: dpdklab@iol.unh.edu
To: Test Report <test-report@dpdk.org>
Cc: dpdk-test-reports@iol.unh.edu
In-Reply-To: <20240503154547.392069-1-ferruh.yigit@amd.com>
References: <20240503154547.392069-1-ferruh.yigit@amd.com>
Content-Type: text/plain
X-BeenThere: test-report@dpdk.org
X-Mailman-Version: 2.1.29
Precedence: list
List-Id: automatic DPDK test reports <test-report.dpdk.org>
List-Unsubscribe: <https://mails.dpdk.org/options/test-report>,
 <mailto:test-report-request@dpdk.org?subject=unsubscribe>
List-Archive: <http://mails.dpdk.org/archives/test-report/>
List-Post: <mailto:test-report@dpdk.org>
List-Help: <mailto:test-report-request@dpdk.org?subject=help>
List-Subscribe: <https://mails.dpdk.org/listinfo/test-report>,
 <mailto:test-report-request@dpdk.org?subject=subscribe>
Errors-To: test-report-bounces@dpdk.org

Test-Label: iol-abi-testing
Test-Status: SUCCESS
http://dpdk.org/patch/139856

_Testing PASS_

Submitter: Ferruh Yigit <ferruh.yigit@amd.com>
Date: Friday, May 03 2024 15:45:47 
DPDK git baseline: Repo:dpdk
  Branch: master
  CommitID:baa8e2c6b4d7ce289e891b9c96fb3193311c0f01

139856 --> testing pass

Test environment and result as below:

+------------------+----------+
|   Environment    | abi_test |
+==================+==========+
| Debian Bullseye  | PASS     |
+------------------+----------+
| openSUSE Leap 15 | PASS     |
+------------------+----------+
| CentOS Stream 9  | PASS     |
+------------------+----------+
| Fedora 38        | PASS     |
+------------------+----------+
| Fedora 39        | PASS     |
+------------------+----------+
| RHEL8            | PASS     |
+------------------+----------+
| Ubuntu 22.04     | PASS     |
+------------------+----------+
| CentOS Stream 8  | PASS     |
+------------------+----------+
| Debian 12        | PASS     |
+------------------+----------+
| Fedora 37        | PASS     |
+------------------+----------+


Debian Bullseye
	Kernel: 5.4.0-167-generic
	Compiler: gcc 10.2.1-6

openSUSE Leap 15
	Kernel: 5.4.0-167-generic
	Compiler: gcc 7.5.0

CentOS Stream 9
	Kernel: 5.4.0-167-generic
	Compiler: gcc 11.4.1 20230605

Fedora 38
	Kernel: Depends on container host
	Compiler: clang 16.0.6

Fedora 39
	Kernel: Depends on container host
	Compiler: clang 17.0.6

RHEL8
	Kernel: 5.4.0-167-generic
	Compiler: gcc 8.5.0 20210514 (Red Hat 8.5.0-20)

Ubuntu 22.04
	Kernel: 5.4.0-167-generic
	Compiler: gcc 11.4.0

CentOS Stream 8
	Kernel: 5.4.0-167-generic
	Compiler: gcc 8.5.0 20210514

Debian 12
	Kernel: Container Host Kernel
	Compiler: gcc 10.2.1

Fedora 37
	Kernel: Depends on container host system
	Compiler: gcc 12.3.1

To view detailed results, visit:
https://lab.dpdk.org/results/dashboard/patchsets/29909/

UNH-IOL DPDK Community Lab

To manage your email subscriptions, visit: 
https://lab.dpdk.org/results/dashboard/preferences/subscriptions/