From mboxrd@z Thu Jan  1 00:00:00 1970
Return-Path: <test-report-bounces@dpdk.org>
Received: from mails.dpdk.org (mails.dpdk.org [217.70.189.124])
	by inbox.dpdk.org (Postfix) with ESMTP id CDF4443F39
	for <public@inbox.dpdk.org>; Fri,  3 May 2024 22:25:25 +0200 (CEST)
Received: from mails.dpdk.org (localhost [127.0.0.1])
	by mails.dpdk.org (Postfix) with ESMTP id C97E6402D4;
	Fri,  3 May 2024 22:25:25 +0200 (CEST)
Received: from mail-pl1-f225.google.com (mail-pl1-f225.google.com
 [209.85.214.225])
 by mails.dpdk.org (Postfix) with ESMTP id 3525C402D1
 for <test-report@dpdk.org>; Fri,  3 May 2024 22:25:25 +0200 (CEST)
Received: by mail-pl1-f225.google.com with SMTP id
 d9443c01a7336-1ec41d82b8bso499025ad.2
 for <test-report@dpdk.org>; Fri, 03 May 2024 13:25:25 -0700 (PDT)
DKIM-Signature: v=1; a=rsa-sha256; c=relaxed/relaxed;
 d=iol.unh.edu; s=unh-iol; t=1714767924; x=1715372724; darn=dpdk.org;
 h=references:in-reply-to:cc:to:from:subject:message-id:date:from:to
 :cc:subject:date:message-id:reply-to;
 bh=KNLCMw37ugzalcOJAqeFDMyIWI//MVkONV85KbH0NIc=;
 b=W2J1IQVMGAX1kW9KplPchmVBsukepDwNU80Gcql3wdpEI+/Bs9UiTYkbqF0eIzGgEa
 NTtubGkNsKB/hx8EqEm5MJrulaLtOqA824V9xevvy1OsR4gwdYxTwwkHlDWVc9zsWqpY
 kAlGz71ZG9I4MiheKGik2k8o7K6BVWVGZ9cAk=
X-Google-DKIM-Signature: v=1; a=rsa-sha256; c=relaxed/relaxed;
 d=1e100.net; s=20230601; t=1714767924; x=1715372724;
 h=references:in-reply-to:cc:to:from:subject:message-id:date
 :x-gm-message-state:from:to:cc:subject:date:message-id:reply-to;
 bh=KNLCMw37ugzalcOJAqeFDMyIWI//MVkONV85KbH0NIc=;
 b=aJXkZujw0Ija7rMNcAgZQ6kksuQcKiaL8iZPwIoxMVJeNoXKuB90xM6qrcvnLmK6IL
 9xdnu6uDg6YogqfcjfTza/XAsIXaZk680AHP4Ksq0GgDAV8Qs6s7mDBrEnvfPWGcEe/S
 O5bKZlocuiSHe/EsXzL/t77XnqTdsa3BMdeWqBon9J0TyhoBdEOdTHPC5rV/TaC4bjkZ
 8vpT/q2/c4+Nvyu9YsXBihr/vDAvUAI0bN17i2xTwNUFAKO/AddTL9XvGR72Gjcc3HWQ
 7ub4F/bQrMFhaIu94EwlN+Qh+U7oKeW1x4rVdDHfTyINIdclmXEut/Hs1DS+N+WYKa/7
 veoA==
X-Gm-Message-State: AOJu0YxM+T2M6zuCrHb+mfxiN6En2/1+dPO7oAyuA3+KnV8pmlRueyzr
 Gix+KT5G+gRwZlYNCNYUqteHZ+zLzpc3aCL9mlNgnf70uthLzb5Xgru53IbTuoaw5XyAMwQnTVW
 HBSJRT8fGhNYS47Fjwtd9hwJkln0kwMvABBlWShGS6hsTnSrfkuc3DjQc
X-Google-Smtp-Source: AGHT+IEY2w3q2Dn49WLM4Aud+ScBda4T5SPGtRVi5hbMBIiwXl5xHprPIbmfa6JBC/0kZoJ8D2utCXWyslLu
X-Received: by 2002:a17:902:d353:b0:1eb:3d68:fc2d with SMTP id
 l19-20020a170902d35300b001eb3d68fc2dmr3136885plk.34.1714767924436; 
 Fri, 03 May 2024 13:25:24 -0700 (PDT)
Received: from postal.iol.unh.edu (postal.iol.unh.edu.
 [2606:4100:3880:1234::84]) by smtp-relay.gmail.com with ESMTPS id
 y6-20020a170902864600b001e27adcc786sm158650plt.88.2024.05.03.13.25.24
 (version=TLS1_2 cipher=ECDHE-ECDSA-AES128-GCM-SHA256 bits=128/128);
 Fri, 03 May 2024 13:25:24 -0700 (PDT)
X-Relaying-Domain: iol.unh.edu
Date: Fri, 03 May 2024 13:25:24 -0700 (PDT)
Message-ID: <66354834.170a0220.a0724.a20bSMTPIN_ADDED_MISSING@mx.google.com>
Received: from [172.17.0.3] (unknown [172.18.0.217])
 by postal.iol.unh.edu (Postfix) with ESMTP id 999BE604D420;
 Fri,  3 May 2024 16:25:23 -0400 (EDT)
Subject: |SUCCESS| pw139856 [PATCH] [RFC,v3] net/af_packet: make stats reset 
From: dpdklab@iol.unh.edu
To: Test Report <test-report@dpdk.org>
Cc: dpdk-test-reports@iol.unh.edu
In-Reply-To: <20240503154547.392069-1-ferruh.yigit@amd.com>
References: <20240503154547.392069-1-ferruh.yigit@amd.com>
Content-Type: text/plain
X-BeenThere: test-report@dpdk.org
X-Mailman-Version: 2.1.29
Precedence: list
List-Id: automatic DPDK test reports <test-report.dpdk.org>
List-Unsubscribe: <https://mails.dpdk.org/options/test-report>,
 <mailto:test-report-request@dpdk.org?subject=unsubscribe>
List-Archive: <http://mails.dpdk.org/archives/test-report/>
List-Post: <mailto:test-report@dpdk.org>
List-Help: <mailto:test-report-request@dpdk.org?subject=help>
List-Subscribe: <https://mails.dpdk.org/listinfo/test-report>,
 <mailto:test-report-request@dpdk.org?subject=subscribe>
Errors-To: test-report-bounces@dpdk.org

Test-Label: iol-compile-amd64-testing
Test-Status: SUCCESS
http://dpdk.org/patch/139856

_Testing PASS_

Submitter: Ferruh Yigit <ferruh.yigit@amd.com>
Date: Friday, May 03 2024 15:45:47 
DPDK git baseline: Repo:dpdk
  Branch: master
  CommitID:baa8e2c6b4d7ce289e891b9c96fb3193311c0f01

139856 --> testing pass

Test environment and result as below:

+---------------------+--------------------+----------------------+-------------------+
|     Environment     | dpdk_meson_compile | dpdk_mingw64_compile | dpdk_msvc_compile |
+=====================+====================+======================+===================+
| FreeBSD 13.3        | PASS               | SKIPPED              | SKIPPED           |
+---------------------+--------------------+----------------------+-------------------+
| CentOS Stream 9     | PASS               | SKIPPED              | SKIPPED           |
+---------------------+--------------------+----------------------+-------------------+
| Fedora 37           | PASS               | SKIPPED              | SKIPPED           |
+---------------------+--------------------+----------------------+-------------------+
| Fedora 39           | PASS               | SKIPPED              | SKIPPED           |
+---------------------+--------------------+----------------------+-------------------+
| Windows Server 2022 | PASS               | PASS                 | PASS              |
+---------------------+--------------------+----------------------+-------------------+
| Ubuntu 20.04        | PASS               | SKIPPED              | SKIPPED           |
+---------------------+--------------------+----------------------+-------------------+
| Ubuntu 22.04        | PASS               | SKIPPED              | SKIPPED           |
+---------------------+--------------------+----------------------+-------------------+
| FreeBSD 14.0        | PASS               | SKIPPED              | SKIPPED           |
+---------------------+--------------------+----------------------+-------------------+
| openSUSE Leap 15    | PASS               | SKIPPED              | SKIPPED           |
+---------------------+--------------------+----------------------+-------------------+
| Windows Server 2019 | PASS               | PASS                 | SKIPPED           |
+---------------------+--------------------+----------------------+-------------------+
| Debian Bullseye     | PASS               | SKIPPED              | SKIPPED           |
+---------------------+--------------------+----------------------+-------------------+
| CentOS Stream 8     | PASS               | SKIPPED              | SKIPPED           |
+---------------------+--------------------+----------------------+-------------------+
| RHEL8               | PASS               | SKIPPED              | SKIPPED           |
+---------------------+--------------------+----------------------+-------------------+
| Debian 12           | PASS               | SKIPPED              | SKIPPED           |
+---------------------+--------------------+----------------------+-------------------+
| Fedora 38           | PASS               | SKIPPED              | SKIPPED           |
+---------------------+--------------------+----------------------+-------------------+


FreeBSD 13.3
	Kernel: 13.3-RELEASE-p1
	Compiler: clang 17.0.6

CentOS Stream 9
	Kernel: 5.4.0-167-generic
	Compiler: gcc 11.4.1 20230605

Fedora 37
	Kernel: Depends on container host system
	Compiler: gcc 12.3.1

Fedora 39
	Kernel: Depends on container host
	Compiler: gcc 13.2.1

Windows Server 2022
	Kernel: 10.0.20348.2031
	Compiler: clang 15.0.7, gcc 8.1.0 (MinGW), and MSVC VS 17.9

Ubuntu 20.04
	Kernel: 5.4.0-167-generic
	Compiler: gcc 9.4.0-1ubuntu1~20.04.1

Ubuntu 22.04
	Kernel: 5.4.0-167-generic
	Compiler: gcc 11.4.0

FreeBSD 14.0
	Kernel: 14.0
	Compiler: clang 16.0.6

openSUSE Leap 15
	Kernel: 5.4.0-167-generic
	Compiler: gcc 7.5.0

Windows Server 2019
	Kernel: 10.0.17763
	Compiler: clang 14.0 and gcc 8.1.0 (MinGW)

Debian Bullseye
	Kernel: 5.4.0-167-generic
	Compiler: gcc 10.2.1-6

CentOS Stream 8
	Kernel: 5.4.0-167-generic
	Compiler: gcc 8.5.0 20210514

RHEL8
	Kernel: 5.4.0-167-generic
	Compiler: gcc 8.5.0 20210514 (Red Hat 8.5.0-20)

Debian 12
	Kernel: Container Host Kernel
	Compiler: gcc 10.2.1

Fedora 38
	Kernel: Depends on container host
	Compiler: gcc 13.2.1

To view detailed results, visit:
https://lab.dpdk.org/results/dashboard/patchsets/29909/

UNH-IOL DPDK Community Lab

To manage your email subscriptions, visit: 
https://lab.dpdk.org/results/dashboard/preferences/subscriptions/