From mboxrd@z Thu Jan  1 00:00:00 1970
Return-Path: <test-report-bounces@dpdk.org>
Received: from mails.dpdk.org (mails.dpdk.org [217.70.189.124])
	by inbox.dpdk.org (Postfix) with ESMTP id 535D243F39
	for <public@inbox.dpdk.org>; Fri,  3 May 2024 23:14:17 +0200 (CEST)
Received: from mails.dpdk.org (localhost [127.0.0.1])
	by mails.dpdk.org (Postfix) with ESMTP id 3C34F402D4;
	Fri,  3 May 2024 23:14:17 +0200 (CEST)
Received: from mail-qk1-f228.google.com (mail-qk1-f228.google.com
 [209.85.222.228])
 by mails.dpdk.org (Postfix) with ESMTP id 535B9402D1
 for <test-report@dpdk.org>; Fri,  3 May 2024 23:14:16 +0200 (CEST)
Received: by mail-qk1-f228.google.com with SMTP id
 af79cd13be357-790e7c02430so4929185a.0
 for <test-report@dpdk.org>; Fri, 03 May 2024 14:14:16 -0700 (PDT)
DKIM-Signature: v=1; a=rsa-sha256; c=relaxed/relaxed;
 d=iol.unh.edu; s=unh-iol; t=1714770855; x=1715375655; darn=dpdk.org;
 h=references:in-reply-to:cc:to:from:subject:message-id:date:from:to
 :cc:subject:date:message-id:reply-to;
 bh=CrqAuECk089CPj91J4vqWKwk4fEcOh2VMyNkdrBo/LI=;
 b=KQn0KkVFp3e9oGLboWsdnTFbDI0F7WVGMz8aUaMpB8H6rs5Kaz97CXMuKGdPqd/n6f
 /t0hEqwJc/9JW1XN7SxzAK9O2i+rvQWo8ZMnxWSRUeu5BjijBmfuWQNpwKgezUpOUUqG
 DA0AbksdAmFlvP8i3h0NOlJcREuHGegI3hfVc=
X-Google-DKIM-Signature: v=1; a=rsa-sha256; c=relaxed/relaxed;
 d=1e100.net; s=20230601; t=1714770855; x=1715375655;
 h=references:in-reply-to:cc:to:from:subject:message-id:date
 :x-gm-message-state:from:to:cc:subject:date:message-id:reply-to;
 bh=CrqAuECk089CPj91J4vqWKwk4fEcOh2VMyNkdrBo/LI=;
 b=QldIPBhHqxVn6p8RG/tXYCwYgwt1KHNLHMuM0SEeAiTo9F8Rv62+C/NSFTT5cnQuwa
 3ExE48Lclsu5diQyanD+BlOx6a824dv0/fQhqe7A99sTRf+VI7JMAfAE6jWsuTLK77hg
 JQ6RwuL9a2mD7ThuArgSAylOGxAKHTZGHjxmNEwUbq6TotVap9FmSXEVH7tKxTVgWho1
 bnIrdT5H11A6AOg6Kd875/ygXVpfNyP9BClSAREBKhnUIOdhX1aWt/Kb7aQkfZTg6U02
 WTiVjK2HYZnCzRwnagCbtSmBXkkL+5V7SoG3OuSSu+dVXKXMu9tMOwdicBJvNwYSWRXS
 bZBA==
X-Gm-Message-State: AOJu0YzyrqD5Re+UIYZTIkcJ8iN9/9e+IF4xa+S+KOeKV9xnG/bRisVz
 7filaam+wsuJnveE98eUvk3MNpfHpDLjSz8Eq+8BEkPuejzU33QAQSs6bPN8Efw9mSEgTQnA1wn
 rbBgoOuDe6cVz1Jb3oINQ1/c8WEIqhBu8VLazOu3Sc5Hawj0dgjJaPMpZ
X-Google-Smtp-Source: AGHT+IGaLjVIj22p4LeT3WOkH9HAwVDAPnMFyPXxZbJPl/CenPUuqzH2QfsAOcmsCSvhGjQcPEniW8bgezla
X-Received: by 2002:a05:6214:20cb:b0:6a0:cba9:374d with SMTP id
 11-20020a05621420cb00b006a0cba9374dmr4717888qve.1.1714770855548; 
 Fri, 03 May 2024 14:14:15 -0700 (PDT)
Received: from postal.iol.unh.edu (postal.iol.unh.edu.
 [2606:4100:3880:1234::84]) by smtp-relay.gmail.com with ESMTPS id
 m5-20020a0ce8c5000000b006a0659cc178sm172754qvo.26.2024.05.03.14.14.15
 (version=TLS1_2 cipher=ECDHE-ECDSA-AES128-GCM-SHA256 bits=128/128);
 Fri, 03 May 2024 14:14:15 -0700 (PDT)
X-Relaying-Domain: iol.unh.edu
Date: Fri, 03 May 2024 14:14:15 -0700 (PDT)
Message-ID: <663553a7.0c0a0220.da99b.ad25SMTPIN_ADDED_MISSING@mx.google.com>
Received: from [172.17.0.2] (unknown [172.18.0.217])
 by postal.iol.unh.edu (Postfix) with ESMTP id 4255E604D420;
 Fri,  3 May 2024 17:14:15 -0400 (EDT)
Subject: |SUCCESS| pw139856 [PATCH] [RFC,v3] net/af_packet: make stats reset 
From: dpdklab@iol.unh.edu
To: Test Report <test-report@dpdk.org>
Cc: dpdk-test-reports@iol.unh.edu
In-Reply-To: <20240503154547.392069-1-ferruh.yigit@amd.com>
References: <20240503154547.392069-1-ferruh.yigit@amd.com>
Content-Type: text/plain
X-BeenThere: test-report@dpdk.org
X-Mailman-Version: 2.1.29
Precedence: list
List-Id: automatic DPDK test reports <test-report.dpdk.org>
List-Unsubscribe: <https://mails.dpdk.org/options/test-report>,
 <mailto:test-report-request@dpdk.org?subject=unsubscribe>
List-Archive: <http://mails.dpdk.org/archives/test-report/>
List-Post: <mailto:test-report@dpdk.org>
List-Help: <mailto:test-report-request@dpdk.org?subject=help>
List-Subscribe: <https://mails.dpdk.org/listinfo/test-report>,
 <mailto:test-report-request@dpdk.org?subject=subscribe>
Errors-To: test-report-bounces@dpdk.org

Test-Label: iol-unit-arm64-testing
Test-Status: SUCCESS
http://dpdk.org/patch/139856

_Testing PASS_

Submitter: Ferruh Yigit <ferruh.yigit@amd.com>
Date: Friday, May 03 2024 15:45:47 
DPDK git baseline: Repo:dpdk
  Branch: master
  CommitID:baa8e2c6b4d7ce289e891b9c96fb3193311c0f01

139856 --> testing pass

Test environment and result as below:

+--------------------------+--------------+----------------+---------------------------+------------------------------+
|       Environment        | lpm_autotest | dpdk_unit_test | cryptodev_sw_zuc_autotest | cryptodev_sw_snow3g_autotest |
+==========================+==============+================+===========================+==============================+
| Ubuntu 20.04 ARM SVE     | PASS         | SKIPPED        | SKIPPED                   | SKIPPED                      |
+--------------------------+--------------+----------------+---------------------------+------------------------------+
| Debian 11 (Buster) (ARM) | SKIPPED      | PASS           | SKIPPED                   | SKIPPED                      |
+--------------------------+--------------+----------------+---------------------------+------------------------------+
| CentOS Stream 9 (ARM)    | SKIPPED      | PASS           | SKIPPED                   | SKIPPED                      |
+--------------------------+--------------+----------------+---------------------------+------------------------------+
| Fedora 37 (ARM)          | SKIPPED      | PASS           | SKIPPED                   | SKIPPED                      |
+--------------------------+--------------+----------------+---------------------------+------------------------------+
| Fedora 39 (ARM)          | SKIPPED      | PASS           | SKIPPED                   | SKIPPED                      |
+--------------------------+--------------+----------------+---------------------------+------------------------------+
| Debian 12 (arm)          | SKIPPED      | SKIPPED        | PASS                      | PASS                         |
+--------------------------+--------------+----------------+---------------------------+------------------------------+


Ubuntu 20.04 ARM SVE
	Kernel: 5.4.0-167-generic
	Compiler: gcc (Ubuntu 10.5.0-1ubuntu1~20.04) 10.5.0

Debian 11 (Buster) (ARM)
	Kernel: Container Host Kernel
	Compiler: gcc 10.2.1

CentOS Stream 9 (ARM)
	Kernel: Container Host Kernel
	Compiler: gcc 11.4.1

Fedora 37 (ARM)
	Kernel: Depends on container host
	Compiler: gcc 12.3.1

Fedora 39 (ARM)
	Kernel: Depends on container host
	Compiler: gcc 13.2.1

Debian 12 (arm)
	Kernel: Container Host Kernel
	Compiler: gcc 12.2.0

To view detailed results, visit:
https://lab.dpdk.org/results/dashboard/patchsets/29909/

UNH-IOL DPDK Community Lab

To manage your email subscriptions, visit: 
https://lab.dpdk.org/results/dashboard/preferences/subscriptions/