From mboxrd@z Thu Jan  1 00:00:00 1970
Return-Path: <test-report-bounces@dpdk.org>
Received: from mails.dpdk.org (mails.dpdk.org [217.70.189.124])
	by inbox.dpdk.org (Postfix) with ESMTP id 6101943F39
	for <public@inbox.dpdk.org>; Fri,  3 May 2024 23:37:03 +0200 (CEST)
Received: from mails.dpdk.org (localhost [127.0.0.1])
	by mails.dpdk.org (Postfix) with ESMTP id 3D13B402D4;
	Fri,  3 May 2024 23:37:03 +0200 (CEST)
Received: from mail-pf1-f226.google.com (mail-pf1-f226.google.com
 [209.85.210.226])
 by mails.dpdk.org (Postfix) with ESMTP id 3E9C2402D4
 for <test-report@dpdk.org>; Fri,  3 May 2024 23:37:02 +0200 (CEST)
Received: by mail-pf1-f226.google.com with SMTP id
 d2e1a72fcca58-6f457853950so144523b3a.0
 for <test-report@dpdk.org>; Fri, 03 May 2024 14:37:02 -0700 (PDT)
DKIM-Signature: v=1; a=rsa-sha256; c=relaxed/relaxed;
 d=iol.unh.edu; s=unh-iol; t=1714772221; x=1715377021; darn=dpdk.org;
 h=references:in-reply-to:cc:to:from:subject:message-id:date:from:to
 :cc:subject:date:message-id:reply-to;
 bh=ObFY4D53w8pJm3gWFXcGPcw7vnPXnXrkEff16oJTkRg=;
 b=hmBOMaOd2bmgBvf/JjTiRDcXzGVJzmaQbuUfOV53GxhDdjIOhTGpbi/xRhS7WSmy50
 yb5YFKlVfoGBriQ72uvjlgiO0Q4zKazMz2n9ijPVijRZF875MOJFutA0bXoQjn7e+ds4
 mhFMt3eL/aVkzF3RZUMol1Xdmu3pjyJAwk5Is=
X-Google-DKIM-Signature: v=1; a=rsa-sha256; c=relaxed/relaxed;
 d=1e100.net; s=20230601; t=1714772221; x=1715377021;
 h=references:in-reply-to:cc:to:from:subject:message-id:date
 :x-gm-message-state:from:to:cc:subject:date:message-id:reply-to;
 bh=ObFY4D53w8pJm3gWFXcGPcw7vnPXnXrkEff16oJTkRg=;
 b=VCbJlfU/VPCNyaVGp1EmWgKCUItdy5d6CvLudD6Q53T/8JCgxV0+tsvRIBhwkchvrV
 TkZJgCc4zR09+drSwqCPNF1NAV+FuMyT5K51yJLQGnZ8BmIfxtgNoTIUV3hLoNlzJicz
 R1SSRcPdP5MoHS64iFhrPleIbcdJvrMOxEWSfEMGaVbxcJq9NU0C6qWQwDO9FpCJum/n
 wvXl2iHvYl5+1q/idpBcSyXCzbNGy0x8daAciWyn65PzqhML5G8pICNSXfY/FRXwqAhX
 Q4EvJwiB7No+v3aPG+xRoKOFg83UOuGfGd6WEljA5GSkX0ERZVAmjU4anwEX5WLhWh4d
 YUdQ==
X-Gm-Message-State: AOJu0YzT03RspzTmNg6GVstb9pHAdPkxbn55OyRpoMRpSP/6h40Qe7Wo
 RoeNKoYQ/AEV5WsL5ZP9cIMxUUjhwfMPAu9Zed08h5PkzXdQjjlMm2Q8NvflE6JCT9irdjMHkpK
 QhzsqM0txDYj62AqtpJYj5TY3wjJUibReF0ay3oq3a7oSyFwu/W/tpCSg
X-Google-Smtp-Source: AGHT+IEKBabePAUIPBV8Kutd43CwIu0Pv6t9spFAtBT6fIf2YpTrAwPQFSS9gDDVwlXCdeG+B2YuM/rVTK28
X-Received: by 2002:a05:6a21:7886:b0:1af:6428:1812 with SMTP id
 bf6-20020a056a21788600b001af64281812mr10748190pzc.4.1714772221314; 
 Fri, 03 May 2024 14:37:01 -0700 (PDT)
Received: from postal.iol.unh.edu (postal.iol.unh.edu.
 [2606:4100:3880:1234::84]) by smtp-relay.gmail.com with ESMTPS id
 f17-20020a635551000000b005f7fc0bf819sm266582pgm.12.2024.05.03.14.37.01
 (version=TLS1_2 cipher=ECDHE-ECDSA-AES128-GCM-SHA256 bits=128/128);
 Fri, 03 May 2024 14:37:01 -0700 (PDT)
X-Relaying-Domain: iol.unh.edu
Date: Fri, 03 May 2024 14:37:01 -0700 (PDT)
Message-ID: <663558fd.630a0220.e61f3.0822SMTPIN_ADDED_MISSING@mx.google.com>
Received: from [172.17.0.2] (unknown [172.18.0.217])
 by postal.iol.unh.edu (Postfix) with ESMTP id 7E174604D420;
 Fri,  3 May 2024 17:37:00 -0400 (EDT)
Subject: |SUCCESS| pw139856 [PATCH] [RFC,v3] net/af_packet: make stats reset 
From: dpdklab@iol.unh.edu
To: Test Report <test-report@dpdk.org>
Cc: dpdk-test-reports@iol.unh.edu
In-Reply-To: <20240503154547.392069-1-ferruh.yigit@amd.com>
References: <20240503154547.392069-1-ferruh.yigit@amd.com>
Content-Type: text/plain
X-BeenThere: test-report@dpdk.org
X-Mailman-Version: 2.1.29
Precedence: list
List-Id: automatic DPDK test reports <test-report.dpdk.org>
List-Unsubscribe: <https://mails.dpdk.org/options/test-report>,
 <mailto:test-report-request@dpdk.org?subject=unsubscribe>
List-Archive: <http://mails.dpdk.org/archives/test-report/>
List-Post: <mailto:test-report@dpdk.org>
List-Help: <mailto:test-report-request@dpdk.org?subject=help>
List-Subscribe: <https://mails.dpdk.org/listinfo/test-report>,
 <mailto:test-report-request@dpdk.org?subject=subscribe>
Errors-To: test-report-bounces@dpdk.org

Test-Label: iol-compile-arm64-testing
Test-Status: SUCCESS
http://dpdk.org/patch/139856

_Testing PASS_

Submitter: Ferruh Yigit <ferruh.yigit@amd.com>
Date: Friday, May 03 2024 15:45:47 
DPDK git baseline: Repo:dpdk
  Branch: master
  CommitID:baa8e2c6b4d7ce289e891b9c96fb3193311c0f01

139856 --> testing pass

Test environment and result as below:

+----------------------------------------+--------------------+
|              Environment               | dpdk_meson_compile |
+========================================+====================+
| Ubuntu 20.04 ARM SVE                   | PASS               |
+----------------------------------------+--------------------+
| Debian 12 with MUSDK                   | PASS               |
+----------------------------------------+--------------------+
| Fedora 37 (ARM)                        | PASS               |
+----------------------------------------+--------------------+
| Ubuntu 20.04 (ARM)                     | PASS               |
+----------------------------------------+--------------------+
| Ubuntu 20.04 aarch32 GCC Cross Compile | PASS               |
+----------------------------------------+--------------------+
| CentOS Stream 9 (ARM)                  | PASS               |
+----------------------------------------+--------------------+
| Fedora 39 (ARM)                        | PASS               |
+----------------------------------------+--------------------+
| Ubuntu 20.04 ARM Clang Cross Compile   | PASS               |
+----------------------------------------+--------------------+
| Ubuntu 20.04 ARM GCC Cross Compile     | PASS               |
+----------------------------------------+--------------------+
| Debian 11 (Buster) (ARM)               | PASS               |
+----------------------------------------+--------------------+
| Fedora 38 (ARM)                        | PASS               |
+----------------------------------------+--------------------+
| Fedora 38 (ARM Clang)                  | PASS               |
+----------------------------------------+--------------------+
| Fedora 39 (ARM Clang)                  | PASS               |
+----------------------------------------+--------------------+


Ubuntu 20.04 ARM SVE
	Kernel: 5.4.0-167-generic
	Compiler: gcc (Ubuntu 10.5.0-1ubuntu1~20.04) 10.5.0

Debian 12 with MUSDK
	Kernel: Container Host Kernel
	Compiler: gcc 12.2.0

Fedora 37 (ARM)
	Kernel: Depends on container host
	Compiler: gcc 12.3.1

Ubuntu 20.04 (ARM)
	Kernel: Container Host Kernel
	Compiler: gcc 9.4.0

Ubuntu 20.04 aarch32 GCC Cross Compile
	Kernel: 5.4.0-167-generic
	Compiler: gcc 9.4.0

CentOS Stream 9 (ARM)
	Kernel: Container Host Kernel
	Compiler: gcc 11.4.1

Fedora 39 (ARM)
	Kernel: Depends on container host
	Compiler: gcc 13.2.1

Ubuntu 20.04 ARM Clang Cross Compile
	Kernel: 5.4.0-72-generic
	Compiler: clang 10.0.0-4ubuntu1

Ubuntu 20.04 ARM GCC Cross Compile
	Kernel: 5.4.0-167-generic
	Compiler: aarch64-linux-gnu-gcc (Ubuntu 9.4.0-1ubuntu1~20.04.2) 9.4.0

Debian 11 (Buster) (ARM)
	Kernel: Container Host Kernel
	Compiler: gcc 10.2.1

Fedora 38 (ARM)
	Kernel: Depends on container host
	Compiler: gcc 13.2.1

Fedora 38 (ARM Clang)
	Kernel: Depends on container host
	Compiler: clang 16.0.6

Fedora 39 (ARM Clang)
	Kernel: Depends on container host
	Compiler: clang 17.0.6

To view detailed results, visit:
https://lab.dpdk.org/results/dashboard/patchsets/29909/

UNH-IOL DPDK Community Lab

To manage your email subscriptions, visit: 
https://lab.dpdk.org/results/dashboard/preferences/subscriptions/