From mboxrd@z Thu Jan  1 00:00:00 1970
Return-Path: <test-report-bounces@dpdk.org>
Received: from mails.dpdk.org (mails.dpdk.org [217.70.189.124])
	by inbox.dpdk.org (Postfix) with ESMTP id 783E843FB0
	for <public@inbox.dpdk.org>; Sun,  5 May 2024 11:26:56 +0200 (CEST)
Received: from mails.dpdk.org (localhost [127.0.0.1])
	by mails.dpdk.org (Postfix) with ESMTP id 73D4E4028C;
	Sun,  5 May 2024 11:26:56 +0200 (CEST)
Received: from mail-io1-f99.google.com (mail-io1-f99.google.com
 [209.85.166.99]) by mails.dpdk.org (Postfix) with ESMTP id 764604025D
 for <test-report@dpdk.org>; Sun,  5 May 2024 11:26:54 +0200 (CEST)
Received: by mail-io1-f99.google.com with SMTP id
 ca18e2360f4ac-7ded074a237so75007239f.1
 for <test-report@dpdk.org>; Sun, 05 May 2024 02:26:54 -0700 (PDT)
DKIM-Signature: v=1; a=rsa-sha256; c=relaxed/relaxed;
 d=iol.unh.edu; s=unh-iol; t=1714901214; x=1715506014; darn=dpdk.org;
 h=references:in-reply-to:cc:to:from:subject:message-id:date:from:to
 :cc:subject:date:message-id:reply-to;
 bh=9KoT9lljXtur26t4CrhU+u+thomht3CcWfwL+y5BbNA=;
 b=QTcwsHlU+QMipSbaIBelXPs6ZZO7C4v+NDLTE6eR1Dfy2Z1Nl+/KptCXhBHHI/9yxd
 F5x83UFzkBr1cMgRG7nU9Q9wi++UqVIih19lMkAfNjnLp9TJ4hoIp3CUgzMHPyNarpjJ
 Ts1RKbYdFfNZ4iSnRz/MR4zLbiHDaUonfHKD0=
X-Google-DKIM-Signature: v=1; a=rsa-sha256; c=relaxed/relaxed;
 d=1e100.net; s=20230601; t=1714901214; x=1715506014;
 h=references:in-reply-to:cc:to:from:subject:message-id:date
 :x-gm-message-state:from:to:cc:subject:date:message-id:reply-to;
 bh=9KoT9lljXtur26t4CrhU+u+thomht3CcWfwL+y5BbNA=;
 b=PPsn6wxDZ3YtvgkEr0JHzyL4myuD8mGPNFZv3cgLCmN9vPhnXmG1CkK2qf6Swwz6m2
 YUJAfIBSuZJZEXlJhfiuWw+DA3lAJt6COZw5xshTmiMnB86+JjIrdtJDJIJ8h0ZvGKKp
 72RvrpkbAYHVDdtC3MJWrHtWSsujRepxxey6nOaRf/UfGv3f8yN50nB1SFfAJ58DsdFu
 mTuP6DMzqfpbt7zwcSt1ZE5aUYILnKQhki0esq/18IgguVqxSgSZNpxDY4RY5wsxAsEx
 pU/Yj1gX+G28UFmNN1SckkXfQBZSg0O6gRobJoTgz9NTMzXhXGi2F4E6lcdiItzrsivV
 uNhA==
X-Gm-Message-State: AOJu0Yw2nfgzFXUW1MHsB/2j1jenNtv7tye8bWQP86S0ucZOGsXmmwhR
 oW824Mh9C0zCKQLm9SsBxg1ApLoQS5wQsMOsaXcrt7VwxsLkI7xxatrWkU+ngOcx2rojYcjFNZs
 Fu3ryAe93VoJRn4TcZoG9zcxf23b+3K6mOpIjkSyi
X-Google-Smtp-Source: AGHT+IGaFrGw9xXj4vBV9lwys0+DPirnjfyR+9f3K9ST/dgDydGFO+cBgLSZh4kwuic1aZb8Y3MyxtKc6NO0
X-Received: by 2002:a5e:8813:0:b0:7d6:745f:5d74 with SMTP id
 l19-20020a5e8813000000b007d6745f5d74mr10009773ioj.11.1714901213883; 
 Sun, 05 May 2024 02:26:53 -0700 (PDT)
Received: from postal.iol.unh.edu (postal.iol.unh.edu. [132.177.123.84])
 by smtp-relay.gmail.com with ESMTPS id
 k9-20020a056638140900b00482ee61facfsm400862jad.17.2024.05.05.02.26.53
 (version=TLS1_2 cipher=ECDHE-ECDSA-AES128-GCM-SHA256 bits=128/128);
 Sun, 05 May 2024 02:26:53 -0700 (PDT)
X-Relaying-Domain: iol.unh.edu
Date: Sun, 05 May 2024 02:26:53 -0700 (PDT)
Message-ID: <663750dd.050a0220.ec167.abb2SMTPIN_ADDED_MISSING@mx.google.com>
Received: from [172.21.0.6] (unknown [172.18.0.240])
 by postal.iol.unh.edu (Postfix) with ESMTP id 61D7F6052514;
 Sun,  5 May 2024 05:26:53 -0400 (EDT)
Subject: |SUCCESS| pw139867-139872 [PATCH] [RFC,v7,6/6] eal: add unit tests f
From: dpdklab@iol.unh.edu
To: Test Report <test-report@dpdk.org>
Cc: dpdk-test-reports@iol.unh.edu
In-Reply-To: <20240505083737.118649-7-mattias.ronnblom@ericsson.com>
References: <20240505083737.118649-7-mattias.ronnblom@ericsson.com>
Content-Type: text/plain
X-BeenThere: test-report@dpdk.org
X-Mailman-Version: 2.1.29
Precedence: list
List-Id: automatic DPDK test reports <test-report.dpdk.org>
List-Unsubscribe: <https://mails.dpdk.org/options/test-report>,
 <mailto:test-report-request@dpdk.org?subject=unsubscribe>
List-Archive: <http://mails.dpdk.org/archives/test-report/>
List-Post: <mailto:test-report@dpdk.org>
List-Help: <mailto:test-report-request@dpdk.org?subject=help>
List-Subscribe: <https://mails.dpdk.org/listinfo/test-report>,
 <mailto:test-report-request@dpdk.org?subject=subscribe>
Errors-To: test-report-bounces@dpdk.org

Test-Label: iol-compile-amd64-testing
Test-Status: SUCCESS
http://dpdk.org/patch/139872

_Testing PASS_

Submitter: Mattias Ronnblom <mattias.ronnblom@ericsson.com>
Date: Sunday, May 05 2024 08:37:37 
DPDK git baseline: Repo:dpdk
  Branch: master
  CommitID:7e06c0de1952d3109a5b0c4779d7e7d8059c9d78

139867-139872 --> testing pass

Test environment and result as below:

+---------------------+--------------------+----------------------+-------------------+
|     Environment     | dpdk_meson_compile | dpdk_mingw64_compile | dpdk_msvc_compile |
+=====================+====================+======================+===================+
| Windows Server 2019 | PASS               | PASS                 | SKIPPED           |
+---------------------+--------------------+----------------------+-------------------+
| Windows Server 2022 | PASS               | PASS                 | PASS              |
+---------------------+--------------------+----------------------+-------------------+
| FreeBSD 13.3        | PASS               | SKIPPED              | SKIPPED           |
+---------------------+--------------------+----------------------+-------------------+
| FreeBSD 14.0        | PASS               | SKIPPED              | SKIPPED           |
+---------------------+--------------------+----------------------+-------------------+


Windows Server 2019
	Kernel: 10.0.17763
	Compiler: clang 14.0 and gcc 8.1.0 (MinGW)

Windows Server 2022
	Kernel: 10.0.20348.2031
	Compiler: clang 15.0.7, gcc 8.1.0 (MinGW), and MSVC VS 17.9

FreeBSD 13.3
	Kernel: 13.3-RELEASE-p1
	Compiler: clang 17.0.6

FreeBSD 14.0
	Kernel: 14.0
	Compiler: clang 16.0.6

To view detailed results, visit:
https://lab.dpdk.org/results/dashboard/patchsets/29915/

UNH-IOL DPDK Community Lab

To manage your email subscriptions, visit: 
https://lab.dpdk.org/results/dashboard/preferences/subscriptions/