From mboxrd@z Thu Jan  1 00:00:00 1970
Return-Path: <test-report-bounces@dpdk.org>
Received: from mails.dpdk.org (mails.dpdk.org [217.70.189.124])
	by inbox.dpdk.org (Postfix) with ESMTP id EE02A43FB0
	for <public@inbox.dpdk.org>; Sun,  5 May 2024 11:49:54 +0200 (CEST)
Received: from mails.dpdk.org (localhost [127.0.0.1])
	by mails.dpdk.org (Postfix) with ESMTP id EA9094028C;
	Sun,  5 May 2024 11:49:54 +0200 (CEST)
Received: from mail-qk1-f225.google.com (mail-qk1-f225.google.com
 [209.85.222.225])
 by mails.dpdk.org (Postfix) with ESMTP id E17D24025D
 for <test-report@dpdk.org>; Sun,  5 May 2024 11:49:53 +0200 (CEST)
Received: by mail-qk1-f225.google.com with SMTP id
 af79cd13be357-78f0440656eso75427585a.1
 for <test-report@dpdk.org>; Sun, 05 May 2024 02:49:53 -0700 (PDT)
DKIM-Signature: v=1; a=rsa-sha256; c=relaxed/relaxed;
 d=iol.unh.edu; s=unh-iol; t=1714902593; x=1715507393; darn=dpdk.org;
 h=references:in-reply-to:cc:to:from:subject:message-id:date:from:to
 :cc:subject:date:message-id:reply-to;
 bh=0gbjLSgy4bfkaI5ULMCpsmDsiWAG7OT5TJNc1UELVfs=;
 b=bjuIuuLWz/FY79EA5rEYpDsN1Pwt+22/n7KqTLTilWsvS8ok04rbM3jmCdA1eXomtC
 IauOui0nZDHkqNTB3aTDcDjQwQ5CxA4ukxoXZJeYI1TDY/ORCYxEdYLFVjKY7wBfpEJZ
 wu7Gp4fXsBsl8RgIrFhjK1l/TAvh5dpLcSHLM=
X-Google-DKIM-Signature: v=1; a=rsa-sha256; c=relaxed/relaxed;
 d=1e100.net; s=20230601; t=1714902593; x=1715507393;
 h=references:in-reply-to:cc:to:from:subject:message-id:date
 :x-gm-message-state:from:to:cc:subject:date:message-id:reply-to;
 bh=0gbjLSgy4bfkaI5ULMCpsmDsiWAG7OT5TJNc1UELVfs=;
 b=INw+YDubIMJ2REP4wESVzz8a8/uctp8354dpGvY4m7W97WlILRxfa+VGjoHybkrK6j
 nTnTWTmRI11ZPx8sNgf9qPK9NX9WxKkO98JiWTy3Aei8yX/99U2i8rjXHc7f3S3zO5Xm
 Cpbj4NjSq3v3RbXgMdsYpOkxTAZb4bxilKNvHGyQp6yngFBFMpepH3WFkZcdS1CLZqbC
 sHsBUTaTGAFC1fb/A36fZLepGIqo+sP07MEaerxabZ6LRQR+7CgkaRs/soV89eO9Uwge
 wiM2o9Vg0UOkQ2p+7Pessf5J60Fnrq6jxJ5sV9J2Pl1qwQ17hlF0iePgbW4ctn28CWZ2
 9Daw==
X-Gm-Message-State: AOJu0YxTMYvOSHwVlY+zFQbLYfWNTVDrbSGUkh3CKgkGFVhHowfR66M9
 oDGJwapkpR2gVaBLw8k0H+ID+aehrnXRtpFAlSQIH4CzYQPJlUm5DmTMeERcHga35qKpzSlCvTL
 F7yQa3qOqpr4AwFI/UvrlujpIHJZQ4PcT3OU0h9FJPABzzjSqN+2ZByvB
X-Google-Smtp-Source: AGHT+IF+G/L25mDWtzsnomJYTy2AmowBEvxmqk/gUTAL6xneCW2hvqBxtSvwXOcxhbHfy86CGqfIqs/x2CMr
X-Received: by 2002:a05:622a:105:b0:437:ba24:2dd0 with SMTP id
 u5-20020a05622a010500b00437ba242dd0mr7651555qtw.31.1714902593221; 
 Sun, 05 May 2024 02:49:53 -0700 (PDT)
Received: from postal.iol.unh.edu (postal.iol.unh.edu.
 [2606:4100:3880:1234::84]) by smtp-relay.gmail.com with ESMTPS id
 c9-20020ac85a89000000b0043ac18dd0a6sm331147qtc.1.2024.05.05.02.49.53
 (version=TLS1_2 cipher=ECDHE-ECDSA-AES128-GCM-SHA256 bits=128/128);
 Sun, 05 May 2024 02:49:53 -0700 (PDT)
X-Relaying-Domain: iol.unh.edu
Date: Sun, 05 May 2024 02:49:53 -0700 (PDT)
Message-ID: <66375641.c80a0220.2fb51.45f8SMTPIN_ADDED_MISSING@mx.google.com>
Received: from [172.21.0.6] (unknown [172.18.0.240])
 by postal.iol.unh.edu (Postfix) with ESMTP id 99CF96052514;
 Sun,  5 May 2024 05:49:52 -0400 (EDT)
Subject: |SUCCESS| pw139867-139872 [PATCH] [RFC,v7,6/6] eal: add unit tests f
From: dpdklab@iol.unh.edu
To: Test Report <test-report@dpdk.org>
Cc: dpdk-test-reports@iol.unh.edu
In-Reply-To: <20240505083737.118649-7-mattias.ronnblom@ericsson.com>
References: <20240505083737.118649-7-mattias.ronnblom@ericsson.com>
Content-Type: text/plain
X-BeenThere: test-report@dpdk.org
X-Mailman-Version: 2.1.29
Precedence: list
List-Id: automatic DPDK test reports <test-report.dpdk.org>
List-Unsubscribe: <https://mails.dpdk.org/options/test-report>,
 <mailto:test-report-request@dpdk.org?subject=unsubscribe>
List-Archive: <http://mails.dpdk.org/archives/test-report/>
List-Post: <mailto:test-report@dpdk.org>
List-Help: <mailto:test-report-request@dpdk.org?subject=help>
List-Subscribe: <https://mails.dpdk.org/listinfo/test-report>,
 <mailto:test-report-request@dpdk.org?subject=subscribe>
Errors-To: test-report-bounces@dpdk.org

Test-Label: iol-abi-testing
Test-Status: SUCCESS
http://dpdk.org/patch/139872

_Testing PASS_

Submitter: Mattias Ronnblom <mattias.ronnblom@ericsson.com>
Date: Sunday, May 05 2024 08:37:37 
DPDK git baseline: Repo:dpdk
  Branch: master
  CommitID:7e06c0de1952d3109a5b0c4779d7e7d8059c9d78

139867-139872 --> testing pass

Test environment and result as below:

+------------------+----------+
|   Environment    | abi_test |
+==================+==========+
| openSUSE Leap 15 | PASS     |
+------------------+----------+
| CentOS Stream 8  | PASS     |
+------------------+----------+
| Fedora 39        | PASS     |
+------------------+----------+
| Fedora 38        | PASS     |
+------------------+----------+
| Debian Bullseye  | PASS     |
+------------------+----------+
| CentOS Stream 9  | PASS     |
+------------------+----------+
| Ubuntu 22.04     | PASS     |
+------------------+----------+
| Fedora 37        | PASS     |
+------------------+----------+
| RHEL8            | PASS     |
+------------------+----------+


openSUSE Leap 15
	Kernel: 5.4.0-167-generic
	Compiler: gcc 7.5.0

CentOS Stream 8
	Kernel: 5.4.0-167-generic
	Compiler: gcc 8.5.0 20210514

Fedora 39
	Kernel: Depends on container host
	Compiler: clang 17.0.6

Fedora 38
	Kernel: Depends on container host
	Compiler: clang 16.0.6

Debian Bullseye
	Kernel: 5.4.0-167-generic
	Compiler: gcc 10.2.1-6

CentOS Stream 9
	Kernel: 5.4.0-167-generic
	Compiler: gcc 11.4.1 20230605

Ubuntu 22.04
	Kernel: 5.4.0-167-generic
	Compiler: gcc 11.4.0

Fedora 37
	Kernel: Depends on container host system
	Compiler: gcc 12.3.1

RHEL8
	Kernel: 5.4.0-167-generic
	Compiler: gcc 8.5.0 20210514 (Red Hat 8.5.0-20)

To view detailed results, visit:
https://lab.dpdk.org/results/dashboard/patchsets/29915/

UNH-IOL DPDK Community Lab

To manage your email subscriptions, visit: 
https://lab.dpdk.org/results/dashboard/preferences/subscriptions/