From mboxrd@z Thu Jan  1 00:00:00 1970
Return-Path: <test-report-bounces@dpdk.org>
Received: from mails.dpdk.org (mails.dpdk.org [217.70.189.124])
	by inbox.dpdk.org (Postfix) with ESMTP id 91E2743FB6
	for <public@inbox.dpdk.org>; Sun,  5 May 2024 14:28:01 +0200 (CEST)
Received: from mails.dpdk.org (localhost [127.0.0.1])
	by mails.dpdk.org (Postfix) with ESMTP id 8D1BA4028C;
	Sun,  5 May 2024 14:28:01 +0200 (CEST)
Received: from mail-yb1-f225.google.com (mail-yb1-f225.google.com
 [209.85.219.225])
 by mails.dpdk.org (Postfix) with ESMTP id C68DA4025D
 for <test-report@dpdk.org>; Sun,  5 May 2024 14:27:59 +0200 (CEST)
Received: by mail-yb1-f225.google.com with SMTP id
 3f1490d57ef6-de8b66d1726so2512498276.0
 for <test-report@dpdk.org>; Sun, 05 May 2024 05:27:59 -0700 (PDT)
DKIM-Signature: v=1; a=rsa-sha256; c=relaxed/relaxed;
 d=iol.unh.edu; s=unh-iol; t=1714912079; x=1715516879; darn=dpdk.org;
 h=references:in-reply-to:cc:to:from:subject:message-id:date:from:to
 :cc:subject:date:message-id:reply-to;
 bh=aD+BiSWcZL/mUG2WGkDEB43U5eNvIpFijQKHOabLEzw=;
 b=TortPlOJPXpG35Tcsgi3CUCSaZWzQK8/zMdkdnGKulLqUVfKoa2LVyleZMIeXbzUpP
 Jx/ngE1QYEHvgS+88Jw0fCa8/lKPeV5vbfaedgOlhmPmcGcRe59YDd5tgY2zh1CcE4mz
 RPTwS6mkUkiK7Rn0j4WyoPIb+GDtcHON4wXzw=
X-Google-DKIM-Signature: v=1; a=rsa-sha256; c=relaxed/relaxed;
 d=1e100.net; s=20230601; t=1714912079; x=1715516879;
 h=references:in-reply-to:cc:to:from:subject:message-id:date
 :x-gm-message-state:from:to:cc:subject:date:message-id:reply-to;
 bh=aD+BiSWcZL/mUG2WGkDEB43U5eNvIpFijQKHOabLEzw=;
 b=DT+99dEHLTUF+hHujr5fCNWwNKSA9OzSL2PLmoxBLLwW+jnbeTrlmQ0xuLdFwP4Ocq
 Lek/Fg9F9K2mLQedBFudeEcSJlTicQLAqPpkpEs+yxsj01z0OHv/HxGtyWQP5dujjTt3
 llJzAjoyUpimS3lug+4qxVt+K8E3Je954QMqF0Oa70gt4y6GqQnfMfphvzNYM71gI5TA
 SLvdO7mV437I87cRlP/hV9L4jtT54GAV44ZKmGQfcMRww/EjeeKYyCErPXGj9bympH1l
 Zf50DYDMHBA5CEN40IgOTKZVXINNZhWmYRrfEdxvfxjFVm+L/f2/FHqI2aQooMZ3dBjl
 LdnQ==
X-Gm-Message-State: AOJu0Yw164dHAPWwex1RQiP+jFQVFFbTsfso4fhuuDdE37WDtB++egc2
 8abmLD3d5ew/R4Fur1mf5sx5x/O+XawvLazpg7D66KSJFw3kcEr8g467ZIMxytvh9POHU57f0Aw
 R5xv0r01Fa/huAtS4PSe36wYmirMPB7oeiEEzsddL
X-Google-Smtp-Source: AGHT+IF81TQFXHtYZYEQkA3LQBLWpPL8dg+0GkqPoKLBS8ZUKnv5kCRWcHbgkJ7SRaFKavmgLBJSRzLJ/BRx
X-Received: by 2002:a81:4f4a:0:b0:61b:e663:cb8 with SMTP id
 d71-20020a814f4a000000b0061be6630cb8mr8027693ywb.16.1714912079138; 
 Sun, 05 May 2024 05:27:59 -0700 (PDT)
Received: from postal.iol.unh.edu (postal.iol.unh.edu. [132.177.123.84])
 by smtp-relay.gmail.com with ESMTPS id
 u69-20020a0deb48000000b0061b1195958asm568462ywe.66.2024.05.05.05.27.59
 (version=TLS1_2 cipher=ECDHE-ECDSA-AES128-GCM-SHA256 bits=128/128);
 Sun, 05 May 2024 05:27:59 -0700 (PDT)
X-Relaying-Domain: iol.unh.edu
Date: Sun, 05 May 2024 05:27:59 -0700 (PDT)
Message-ID: <66377b4f.0d0a0220.fcc58.6abdSMTPIN_ADDED_MISSING@mx.google.com>
Received: from [172.17.0.2] (unknown [172.18.0.217])
 by postal.iol.unh.edu (Postfix) with ESMTP id C027A6052514;
 Sun,  5 May 2024 08:27:58 -0400 (EDT)
Subject: |SUCCESS| pw139867-139872 [PATCH] [RFC,v7,6/6] eal: add unit tests f
From: dpdklab@iol.unh.edu
To: Test Report <test-report@dpdk.org>
Cc: dpdk-test-reports@iol.unh.edu
In-Reply-To: <20240505083737.118649-7-mattias.ronnblom@ericsson.com>
References: <20240505083737.118649-7-mattias.ronnblom@ericsson.com>
Content-Type: text/plain
X-BeenThere: test-report@dpdk.org
X-Mailman-Version: 2.1.29
Precedence: list
List-Id: automatic DPDK test reports <test-report.dpdk.org>
List-Unsubscribe: <https://mails.dpdk.org/options/test-report>,
 <mailto:test-report-request@dpdk.org?subject=unsubscribe>
List-Archive: <http://mails.dpdk.org/archives/test-report/>
List-Post: <mailto:test-report@dpdk.org>
List-Help: <mailto:test-report-request@dpdk.org?subject=help>
List-Subscribe: <https://mails.dpdk.org/listinfo/test-report>,
 <mailto:test-report-request@dpdk.org?subject=subscribe>
Errors-To: test-report-bounces@dpdk.org

Test-Label: iol-compile-arm64-testing
Test-Status: SUCCESS
http://dpdk.org/patch/139872

_Testing PASS_

Submitter: Mattias Ronnblom <mattias.ronnblom@ericsson.com>
Date: Sunday, May 05 2024 08:37:37 
DPDK git baseline: Repo:dpdk
  Branch: master
  CommitID:7e06c0de1952d3109a5b0c4779d7e7d8059c9d78

139867-139872 --> testing pass

Test environment and result as below:

+----------------------------------------+--------------------+
|              Environment               | dpdk_meson_compile |
+========================================+====================+
| Ubuntu 20.04 ARM SVE                   | PASS               |
+----------------------------------------+--------------------+
| Debian 12 with MUSDK                   | PASS               |
+----------------------------------------+--------------------+
| Ubuntu 20.04 aarch32 GCC Cross Compile | PASS               |
+----------------------------------------+--------------------+
| Ubuntu 20.04 ARM GCC Cross Compile     | PASS               |
+----------------------------------------+--------------------+
| Ubuntu 20.04 ARM Clang Cross Compile   | PASS               |
+----------------------------------------+--------------------+
| Fedora 39 (ARM Clang)                  | PASS               |
+----------------------------------------+--------------------+
| Fedora 38 (ARM Clang)                  | PASS               |
+----------------------------------------+--------------------+
| Fedora 37 (ARM)                        | PASS               |
+----------------------------------------+--------------------+
| Fedora 38 (ARM)                        | PASS               |
+----------------------------------------+--------------------+
| Fedora 39 (ARM)                        | PASS               |
+----------------------------------------+--------------------+
| Debian 11 (Buster) (ARM)               | PASS               |
+----------------------------------------+--------------------+


Ubuntu 20.04 ARM SVE
	Kernel: 5.4.0-167-generic
	Compiler: gcc (Ubuntu 10.5.0-1ubuntu1~20.04) 10.5.0

Debian 12 with MUSDK
	Kernel: Container Host Kernel
	Compiler: gcc 12.2.0

Ubuntu 20.04 aarch32 GCC Cross Compile
	Kernel: 5.4.0-167-generic
	Compiler: gcc 9.4.0

Ubuntu 20.04 ARM GCC Cross Compile
	Kernel: 5.4.0-167-generic
	Compiler: aarch64-linux-gnu-gcc (Ubuntu 9.4.0-1ubuntu1~20.04.2) 9.4.0

Ubuntu 20.04 ARM Clang Cross Compile
	Kernel: 5.4.0-72-generic
	Compiler: clang 10.0.0-4ubuntu1

Fedora 39 (ARM Clang)
	Kernel: Depends on container host
	Compiler: clang 17.0.6

Fedora 38 (ARM Clang)
	Kernel: Depends on container host
	Compiler: clang 16.0.6

Fedora 37 (ARM)
	Kernel: Depends on container host
	Compiler: gcc 12.3.1

Fedora 38 (ARM)
	Kernel: Depends on container host
	Compiler: gcc 13.2.1

Fedora 39 (ARM)
	Kernel: Depends on container host
	Compiler: gcc 13.2.1

Debian 11 (Buster) (ARM)
	Kernel: Container Host Kernel
	Compiler: gcc 10.2.1

To view detailed results, visit:
https://lab.dpdk.org/results/dashboard/patchsets/29915/

UNH-IOL DPDK Community Lab

To manage your email subscriptions, visit: 
https://lab.dpdk.org/results/dashboard/preferences/subscriptions/